From mboxrd@z Thu Jan  1 00:00:00 1970
Return-Path: <test-report-bounces@dpdk.org>
Received: from mails.dpdk.org (mails.dpdk.org [217.70.189.124])
	by inbox.dpdk.org (Postfix) with ESMTP id 6AA39454B3
	for <public@inbox.dpdk.org>; Fri, 21 Jun 2024 06:20:04 +0200 (CEST)
Received: from mails.dpdk.org (localhost [127.0.0.1])
	by mails.dpdk.org (Postfix) with ESMTP id 49B434042E;
	Fri, 21 Jun 2024 06:20:04 +0200 (CEST)
Received: from mail-io1-f98.google.com (mail-io1-f98.google.com
 [209.85.166.98]) by mails.dpdk.org (Postfix) with ESMTP id F26C84026A
 for <test-report@dpdk.org>; Fri, 21 Jun 2024 06:20:02 +0200 (CEST)
Received: by mail-io1-f98.google.com with SMTP id
 ca18e2360f4ac-7eb6ca2cd09so48302239f.2
 for <test-report@dpdk.org>; Thu, 20 Jun 2024 21:20:02 -0700 (PDT)
DKIM-Signature: v=1; a=rsa-sha256; c=relaxed/relaxed;
 d=iol.unh.edu; s=unh-iol; t=1718943602; x=1719548402; darn=dpdk.org;
 h=references:in-reply-to:cc:to:from:subject:message-id:date:from:to
 :cc:subject:date:message-id:reply-to;
 bh=I+pPpaGI99v6n1pTizaaMPK3H+HaDQLJKiwHVY4lg7Y=;
 b=OIoXzxEQSJzzMLpx0bfDpgFzGlMr8AR+Fcq84LVvvjv4D6ENCdAfE2pUitXwM1OLlg
 nBxf+Xb155OlK0fwaUxkP/M4TMUvNETmRHYAa4bGArbs2mSLmI2ikYwpu4d2yE779jlq
 UMBcktneWjjRARlUZU29SXXGkFWyXSZ6lzAOU=
X-Google-DKIM-Signature: v=1; a=rsa-sha256; c=relaxed/relaxed;
 d=1e100.net; s=20230601; t=1718943602; x=1719548402;
 h=references:in-reply-to:cc:to:from:subject:message-id:date
 :x-gm-message-state:from:to:cc:subject:date:message-id:reply-to;
 bh=I+pPpaGI99v6n1pTizaaMPK3H+HaDQLJKiwHVY4lg7Y=;
 b=a6geRhdkfEFAUBKT7zCwOUK1PWrdlzKyfBm0wydBsX91vSEhPFodjIiu2Gm4FZjBcl
 AQix1YKSfrnScKGvNr4D/lpvsqXj6d+Xw3JN52dfCii020q9zwokMUPZWJ5/2zs347Kh
 XfVHVd+tfW4dLGGNh0eH6ORW8xLj6AySZfgD01yR6SQ7WIyCQtBRepZHmeIP1RFn6yJu
 KYdVNP+URROEg5DHEy4tOMCE8cEP89O56MRq/Hhle5r5RxZKMwKyfcMeltVhPYTR5Kl3
 jqDXm6mRm4xUaTcfO/Gq/j3yFdBtmbnANMe7g6vMZyfCGT4rtYVAQG3301hEfgKfPccb
 IKkQ==
X-Gm-Message-State: AOJu0YzxDtDjDS2QKllaDyEoc8/YIQtGlspId43KnfBaD4q8H0wuydVC
 iyt3kI+criEnSstgfcjM5hyH+vsm+mMoJ+YNE/Sp4hwM0muX8cs9Oeek3cykRjn4oXJmui7RgpW
 cCJRkjEg2Xj5dia92m8wS6JtvUdO1zb7cjQslhQgbWSnYFxPHA+ZGl34x
X-Google-Smtp-Source: AGHT+IEbSPidjx3YUAHbUHG7C6vzJkCSLIwUHKT8kybls1/kpUOHLdKjeSOOyy+cLO5XeFcfVFOvDBck42M7
X-Received: by 2002:a05:6602:140d:b0:7eb:7ebd:1fa6 with SMTP id
 ca18e2360f4ac-7f13eba8a1dmr844987239f.0.1718943602164; 
 Thu, 20 Jun 2024 21:20:02 -0700 (PDT)
Received: from postal.iol.unh.edu (postal.iol.unh.edu.
 [2606:4100:3880:1234::84]) by smtp-relay.gmail.com with ESMTPS id
 ca18e2360f4ac-7f391fcd745sm2554039f.1.2024.06.20.21.20.02
 (version=TLS1_2 cipher=ECDHE-ECDSA-AES128-GCM-SHA256 bits=128/128);
 Thu, 20 Jun 2024 21:20:02 -0700 (PDT)
X-Relaying-Domain: iol.unh.edu
Date: Thu, 20 Jun 2024 21:20:02 -0700 (PDT)
Message-ID: <6674ff72.050a0220.b2ca.2179SMTPIN_ADDED_MISSING@mx.google.com>
Received: from [172.21.0.8] (unknown [172.18.0.240])
 by postal.iol.unh.edu (Postfix) with ESMTP id 9FD26605C21C;
 Fri, 21 Jun 2024 00:20:01 -0400 (EDT)
Subject: |SUCCESS| pw141446-141448 [PATCH] [v4,3/3] dts: Improve logging for 
From: dpdklab@iol.unh.edu
To: Test Report <test-report@dpdk.org>
Cc: dpdk-test-reports@iol.unh.edu
In-Reply-To: <20240620173609.15375-4-jspewock@iol.unh.edu>
References: <20240620173609.15375-4-jspewock@iol.unh.edu>
Content-Type: text/plain
X-BeenThere: test-report@dpdk.org
X-Mailman-Version: 2.1.29
Precedence: list
List-Id: automatic DPDK test reports <test-report.dpdk.org>
List-Unsubscribe: <https://mails.dpdk.org/options/test-report>,
 <mailto:test-report-request@dpdk.org?subject=unsubscribe>
List-Archive: <http://mails.dpdk.org/archives/test-report/>
List-Post: <mailto:test-report@dpdk.org>
List-Help: <mailto:test-report-request@dpdk.org?subject=help>
List-Subscribe: <https://mails.dpdk.org/listinfo/test-report>,
 <mailto:test-report-request@dpdk.org?subject=subscribe>
Errors-To: test-report-bounces@dpdk.org

Test-Label: iol-unit-arm64-testing
Test-Status: SUCCESS
http://dpdk.org/patch/141448

_Testing PASS_

Submitter: Jeremy Spewock <jspewock@iol.unh.edu>
Date: Thursday, June 20 2024 17:36:09 
DPDK git baseline: Repo:dpdk
  Branch: master
  CommitID:4a44d97f0a52a76258c6a6cb6a713f4380a8ab1f

141446-141448 --> testing pass

Test environment and result as below:

+-----------------------------+----------------+--------------+
|         Environment         | dpdk_unit_test | lpm_autotest |
+=============================+================+==============+
| 32-bit Ubuntu 20.04.4 (ARM) | PASS           | SKIPPED      |
+-----------------------------+----------------+--------------+
| CentOS Stream 9 (ARM)       | PASS           | SKIPPED      |
+-----------------------------+----------------+--------------+
| Debian 12 (arm)             | PASS           | SKIPPED      |
+-----------------------------+----------------+--------------+
| Fedora 37 (ARM)             | PASS           | SKIPPED      |
+-----------------------------+----------------+--------------+
| Fedora 38 (ARM)             | PASS           | SKIPPED      |
+-----------------------------+----------------+--------------+
| Debian 11 (Buster) (ARM)    | PASS           | SKIPPED      |
+-----------------------------+----------------+--------------+
| Fedora 39 (ARM)             | PASS           | SKIPPED      |
+-----------------------------+----------------+--------------+
| Fedora 40 (ARM)             | PASS           | SKIPPED      |
+-----------------------------+----------------+--------------+
| Fedora 39 (ARM Clang)       | PASS           | SKIPPED      |
+-----------------------------+----------------+--------------+
| Ubuntu 20.04 (ARM)          | PASS           | SKIPPED      |
+-----------------------------+----------------+--------------+
| Fedora 40 (ARM Clang)       | PASS           | SKIPPED      |
+-----------------------------+----------------+--------------+
| Ubuntu 22.04 (ARM)          | PASS           | SKIPPED      |
+-----------------------------+----------------+--------------+
| Ubuntu 20.04 ARM SVE        | SKIPPED        | PASS         |
+-----------------------------+----------------+--------------+


32-bit Ubuntu 20.04.4 (ARM)
	Kernel: 5.4.0-155-generic aarch64
	Compiler: gcc 9.4

CentOS Stream 9 (ARM)
	Kernel: Container Host Kernel
	Compiler: gcc 11.4.1

Debian 12 (arm)
	Kernel: Container Host Kernel
	Compiler: gcc 12.2.0

Fedora 37 (ARM)
	Kernel: Depends on container host
	Compiler: gcc 12.3.1

Fedora 38 (ARM)
	Kernel: Depends on container host
	Compiler: gcc 13.2.1

Debian 11 (Buster) (ARM)
	Kernel: Container Host Kernel
	Compiler: gcc 10.2.1

Fedora 39 (ARM)
	Kernel: Depends on container host
	Compiler: gcc 13.2.1

Fedora 40 (ARM)
	Kernel: Depends on container host
	Compiler: gcc 14.1.1

Fedora 39 (ARM Clang)
	Kernel: Depends on container host
	Compiler: clang 17.0.6

Ubuntu 20.04 (ARM)
	Kernel: Container Host Kernel
	Compiler: gcc 9.4.0

Fedora 40 (ARM Clang)
	Kernel: Depends on container host
	Compiler: clang 18.1.6

Ubuntu 22.04 (ARM)
	Kernel: Container Host Kernel
	Compiler: gcc 11.4.0

Ubuntu 20.04 ARM SVE
	Kernel: 5.4.0-167-generic
	Compiler: gcc (Ubuntu 10.5.0-1ubuntu1~20.04) 10.5.0

To view detailed results, visit:
https://lab.dpdk.org/results/dashboard/patchsets/30265/

UNH-IOL DPDK Community Lab

To manage your email subscriptions, visit: 
https://lab.dpdk.org/results/dashboard/preferences/subscriptions/