From mboxrd@z Thu Jan  1 00:00:00 1970
Return-Path: <test-report-bounces@dpdk.org>
Received: from mails.dpdk.org (mails.dpdk.org [217.70.189.124])
	by inbox.dpdk.org (Postfix) with ESMTP id F36EF454B5
	for <public@inbox.dpdk.org>; Fri, 21 Jun 2024 08:29:01 +0200 (CEST)
Received: from mails.dpdk.org (localhost [127.0.0.1])
	by mails.dpdk.org (Postfix) with ESMTP id F0072402F1;
	Fri, 21 Jun 2024 08:29:01 +0200 (CEST)
Received: from mail-yw1-f226.google.com (mail-yw1-f226.google.com
 [209.85.128.226])
 by mails.dpdk.org (Postfix) with ESMTP id 2372A4026A
 for <test-report@dpdk.org>; Fri, 21 Jun 2024 08:28:32 +0200 (CEST)
Received: by mail-yw1-f226.google.com with SMTP id
 00721157ae682-62a2424ecb8so19165477b3.1
 for <test-report@dpdk.org>; Thu, 20 Jun 2024 23:28:32 -0700 (PDT)
DKIM-Signature: v=1; a=rsa-sha256; c=relaxed/relaxed;
 d=iol.unh.edu; s=unh-iol; t=1718951311; x=1719556111; darn=dpdk.org;
 h=references:in-reply-to:cc:to:from:subject:message-id:date:from:to
 :cc:subject:date:message-id:reply-to;
 bh=VQuHACnJwB9vBgvTd3Jsz5yETWwajxgVscHJq5fz3bo=;
 b=BcmilEAH2EXHS8zIk8KM9+LJWkb0nCdPmlG/WD05zhloztgGA01HhJkuysn+GoWS2k
 NJs3GmKB+Rb2o3oV00tjh+OQKuy1GSenPNYA7AAHEja1ytlnXdAZ+5OeEo4FI/5sjnSg
 a8hXZOUTjktBkUKekicmq/9dvHK/sLdrSX3CI=
X-Google-DKIM-Signature: v=1; a=rsa-sha256; c=relaxed/relaxed;
 d=1e100.net; s=20230601; t=1718951311; x=1719556111;
 h=references:in-reply-to:cc:to:from:subject:message-id:date
 :x-gm-message-state:from:to:cc:subject:date:message-id:reply-to;
 bh=VQuHACnJwB9vBgvTd3Jsz5yETWwajxgVscHJq5fz3bo=;
 b=QN8knQ1HkIxAkj23ETQ8zR/H9pXnNq+KpW0xHBe6YAdgKE8AqwhtGCWR9KwiHRJSh3
 9jx2RK7DrTsK7Ygzcd45dAK92n/Wz5MPPcQ7qwjal2+iUqrTcsYe3dvb2Iulv73Qrt+E
 jIMuKXkJBJItsfFIiJDYistsjDd3vQHkFrR4pm4HyWCFdgZEkqGp1VEIA+S9bDfFTRT+
 5LTd3Yisy6kA9u45//epgVHIku3cpOWFLAtD4ot2Buj0Ymt0HQqezn7ARKDYDIKGfXvz
 e1oTM7PCSNNHdbzG9goGfnxRm1/vIm5HGbHIQCJxr5Z2h1WqTevEbQSjR0oj1LJ1PRQh
 VFpA==
X-Gm-Message-State: AOJu0Yx7zsWMcDsOEtMRTQyO2Q9M2HjVy+QyFuhQHu3iLkR+j82EC5uq
 QjWIS2S5pP51bQUcl3t6XvzUrFqbS6JEzAowi9BtnvegK8soAylNmXoi7jST5wHYXrGPMmy7/Nk
 8ZSSVsYjIf8NJ2zuBcCZwri2Fn1uBaNC06a0zVJNi
X-Google-Smtp-Source: AGHT+IG+yBJzCONNg9FvsF0+faO7ZeloLzkQtO15l7DWzpxWDpbMADtb94luXOlOI3BFs4wPXAsj2cVQJTAa
X-Received: by 2002:a0d:ee41:0:b0:61a:e947:5518 with SMTP id
 00721157ae682-63a8e6af3ddmr72668137b3.27.1718951309909; 
 Thu, 20 Jun 2024 23:28:29 -0700 (PDT)
Received: from postal.iol.unh.edu (postal.iol.unh.edu. [132.177.123.84])
 by smtp-relay.gmail.com with ESMTPS id
 00721157ae682-63f14b31485sm288567b3.56.2024.06.20.23.28.29
 (version=TLS1_2 cipher=ECDHE-ECDSA-AES128-GCM-SHA256 bits=128/128);
 Thu, 20 Jun 2024 23:28:29 -0700 (PDT)
X-Relaying-Domain: iol.unh.edu
Date: Thu, 20 Jun 2024 23:28:29 -0700 (PDT)
Message-ID: <66751d8d.050a0220.97e4b.24dfSMTPIN_ADDED_MISSING@mx.google.com>
Received: from [172.21.0.7] (unknown [172.18.0.240])
 by postal.iol.unh.edu (Postfix) with ESMTP id 89B79605C373;
 Fri, 21 Jun 2024 02:28:29 -0400 (EDT)
Subject: |SUCCESS| pw141427-141433 [PATCH] [v2,7/7] test/security: use single
From: dpdklab@iol.unh.edu
To: Test Report <test-report@dpdk.org>
Cc: dpdk-test-reports@iol.unh.edu
In-Reply-To: <20240620145056.3456650-8-asasidharan@marvell.com>
References: <20240620145056.3456650-8-asasidharan@marvell.com>
Content-Type: text/plain
X-BeenThere: test-report@dpdk.org
X-Mailman-Version: 2.1.29
Precedence: list
List-Id: automatic DPDK test reports <test-report.dpdk.org>
List-Unsubscribe: <https://mails.dpdk.org/options/test-report>,
 <mailto:test-report-request@dpdk.org?subject=unsubscribe>
List-Archive: <http://mails.dpdk.org/archives/test-report/>
List-Post: <mailto:test-report@dpdk.org>
List-Help: <mailto:test-report-request@dpdk.org?subject=help>
List-Subscribe: <https://mails.dpdk.org/listinfo/test-report>,
 <mailto:test-report-request@dpdk.org?subject=subscribe>
Errors-To: test-report-bounces@dpdk.org

Test-Label: iol-unit-arm64-testing
Test-Status: SUCCESS
http://dpdk.org/patch/141433

_Testing PASS_

Submitter: Aakash Sasidharan <asasidharan@marvell.com>
Date: Thursday, June 20 2024 14:50:56 
DPDK git baseline: Repo:dpdk
  Branch: master
  CommitID:4a44d97f0a52a76258c6a6cb6a713f4380a8ab1f

141427-141433 --> testing pass

Test environment and result as below:

+-----------------------------+----------------+--------------+---------------------------+------------------------------+
|         Environment         | dpdk_unit_test | lpm_autotest | cryptodev_sw_zuc_autotest | cryptodev_sw_snow3g_autotest |
+=============================+================+==============+===========================+==============================+
| 32-bit Ubuntu 20.04.4 (ARM) | PASS           | SKIPPED      | SKIPPED                   | SKIPPED                      |
+-----------------------------+----------------+--------------+---------------------------+------------------------------+
| CentOS Stream 9 (ARM)       | PASS           | SKIPPED      | SKIPPED                   | SKIPPED                      |
+-----------------------------+----------------+--------------+---------------------------+------------------------------+
| Debian 12 (arm)             | PASS           | SKIPPED      | PASS                      | PASS                         |
+-----------------------------+----------------+--------------+---------------------------+------------------------------+
| Fedora 37 (ARM)             | PASS           | SKIPPED      | SKIPPED                   | SKIPPED                      |
+-----------------------------+----------------+--------------+---------------------------+------------------------------+
| Debian 11 (Buster) (ARM)    | PASS           | SKIPPED      | SKIPPED                   | SKIPPED                      |
+-----------------------------+----------------+--------------+---------------------------+------------------------------+
| Fedora 38 (ARM)             | PASS           | SKIPPED      | SKIPPED                   | SKIPPED                      |
+-----------------------------+----------------+--------------+---------------------------+------------------------------+
| Fedora 39 (ARM)             | PASS           | SKIPPED      | SKIPPED                   | SKIPPED                      |
+-----------------------------+----------------+--------------+---------------------------+------------------------------+
| Fedora 40 (ARM)             | PASS           | SKIPPED      | SKIPPED                   | SKIPPED                      |
+-----------------------------+----------------+--------------+---------------------------+------------------------------+
| Fedora 40 (ARM Clang)       | PASS           | SKIPPED      | SKIPPED                   | SKIPPED                      |
+-----------------------------+----------------+--------------+---------------------------+------------------------------+
| Fedora 39 (ARM Clang)       | PASS           | SKIPPED      | SKIPPED                   | SKIPPED                      |
+-----------------------------+----------------+--------------+---------------------------+------------------------------+
| Ubuntu 20.04 (ARM)          | PASS           | SKIPPED      | SKIPPED                   | SKIPPED                      |
+-----------------------------+----------------+--------------+---------------------------+------------------------------+
| Ubuntu 20.04 ARM SVE        | SKIPPED        | PASS         | SKIPPED                   | SKIPPED                      |
+-----------------------------+----------------+--------------+---------------------------+------------------------------+


32-bit Ubuntu 20.04.4 (ARM)
	Kernel: 5.4.0-155-generic aarch64
	Compiler: gcc 9.4

CentOS Stream 9 (ARM)
	Kernel: Container Host Kernel
	Compiler: gcc 11.4.1

Debian 12 (arm)
	Kernel: Container Host Kernel
	Compiler: gcc 12.2.0

Fedora 37 (ARM)
	Kernel: Depends on container host
	Compiler: gcc 12.3.1

Debian 11 (Buster) (ARM)
	Kernel: Container Host Kernel
	Compiler: gcc 10.2.1

Fedora 38 (ARM)
	Kernel: Depends on container host
	Compiler: gcc 13.2.1

Fedora 39 (ARM)
	Kernel: Depends on container host
	Compiler: gcc 13.2.1

Fedora 40 (ARM)
	Kernel: Depends on container host
	Compiler: gcc 14.1.1

Fedora 40 (ARM Clang)
	Kernel: Depends on container host
	Compiler: clang 18.1.6

Fedora 39 (ARM Clang)
	Kernel: Depends on container host
	Compiler: clang 17.0.6

Ubuntu 20.04 (ARM)
	Kernel: Container Host Kernel
	Compiler: gcc 9.4.0

Ubuntu 20.04 ARM SVE
	Kernel: 5.4.0-167-generic
	Compiler: gcc (Ubuntu 10.5.0-1ubuntu1~20.04) 10.5.0

To view detailed results, visit:
https://lab.dpdk.org/results/dashboard/patchsets/30263/

UNH-IOL DPDK Community Lab

To manage your email subscriptions, visit: 
https://lab.dpdk.org/results/dashboard/preferences/subscriptions/