From mboxrd@z Thu Jan  1 00:00:00 1970
Return-Path: <test-report-bounces@dpdk.org>
Received: from mails.dpdk.org (mails.dpdk.org [217.70.189.124])
	by inbox.dpdk.org (Postfix) with ESMTP id E1E4B454BC
	for <public@inbox.dpdk.org>; Fri, 21 Jun 2024 17:09:23 +0200 (CEST)
Received: from mails.dpdk.org (localhost [127.0.0.1])
	by mails.dpdk.org (Postfix) with ESMTP id E027E42EAB;
	Fri, 21 Jun 2024 17:09:23 +0200 (CEST)
Received: from mail-oo1-f98.google.com (mail-oo1-f98.google.com
 [209.85.161.98]) by mails.dpdk.org (Postfix) with ESMTP id 88EBB42EAA
 for <test-report@dpdk.org>; Fri, 21 Jun 2024 17:09:22 +0200 (CEST)
Received: by mail-oo1-f98.google.com with SMTP id
 006d021491bc7-5bae81effd1so1099290eaf.2
 for <test-report@dpdk.org>; Fri, 21 Jun 2024 08:09:22 -0700 (PDT)
DKIM-Signature: v=1; a=rsa-sha256; c=relaxed/relaxed;
 d=iol.unh.edu; s=unh-iol; t=1718982562; x=1719587362; darn=dpdk.org;
 h=references:in-reply-to:cc:to:from:subject:message-id:date:from:to
 :cc:subject:date:message-id:reply-to;
 bh=6b2iWzVYBsEvQHwWo/71APpKOj1O7wfKK5/cJD1dlow=;
 b=YYubGDMAzFDFBxkh1Iuv6J1JwXzPsLFW0hVProqd3lBSNmZpFtrLouHQIlK0TPz0wK
 SjuKKeOUbZ2rIweYejHQLYsudF5kpeAKOw+Prdj0mYAakVtaJCF933ftZ5b9++nMQj+w
 1ARKycXTRHhKdA12KIDmQrHDH4+XeWapt8ZjU=
X-Google-DKIM-Signature: v=1; a=rsa-sha256; c=relaxed/relaxed;
 d=1e100.net; s=20230601; t=1718982562; x=1719587362;
 h=references:in-reply-to:cc:to:from:subject:message-id:date
 :x-gm-message-state:from:to:cc:subject:date:message-id:reply-to;
 bh=6b2iWzVYBsEvQHwWo/71APpKOj1O7wfKK5/cJD1dlow=;
 b=jIt2JZukyNFPi07Xcn98vVmMx0+pRZrz3xVCXNGhGsS5msCzORt3k5CNUBQxH6vIvd
 FsYXEgcEdltJh52zY9HXuMVFVLLHdXM6yPFlrcY8rkLEM5Tco8pMEmA2KtjaVIfhAGmt
 sfeXPJIaBuUusZ6w4pk7KK2mD+C+ANBdQASsyqFKTL6C3pMyvepimMHFsO6U1uGQzbYP
 uFB0UAtFGp5pAuDQIyjK5dBwN07HBlmcVFRKT8cP/NSTuX3ohKnP+J0wh/XoIJRefVqe
 NsosP9B8xgvppE8y6DR0g88jHRiQdOwM2bNwBhfoD92Q31OKE12dkGSRGn7e/kPhtF7v
 ug1Q==
X-Gm-Message-State: AOJu0YyV9HrYSkt7pBam9Ga/M/aAGL2uMDHZqX8tGBWSQgozE2UxKXIO
 PTaQJ4efJb4BuXOjsDA4unXO3kWW1Ema3MiTu05Uhf5INxP5kP5IxTzagRaftrlzWx0CY5M4F7K
 ELsy9iIpqJ/Qns7H4mwmw5Ou4v6FRR0uVEwiL6bsv
X-Google-Smtp-Source: AGHT+IFFsquP9tCB2rb94z1SfPVzHoctDyrljEIsS2QrXZ011IbZCt4qzLfHUt0DtyUq6wE9IFh19kCnLsJn
X-Received: by 2002:a4a:c592:0:b0:5c1:bbe5:18f2 with SMTP id
 006d021491bc7-5c1bbe519damr7196021eaf.2.1718982561759; 
 Fri, 21 Jun 2024 08:09:21 -0700 (PDT)
Received: from postal.iol.unh.edu (postal.iol.unh.edu. [132.177.123.84])
 by smtp-relay.gmail.com with ESMTPS id
 006d021491bc7-5c1d7cac4e6sm42284eaf.2.2024.06.21.08.09.21
 (version=TLS1_2 cipher=ECDHE-ECDSA-AES128-GCM-SHA256 bits=128/128);
 Fri, 21 Jun 2024 08:09:21 -0700 (PDT)
X-Relaying-Domain: iol.unh.edu
Date: Fri, 21 Jun 2024 08:09:21 -0700 (PDT)
Message-ID: <667597a1.050a0220.511e9.3879SMTPIN_ADDED_MISSING@mx.google.com>
Received: from [172.21.0.6] (unknown [172.18.0.240])
 by postal.iol.unh.edu (Postfix) with ESMTP id 355EA605C373;
 Fri, 21 Jun 2024 11:09:21 -0400 (EDT)
Subject: |SUCCESS| pw141473-141476 [PATCH] [v2,4/4] test/crypto: add modex te
From: dpdklab@iol.unh.edu
To: Test Report <test-report@dpdk.org>
Cc: dpdk-test-reports@iol.unh.edu
In-Reply-To: <20240621023832.1707-5-gmuthukrishn@marvell.com>
References: <20240621023832.1707-5-gmuthukrishn@marvell.com>
Content-Type: text/plain
X-BeenThere: test-report@dpdk.org
X-Mailman-Version: 2.1.29
Precedence: list
List-Id: automatic DPDK test reports <test-report.dpdk.org>
List-Unsubscribe: <https://mails.dpdk.org/options/test-report>,
 <mailto:test-report-request@dpdk.org?subject=unsubscribe>
List-Archive: <http://mails.dpdk.org/archives/test-report/>
List-Post: <mailto:test-report@dpdk.org>
List-Help: <mailto:test-report-request@dpdk.org?subject=help>
List-Subscribe: <https://mails.dpdk.org/listinfo/test-report>,
 <mailto:test-report-request@dpdk.org?subject=subscribe>
Errors-To: test-report-bounces@dpdk.org

Test-Label: iol-unit-amd64-testing
Test-Status: SUCCESS
http://dpdk.org/patch/141476

_Testing PASS_

Submitter: Gowrishankar Muthukrishnan <gmuthukrishn@marvell.com>
Date: Friday, June 21 2024 02:38:29 
DPDK git baseline: Repo:dpdk
  Branch: master
  CommitID:4a44d97f0a52a76258c6a6cb6a713f4380a8ab1f

141473-141476 --> testing pass

Test environment and result as below:

+------------------+----------------+
|   Environment    | dpdk_unit_test |
+==================+================+
| CentOS Stream 8  | PASS           |
+------------------+----------------+
| Fedora 37        | PASS           |
+------------------+----------------+
| Debian 12        | PASS           |
+------------------+----------------+
| Debian Bullseye  | PASS           |
+------------------+----------------+
| Fedora 39        | PASS           |
+------------------+----------------+
| Fedora 40        | PASS           |
+------------------+----------------+
| Fedora 38        | PASS           |
+------------------+----------------+
| openSUSE Leap 15 | PASS           |
+------------------+----------------+
| RHEL9            | PASS           |
+------------------+----------------+
| Ubuntu 20.04     | PASS           |
+------------------+----------------+
| RHEL8            | PASS           |
+------------------+----------------+
| Ubuntu 22.04     | PASS           |
+------------------+----------------+
| CentOS Stream 9  | PASS           |
+------------------+----------------+
| Ubuntu 24.04     | PASS           |
+------------------+----------------+


CentOS Stream 8
	Kernel: 5.4.0-167-generic
	Compiler: gcc 8.5.0 20210514

Fedora 37
	Kernel: Depends on container host system
	Compiler: gcc 12.3.1

Debian 12
	Kernel: Container Host Kernel
	Compiler: gcc 12.2.0

Debian Bullseye
	Kernel: 5.4.0-167-generic
	Compiler: gcc 10.2.1-6

Fedora 39
	Kernel: Depends on container host
	Compiler: gcc 13.2.1

Fedora 40
	Kernel: Depends on container host
	Compiler: gcc 14.1.1

Fedora 38
	Kernel: Depends on container host
	Compiler: gcc 13.2.1

openSUSE Leap 15
	Kernel: 5.4.0-167-generic
	Compiler: gcc 7.5.0

RHEL9
	Kernel: Depends on container host
	Compiler: gcc 11.4.1

Ubuntu 20.04
	Kernel: 5.4.0-167-generic
	Compiler: gcc 9.4.0-1ubuntu1~20.04.1

RHEL8
	Kernel: 5.4.0-167-generic
	Compiler: gcc 8.5.0 20210514 (Red Hat 8.5.0-20)

Ubuntu 22.04
	Kernel: 5.4.0-167-generic
	Compiler: gcc 11.4.0

CentOS Stream 9
	Kernel: 5.4.0-167-generic
	Compiler: gcc 11.4.1 20230605

Ubuntu 24.04
	Kernel: 5.4.0-167-generic
	Compiler: gcc 13.2.0

To view detailed results, visit:
https://lab.dpdk.org/results/dashboard/patchsets/30270/

UNH-IOL DPDK Community Lab

To manage your email subscriptions, visit: 
https://lab.dpdk.org/results/dashboard/preferences/subscriptions/