From mboxrd@z Thu Jan  1 00:00:00 1970
Return-Path: <test-report-bounces@dpdk.org>
Received: from mails.dpdk.org (mails.dpdk.org [217.70.189.124])
	by inbox.dpdk.org (Postfix) with ESMTP id 2D0D9454BC
	for <public@inbox.dpdk.org>; Fri, 21 Jun 2024 17:22:52 +0200 (CEST)
Received: from mails.dpdk.org (localhost [127.0.0.1])
	by mails.dpdk.org (Postfix) with ESMTP id 276D542ED6;
	Fri, 21 Jun 2024 17:22:52 +0200 (CEST)
Received: from mail-il1-f228.google.com (mail-il1-f228.google.com
 [209.85.166.228])
 by mails.dpdk.org (Postfix) with ESMTP id 9CCC442E98
 for <test-report@dpdk.org>; Fri, 21 Jun 2024 17:22:44 +0200 (CEST)
Received: by mail-il1-f228.google.com with SMTP id
 e9e14a558f8ab-37611e6ed4dso8863985ab.2
 for <test-report@dpdk.org>; Fri, 21 Jun 2024 08:22:44 -0700 (PDT)
DKIM-Signature: v=1; a=rsa-sha256; c=relaxed/relaxed;
 d=iol.unh.edu; s=unh-iol; t=1718983364; x=1719588164; darn=dpdk.org;
 h=references:in-reply-to:cc:to:from:subject:message-id:date:from:to
 :cc:subject:date:message-id:reply-to;
 bh=5xKzKuUQSR8D50Gpr2oBjWlQzcoe6y5+KIm26fG9OME=;
 b=S4FzcM+aIUuGKEXNhxkiPWUVdjf8g/T+voTZdaT5upnDVlfRqE0bkhdOGjQAP1OcMF
 H7qbpCOPYYQkhOKXokw7BPw5JFXieVsaXkEcQuTHR/PDYYMD97eH5c+oNhXr9g5dhy+d
 6orZCEixSaK7ozwgdHUQdfTbiboX7RpJBwCXA=
X-Google-DKIM-Signature: v=1; a=rsa-sha256; c=relaxed/relaxed;
 d=1e100.net; s=20230601; t=1718983364; x=1719588164;
 h=references:in-reply-to:cc:to:from:subject:message-id:date
 :x-gm-message-state:from:to:cc:subject:date:message-id:reply-to;
 bh=5xKzKuUQSR8D50Gpr2oBjWlQzcoe6y5+KIm26fG9OME=;
 b=nCQeqH5pz664Ryqj3VQtDjPfW3f5FwcOR3L8wkonbH86yGadtwf2PXwhx41mQexTut
 gXApPsTfxqlaYYXyrzF/j4JrDpCy6DhuGuhQi3K32qjxD+4+PI6GJ3mXwn8QVmjy96qG
 YrFZ/YBZ0qkWepMcCOf3MKflGEzaRtkXvLuVoS6RECQCTpw1p4XuU1BDZ6SgxKYmo6m9
 1eUFNUZzUTzVV8m1TkGB9UI58oDInpWFp26Abeoy7bf0Y4gbdWyHoDXGe8qXMXFpgKwp
 yXElB5piVyXSUY77u4KyqX0HXd/CcC/m/xB9E97FHFElU1CJlBAbWkErAwFxUt6QFPw5
 rR5Q==
X-Gm-Message-State: AOJu0Yy6Aea11p2UrWh+32c0nhZw77DxXlYE/weJuCsfnTI9f/vNZCBg
 5947QhF0exkxZxzciP2xksoEgqG+C4AskxOfp48VRbpysNg6TL9tJ8kjKgRyXWf6KpyEsuIVN4F
 D3HvO7SH32gfki7BJMcMsDIGWnDQ3I5LcNLELcjc4gUNfDCyc9YBmggmW
X-Google-Smtp-Source: AGHT+IGqpUv2O1u/SSaDpm2OBnLEUt+CTPXvvBevdBFAcxSL+iXnf7jraa3FTu3fkbyIPSBIjtAvA7Izaddj
X-Received: by 2002:a05:6e02:1849:b0:375:a3d8:97be with SMTP id
 e9e14a558f8ab-3761d66d1admr98683535ab.9.1718983363955; 
 Fri, 21 Jun 2024 08:22:43 -0700 (PDT)
Received: from postal.iol.unh.edu (postal.iol.unh.edu.
 [2606:4100:3880:1234::84]) by smtp-relay.gmail.com with ESMTPS id
 e9e14a558f8ab-3762f335772sm888665ab.34.2024.06.21.08.22.43
 (version=TLS1_2 cipher=ECDHE-ECDSA-AES128-GCM-SHA256 bits=128/128);
 Fri, 21 Jun 2024 08:22:43 -0700 (PDT)
X-Relaying-Domain: iol.unh.edu
Date: Fri, 21 Jun 2024 08:22:43 -0700 (PDT)
Message-ID: <66759ac3.920a0220.42818.7e1cSMTPIN_ADDED_MISSING@mx.google.com>
Received: from [172.21.0.8] (unknown [172.18.0.240])
 by postal.iol.unh.edu (Postfix) with ESMTP id 75FA7605C373;
 Fri, 21 Jun 2024 11:22:43 -0400 (EDT)
Subject: |SUCCESS| pw141464-141472 [PATCH] [v2,9/9] doc: reword rcu library s
From: dpdklab@iol.unh.edu
To: Test Report <test-report@dpdk.org>
Cc: dpdk-test-reports@iol.unh.edu
In-Reply-To: <20240621023254.4258-9-nandinipersad361@gmail.com>
References: <20240621023254.4258-9-nandinipersad361@gmail.com>
Content-Type: text/plain
X-BeenThere: test-report@dpdk.org
X-Mailman-Version: 2.1.29
Precedence: list
List-Id: automatic DPDK test reports <test-report.dpdk.org>
List-Unsubscribe: <https://mails.dpdk.org/options/test-report>,
 <mailto:test-report-request@dpdk.org?subject=unsubscribe>
List-Archive: <http://mails.dpdk.org/archives/test-report/>
List-Post: <mailto:test-report@dpdk.org>
List-Help: <mailto:test-report-request@dpdk.org?subject=help>
List-Subscribe: <https://mails.dpdk.org/listinfo/test-report>,
 <mailto:test-report-request@dpdk.org?subject=subscribe>
Errors-To: test-report-bounces@dpdk.org

Test-Label: iol-unit-amd64-testing
Test-Status: SUCCESS
http://dpdk.org/patch/141472

_Testing PASS_

Submitter: Nandini Persad <nandinipersad361@gmail.com>
Date: Friday, June 21 2024 02:32:54 
DPDK git baseline: Repo:dpdk
  Branch: master
  CommitID:4a44d97f0a52a76258c6a6cb6a713f4380a8ab1f

141464-141472 --> testing pass

Test environment and result as below:

+------------------+----------------+
|   Environment    | dpdk_unit_test |
+==================+================+
| CentOS Stream 8  | PASS           |
+------------------+----------------+
| Debian 12        | PASS           |
+------------------+----------------+
| CentOS Stream 9  | PASS           |
+------------------+----------------+
| Debian Bullseye  | PASS           |
+------------------+----------------+
| Fedora 39        | PASS           |
+------------------+----------------+
| Fedora 37        | PASS           |
+------------------+----------------+
| Fedora 40        | PASS           |
+------------------+----------------+
| Fedora 38        | PASS           |
+------------------+----------------+
| openSUSE Leap 15 | PASS           |
+------------------+----------------+
| Ubuntu 20.04     | PASS           |
+------------------+----------------+
| RHEL9            | PASS           |
+------------------+----------------+
| Ubuntu 22.04     | PASS           |
+------------------+----------------+
| RHEL8            | PASS           |
+------------------+----------------+


CentOS Stream 8
	Kernel: 5.4.0-167-generic
	Compiler: gcc 8.5.0 20210514

Debian 12
	Kernel: Container Host Kernel
	Compiler: gcc 12.2.0

CentOS Stream 9
	Kernel: 5.4.0-167-generic
	Compiler: gcc 11.4.1 20230605

Debian Bullseye
	Kernel: 5.4.0-167-generic
	Compiler: gcc 10.2.1-6

Fedora 39
	Kernel: Depends on container host
	Compiler: gcc 13.2.1

Fedora 37
	Kernel: Depends on container host system
	Compiler: gcc 12.3.1

Fedora 40
	Kernel: Depends on container host
	Compiler: gcc 14.1.1

Fedora 38
	Kernel: Depends on container host
	Compiler: gcc 13.2.1

openSUSE Leap 15
	Kernel: 5.4.0-167-generic
	Compiler: gcc 7.5.0

Ubuntu 20.04
	Kernel: 5.4.0-167-generic
	Compiler: gcc 9.4.0-1ubuntu1~20.04.1

RHEL9
	Kernel: Depends on container host
	Compiler: gcc 11.4.1

Ubuntu 22.04
	Kernel: 5.4.0-167-generic
	Compiler: gcc 11.4.0

RHEL8
	Kernel: 5.4.0-167-generic
	Compiler: gcc 8.5.0 20210514 (Red Hat 8.5.0-20)

To view detailed results, visit:
https://lab.dpdk.org/results/dashboard/patchsets/30269/

UNH-IOL DPDK Community Lab

To manage your email subscriptions, visit: 
https://lab.dpdk.org/results/dashboard/preferences/subscriptions/