From mboxrd@z Thu Jan  1 00:00:00 1970
Return-Path: <test-report-bounces@dpdk.org>
Received: from mails.dpdk.org (mails.dpdk.org [217.70.189.124])
	by inbox.dpdk.org (Postfix) with ESMTP id 77B60454BE
	for <public@inbox.dpdk.org>; Fri, 21 Jun 2024 20:39:00 +0200 (CEST)
Received: from mails.dpdk.org (localhost [127.0.0.1])
	by mails.dpdk.org (Postfix) with ESMTP id 74F45402BB;
	Fri, 21 Jun 2024 20:39:00 +0200 (CEST)
Received: from mail-il1-f227.google.com (mail-il1-f227.google.com
 [209.85.166.227])
 by mails.dpdk.org (Postfix) with ESMTP id 73C114027D
 for <test-report@dpdk.org>; Fri, 21 Jun 2024 20:38:59 +0200 (CEST)
Received: by mail-il1-f227.google.com with SMTP id
 e9e14a558f8ab-375b2fe7003so9022725ab.1
 for <test-report@dpdk.org>; Fri, 21 Jun 2024 11:38:59 -0700 (PDT)
DKIM-Signature: v=1; a=rsa-sha256; c=relaxed/relaxed;
 d=iol.unh.edu; s=unh-iol; t=1718995139; x=1719599939; darn=dpdk.org;
 h=references:in-reply-to:cc:to:from:subject:message-id:date:from:to
 :cc:subject:date:message-id:reply-to;
 bh=uJbhf0WKJXgK0ik6N5onRBSUPLNJCoHYwirMEMt79lU=;
 b=VJKWaWNNkeImnDUFoKXHtUssV11Bbqig1dsmUhE/UpG7+9u3RXRieE7ykpUClE1VKg
 YqUMBLKFXDZuyWUi1+uH9cSAblTG40VpymA7iP+xVDaw4gGdjm6qv8LcsOF22JgEV0S6
 n/piEjUGSvHHI54Bsw35bKkusy95QvmHm8u+Y=
X-Google-DKIM-Signature: v=1; a=rsa-sha256; c=relaxed/relaxed;
 d=1e100.net; s=20230601; t=1718995139; x=1719599939;
 h=references:in-reply-to:cc:to:from:subject:message-id:date
 :x-gm-message-state:from:to:cc:subject:date:message-id:reply-to;
 bh=uJbhf0WKJXgK0ik6N5onRBSUPLNJCoHYwirMEMt79lU=;
 b=INcrAYCdwPeYbiZ7JGVaU5lHMn3i7kxHbgaCc1FukTIFM+9yD+5oFZ5ktpfmehSVpq
 wv7EhXJ5mIgPNaS6PdCm8jCeA7iBnzRe4ZEM5iSD2T9U1OtPU7TGsjAxUUCZrs+CNNzs
 oxhpQ8rFeU+rTHS5Z97hH2GCkL5hxR7qravphuvKpamITS1cXrSXYKhP3a7ns7NYyJR/
 E7oGvXUApn3urYLVBeTlz2OPwvQP0LaksPjtJDQ8I5lsAyfDOkKbeTnlJ4Z3EBuK7/4m
 6eZhu0qIdJChUBp5BSjd10Exii6zBJQ26OpSdzloVia5XbdgjTsYTjFmMh3eSqak6Z0w
 HEsA==
X-Gm-Message-State: AOJu0YzLee7qI1/KFduMHgs7kldWgyjSL0OAdsB4WR7fK7snqYYn7e11
 grrKbjCgw5c9cXZ06olRNJYkWLZCrzEtxrYeEteNxYbnps34sD18vO8p/v6UxAo0ugWxbLcDMYO
 cX9gT9V+EnblYFPY9dN6CzYY8md1PfLP47uItLLMQ
X-Google-Smtp-Source: AGHT+IGwnQOUlvVBoUaxTIJerp9jxH5fnyFFPA/nP0EyjRpF9T/HsJnH+D00WdvNOlJJt+JmN+HCEy900ss6
X-Received: by 2002:a92:c54c:0:b0:375:a6a4:5dde with SMTP id
 e9e14a558f8ab-3761d71002bmr93205445ab.30.1718995138798; 
 Fri, 21 Jun 2024 11:38:58 -0700 (PDT)
Received: from postal.iol.unh.edu (postal.iol.unh.edu. [132.177.123.84])
 by smtp-relay.gmail.com with ESMTPS id
 e9e14a558f8ab-3762f3a85f9sm1147595ab.55.2024.06.21.11.38.58
 (version=TLS1_2 cipher=ECDHE-ECDSA-AES128-GCM-SHA256 bits=128/128);
 Fri, 21 Jun 2024 11:38:58 -0700 (PDT)
X-Relaying-Domain: iol.unh.edu
Date: Fri, 21 Jun 2024 11:38:58 -0700 (PDT)
Message-ID: <6675c8c2.050a0220.77c43.96a2SMTPIN_ADDED_MISSING@mx.google.com>
Received: from [172.21.0.7] (unknown [172.18.0.240])
 by postal.iol.unh.edu (Postfix) with ESMTP id 44C5C605C373;
 Fri, 21 Jun 2024 14:38:58 -0400 (EDT)
Subject: |SUCCESS| pw141477-141479 [PATCH] [3/3] dts: mac filter test suite r
From: dpdklab@iol.unh.edu
To: Test Report <test-report@dpdk.org>
Cc: dpdk-test-reports@iol.unh.edu
In-Reply-To: <20240621172059.8194-8-npratte@iol.unh.edu>
References: <20240621172059.8194-8-npratte@iol.unh.edu>
Content-Type: text/plain
X-BeenThere: test-report@dpdk.org
X-Mailman-Version: 2.1.29
Precedence: list
List-Id: automatic DPDK test reports <test-report.dpdk.org>
List-Unsubscribe: <https://mails.dpdk.org/options/test-report>,
 <mailto:test-report-request@dpdk.org?subject=unsubscribe>
List-Archive: <http://mails.dpdk.org/archives/test-report/>
List-Post: <mailto:test-report@dpdk.org>
List-Help: <mailto:test-report-request@dpdk.org?subject=help>
List-Subscribe: <https://mails.dpdk.org/listinfo/test-report>,
 <mailto:test-report-request@dpdk.org?subject=subscribe>
Errors-To: test-report-bounces@dpdk.org

Test-Label: iol-unit-arm64-testing
Test-Status: SUCCESS
http://dpdk.org/patch/141479

_Testing PASS_

Submitter: Nicholas Pratte <npratte@iol.unh.edu>
Date: Friday, June 21 2024 17:21:03 
DPDK git baseline: Repo:dpdk
  Branch: master
  CommitID:4a44d97f0a52a76258c6a6cb6a713f4380a8ab1f

141477-141479 --> testing pass

Test environment and result as below:

+-----------------------------+------------------------------+---------------------------+----------------+--------------+
|         Environment         | cryptodev_sw_snow3g_autotest | cryptodev_sw_zuc_autotest | dpdk_unit_test | lpm_autotest |
+=============================+==============================+===========================+================+==============+
| Debian 12 (arm)             | PASS                         | PASS                      | PASS           | SKIPPED      |
+-----------------------------+------------------------------+---------------------------+----------------+--------------+
| Debian 11 (Buster) (ARM)    | SKIPPED                      | SKIPPED                   | PASS           | SKIPPED      |
+-----------------------------+------------------------------+---------------------------+----------------+--------------+
| Fedora 37 (ARM)             | SKIPPED                      | SKIPPED                   | PASS           | SKIPPED      |
+-----------------------------+------------------------------+---------------------------+----------------+--------------+
| CentOS Stream 9 (ARM)       | SKIPPED                      | SKIPPED                   | PASS           | SKIPPED      |
+-----------------------------+------------------------------+---------------------------+----------------+--------------+
| Fedora 38 (ARM)             | SKIPPED                      | SKIPPED                   | PASS           | SKIPPED      |
+-----------------------------+------------------------------+---------------------------+----------------+--------------+
| Fedora 39 (ARM)             | SKIPPED                      | SKIPPED                   | PASS           | SKIPPED      |
+-----------------------------+------------------------------+---------------------------+----------------+--------------+
| Fedora 40 (ARM)             | SKIPPED                      | SKIPPED                   | PASS           | SKIPPED      |
+-----------------------------+------------------------------+---------------------------+----------------+--------------+
| 32-bit Ubuntu 20.04.4 (ARM) | SKIPPED                      | SKIPPED                   | PASS           | SKIPPED      |
+-----------------------------+------------------------------+---------------------------+----------------+--------------+
| RHEL9 (ARM)                 | SKIPPED                      | SKIPPED                   | PASS           | SKIPPED      |
+-----------------------------+------------------------------+---------------------------+----------------+--------------+
| Ubuntu 20.04 (ARM)          | SKIPPED                      | SKIPPED                   | PASS           | SKIPPED      |
+-----------------------------+------------------------------+---------------------------+----------------+--------------+
| Ubuntu 20.04 ARM SVE        | SKIPPED                      | SKIPPED                   | SKIPPED        | PASS         |
+-----------------------------+------------------------------+---------------------------+----------------+--------------+


Debian 12 (arm)
	Kernel: Container Host Kernel
	Compiler: gcc 12.2.0

Debian 11 (Buster) (ARM)
	Kernel: Container Host Kernel
	Compiler: gcc 10.2.1

Fedora 37 (ARM)
	Kernel: Depends on container host
	Compiler: gcc 12.3.1

CentOS Stream 9 (ARM)
	Kernel: Container Host Kernel
	Compiler: gcc 11.4.1

Fedora 38 (ARM)
	Kernel: Depends on container host
	Compiler: gcc 13.2.1

Fedora 39 (ARM)
	Kernel: Depends on container host
	Compiler: gcc 13.2.1

Fedora 40 (ARM)
	Kernel: Depends on container host
	Compiler: gcc 14.1.1

32-bit Ubuntu 20.04.4 (ARM)
	Kernel: 5.4.0-155-generic aarch64
	Compiler: gcc 9.4

RHEL9 (ARM)
	Kernel: Depends on container host
	Compiler: gcc 11.4.1

Ubuntu 20.04 (ARM)
	Kernel: Container Host Kernel
	Compiler: gcc 9.4.0

Ubuntu 20.04 ARM SVE
	Kernel: 5.4.0-167-generic
	Compiler: gcc (Ubuntu 10.5.0-1ubuntu1~20.04) 10.5.0

To view detailed results, visit:
https://lab.dpdk.org/results/dashboard/patchsets/30271/

UNH-IOL DPDK Community Lab

To manage your email subscriptions, visit: 
https://lab.dpdk.org/results/dashboard/preferences/subscriptions/