From mboxrd@z Thu Jan  1 00:00:00 1970
Return-Path: <test-report-bounces@dpdk.org>
Received: from mails.dpdk.org (mails.dpdk.org [217.70.189.124])
	by inbox.dpdk.org (Postfix) with ESMTP id 31579454BE
	for <public@inbox.dpdk.org>; Fri, 21 Jun 2024 20:42:56 +0200 (CEST)
Received: from mails.dpdk.org (localhost [127.0.0.1])
	by mails.dpdk.org (Postfix) with ESMTP id 2D3D34027D;
	Fri, 21 Jun 2024 20:42:56 +0200 (CEST)
Received: from mail-pf1-f225.google.com (mail-pf1-f225.google.com
 [209.85.210.225])
 by mails.dpdk.org (Postfix) with ESMTP id D301F40265
 for <test-report@dpdk.org>; Fri, 21 Jun 2024 20:42:54 +0200 (CEST)
Received: by mail-pf1-f225.google.com with SMTP id
 d2e1a72fcca58-706642b4403so76519b3a.1
 for <test-report@dpdk.org>; Fri, 21 Jun 2024 11:42:54 -0700 (PDT)
DKIM-Signature: v=1; a=rsa-sha256; c=relaxed/relaxed;
 d=iol.unh.edu; s=unh-iol; t=1718995374; x=1719600174; darn=dpdk.org;
 h=references:in-reply-to:cc:to:from:subject:message-id:date:from:to
 :cc:subject:date:message-id:reply-to;
 bh=laCo1HTcL1JzDZTWGlxqXprT4FPQsLKbiuHbPsn3T6M=;
 b=iXNzluAGrmdS5F/WM/yK1DNF2O1DW2wtgp4FOt/PUUfL9K4SzWrATrNvQARDNyKSOj
 ylF5w2ISAQCNF51l5kuRUdzB6Rh1m/cWnl7EFUWxO/SHdEkQ6nqOap7P8GN3PLq6ylkC
 tbmkZbhmb4jhWYxCd/tSln7T9FB0FLe2fjgs8=
X-Google-DKIM-Signature: v=1; a=rsa-sha256; c=relaxed/relaxed;
 d=1e100.net; s=20230601; t=1718995374; x=1719600174;
 h=references:in-reply-to:cc:to:from:subject:message-id:date
 :x-gm-message-state:from:to:cc:subject:date:message-id:reply-to;
 bh=laCo1HTcL1JzDZTWGlxqXprT4FPQsLKbiuHbPsn3T6M=;
 b=mfifQk/AZEi1QuPRU7V2Vqist0hlCx3Yj+N5oVXVkrcJ8I9fPI977m5Msq30cU//dw
 EHyda95WsAiOORXPUSG4Y3Euf7zYl/pCaqwgRrdN9RfU/r8vzcStPOcvTk7vLDQn2qav
 AmedVlSK3+eE4S+ziEhcF4oFahmNfJVUd7CI6c54UkAMHdRoZ6cwdNad2POneIZb/lpr
 l1vdvSbSh4wTS5Ag/5MmBrRUyHwaBYF62D/TgEGiUk9aTBwQgKTX4+Mr5i1/pgKo57gC
 5+pophUVTzDO2XS1Uont7UA1977A10D7vjbNoFGfdA+g4A7SZTkhG6ARvNrEM1OkaheO
 Q2Pw==
X-Gm-Message-State: AOJu0YzENYbXA7dvFnwtOdigxiAyt1OXCgBhjMWdoH8CIw0niAz8IqGW
 WFaxGT3gFHS4W9G7qLkffQhi7A5SmPEIcZ3bu1xb2gksY/B8Et5f/PRGRI8nGnfLI6Lyh0qQ54x
 EVY8tNnwA3ZKOEPdAGkjx7kBAQwm8+75y0+DEv/4w
X-Google-Smtp-Source: AGHT+IFkHA07ju9zvyY6dv+1gfYwUh3n81b6T5oS8t4GL1WPb02J7INxn97sHXnXiaxUxPFZaIvmUABDSWoI
X-Received: by 2002:a62:e903:0:b0:705:a9d9:62b1 with SMTP id
 d2e1a72fcca58-70662e9b9b0mr721175b3a.15.1718995373934; 
 Fri, 21 Jun 2024 11:42:53 -0700 (PDT)
Received: from postal.iol.unh.edu (postal.iol.unh.edu. [132.177.123.84])
 by smtp-relay.gmail.com with ESMTPS id
 d2e1a72fcca58-7065108b2b7sm91829b3a.4.2024.06.21.11.42.53
 (version=TLS1_2 cipher=ECDHE-ECDSA-AES128-GCM-SHA256 bits=128/128);
 Fri, 21 Jun 2024 11:42:53 -0700 (PDT)
X-Relaying-Domain: iol.unh.edu
Date: Fri, 21 Jun 2024 11:42:53 -0700 (PDT)
Message-ID: <6675c9ad.050a0220.19959.6f30SMTPIN_ADDED_MISSING@mx.google.com>
Received: from [172.21.0.8] (unknown [172.18.0.240])
 by postal.iol.unh.edu (Postfix) with ESMTP id 0BD06605C373;
 Fri, 21 Jun 2024 14:42:53 -0400 (EDT)
Subject: |SUCCESS| pw141477-141479 [PATCH] [3/3] dts: mac filter test suite r
From: dpdklab@iol.unh.edu
To: Test Report <test-report@dpdk.org>
Cc: dpdk-test-reports@iol.unh.edu
In-Reply-To: <20240621172059.8194-8-npratte@iol.unh.edu>
References: <20240621172059.8194-8-npratte@iol.unh.edu>
Content-Type: text/plain
X-BeenThere: test-report@dpdk.org
X-Mailman-Version: 2.1.29
Precedence: list
List-Id: automatic DPDK test reports <test-report.dpdk.org>
List-Unsubscribe: <https://mails.dpdk.org/options/test-report>,
 <mailto:test-report-request@dpdk.org?subject=unsubscribe>
List-Archive: <http://mails.dpdk.org/archives/test-report/>
List-Post: <mailto:test-report@dpdk.org>
List-Help: <mailto:test-report-request@dpdk.org?subject=help>
List-Subscribe: <https://mails.dpdk.org/listinfo/test-report>,
 <mailto:test-report-request@dpdk.org?subject=subscribe>
Errors-To: test-report-bounces@dpdk.org

Test-Label: iol-unit-amd64-testing
Test-Status: SUCCESS
http://dpdk.org/patch/141479

_Testing PASS_

Submitter: Nicholas Pratte <npratte@iol.unh.edu>
Date: Friday, June 21 2024 17:21:03 
DPDK git baseline: Repo:dpdk
  Branch: master
  CommitID:4a44d97f0a52a76258c6a6cb6a713f4380a8ab1f

141477-141479 --> testing pass

Test environment and result as below:

+-----------------+----------------+
|   Environment   | dpdk_unit_test |
+=================+================+
| CentOS Stream 9 | PASS           |
+-----------------+----------------+
| CentOS Stream 8 | PASS           |
+-----------------+----------------+
| Debian 12       | PASS           |
+-----------------+----------------+
| Fedora 38       | PASS           |
+-----------------+----------------+
| Fedora 37       | PASS           |
+-----------------+----------------+
| Fedora 39       | PASS           |
+-----------------+----------------+


CentOS Stream 9
	Kernel: 5.4.0-167-generic
	Compiler: gcc 11.4.1 20230605

CentOS Stream 8
	Kernel: 5.4.0-167-generic
	Compiler: gcc 8.5.0 20210514

Debian 12
	Kernel: Container Host Kernel
	Compiler: gcc 12.2.0

Fedora 38
	Kernel: Depends on container host
	Compiler: gcc 13.2.1

Fedora 37
	Kernel: Depends on container host system
	Compiler: gcc 12.3.1

Fedora 39
	Kernel: Depends on container host
	Compiler: gcc 13.2.1

To view detailed results, visit:
https://lab.dpdk.org/results/dashboard/patchsets/30271/

UNH-IOL DPDK Community Lab

To manage your email subscriptions, visit: 
https://lab.dpdk.org/results/dashboard/preferences/subscriptions/