From mboxrd@z Thu Jan  1 00:00:00 1970
Return-Path: <test-report-bounces@dpdk.org>
Received: from mails.dpdk.org (mails.dpdk.org [217.70.189.124])
	by inbox.dpdk.org (Postfix) with ESMTP id DFD9C454BE
	for <public@inbox.dpdk.org>; Fri, 21 Jun 2024 20:58:35 +0200 (CEST)
Received: from mails.dpdk.org (localhost [127.0.0.1])
	by mails.dpdk.org (Postfix) with ESMTP id DCE9B4027D;
	Fri, 21 Jun 2024 20:58:35 +0200 (CEST)
Received: from mail-ot1-f100.google.com (mail-ot1-f100.google.com
 [209.85.210.100])
 by mails.dpdk.org (Postfix) with ESMTP id F009C40265
 for <test-report@dpdk.org>; Fri, 21 Jun 2024 20:58:34 +0200 (CEST)
Received: by mail-ot1-f100.google.com with SMTP id
 46e09a7af769-6f971cb3c9cso1226967a34.1
 for <test-report@dpdk.org>; Fri, 21 Jun 2024 11:58:34 -0700 (PDT)
DKIM-Signature: v=1; a=rsa-sha256; c=relaxed/relaxed;
 d=iol.unh.edu; s=unh-iol; t=1718996314; x=1719601114; darn=dpdk.org;
 h=references:in-reply-to:cc:to:from:subject:message-id:date:from:to
 :cc:subject:date:message-id:reply-to;
 bh=0avsHvz86b4eIKagiIXjlrCioU85hhRpf+2OmKdRSgk=;
 b=Goe/Vj/6zSrkqxkIT2yHYj9bOvAs449Ozl3aTNR6Q6T2FyyHEr1IP0hUmlYEjtG1tr
 Kkj6JcDLeUoy5syKlzZPgE2zl8ofTsWjcPmtlHFfHgNvSf5AwiM+BL/BngbNXIFhl2jV
 dI4C7lqrWAMvaHsSnDmgZGC6W1hw96JF7VaJw=
X-Google-DKIM-Signature: v=1; a=rsa-sha256; c=relaxed/relaxed;
 d=1e100.net; s=20230601; t=1718996314; x=1719601114;
 h=references:in-reply-to:cc:to:from:subject:message-id:date
 :x-gm-message-state:from:to:cc:subject:date:message-id:reply-to;
 bh=0avsHvz86b4eIKagiIXjlrCioU85hhRpf+2OmKdRSgk=;
 b=YejvGWCQyZB2K6VlcZbk399AhYn0sTfJ73r3oU5UdRDbRnce92HSazaaFyVV43ojTU
 /atwmsjAZyp2rU5ZSZ5t5mLPWrfu6iU8F90ge35qycRAN5aSU055WNtH8pKLQW0zQYlo
 ZAVw/GU9trJwTES2SvgnAhqj5tDX60g3Oz4uFUGkVpJMSAUlmvhI/r+qBjHSRkhn1WWD
 ALAWoQDTQSiM6If+NcPDWr8BvkRKgOg6lYD8gvm3s20D55kIhwi7YV2Kb3k+scKNfoIv
 zJwcaFY6hA8CJRTzG6XJn71ICKtsvF8hl7OD2ljAKlkiPyzRgrjh6lQDjltHGbZK/dY2
 UuVw==
X-Gm-Message-State: AOJu0Yy3H/1m+f54ja5wtH2yUjQU35YHg+/w9gSt23vo7ZvgjvSmzFrB
 TDUckmCScqNuvvKBVg/V6tax//LkLHfHKW4fBfQdKXtEkGGTVX3Ms2t7lJXBDKtnPJo+9Ycjg7h
 SdnbL8RFvJTZD4DDHR+eDRjiDjuALA7JrkWmVO7LwQGRsc7qrzK6DJ8c3
X-Google-Smtp-Source: AGHT+IHQYwm5736lnt2pauP8s/NckZTaXHlzv7x9g0ug3AN6l9HLGV4pgkanomBoDBKifxnlTkCxPzHL5y0O
X-Received: by 2002:a05:6830:1101:b0:6f9:a142:683f with SMTP id
 46e09a7af769-7007401b28amr10057235a34.21.1718996314208; 
 Fri, 21 Jun 2024 11:58:34 -0700 (PDT)
Received: from postal.iol.unh.edu (postal.iol.unh.edu.
 [2606:4100:3880:1234::84]) by smtp-relay.gmail.com with ESMTPS id
 006d021491bc7-5c1d59dbd2esm129906eaf.15.2024.06.21.11.58.34
 (version=TLS1_2 cipher=ECDHE-ECDSA-AES128-GCM-SHA256 bits=128/128);
 Fri, 21 Jun 2024 11:58:34 -0700 (PDT)
X-Relaying-Domain: iol.unh.edu
Date: Fri, 21 Jun 2024 11:58:34 -0700 (PDT)
Message-ID: <6675cd5a.4a0a0220.6ba92.a2d2SMTPIN_ADDED_MISSING@mx.google.com>
Received: from [172.21.0.6] (unknown [172.18.0.240])
 by postal.iol.unh.edu (Postfix) with ESMTP id ABAA6605C373;
 Fri, 21 Jun 2024 14:58:33 -0400 (EDT)
Subject: |SUCCESS| pw141477-141479 [PATCH] [3/3] dts: mac filter test suite r
From: dpdklab@iol.unh.edu
To: Test Report <test-report@dpdk.org>
Cc: dpdk-test-reports@iol.unh.edu
In-Reply-To: <20240621172059.8194-8-npratte@iol.unh.edu>
References: <20240621172059.8194-8-npratte@iol.unh.edu>
Content-Type: text/plain
X-BeenThere: test-report@dpdk.org
X-Mailman-Version: 2.1.29
Precedence: list
List-Id: automatic DPDK test reports <test-report.dpdk.org>
List-Unsubscribe: <https://mails.dpdk.org/options/test-report>,
 <mailto:test-report-request@dpdk.org?subject=unsubscribe>
List-Archive: <http://mails.dpdk.org/archives/test-report/>
List-Post: <mailto:test-report@dpdk.org>
List-Help: <mailto:test-report-request@dpdk.org?subject=help>
List-Subscribe: <https://mails.dpdk.org/listinfo/test-report>,
 <mailto:test-report-request@dpdk.org?subject=subscribe>
Errors-To: test-report-bounces@dpdk.org

Test-Label: iol-abi-testing
Test-Status: SUCCESS
http://dpdk.org/patch/141479

_Testing PASS_

Submitter: Nicholas Pratte <npratte@iol.unh.edu>
Date: Friday, June 21 2024 17:21:03 
DPDK git baseline: Repo:dpdk
  Branch: master
  CommitID:4a44d97f0a52a76258c6a6cb6a713f4380a8ab1f

141477-141479 --> testing pass

Test environment and result as below:

+------------------+----------+
|   Environment    | abi_test |
+==================+==========+
| Debian Bullseye  | PASS     |
+------------------+----------+
| Ubuntu 22.04     | PASS     |
+------------------+----------+
| openSUSE Leap 15 | PASS     |
+------------------+----------+
| RHEL8            | PASS     |
+------------------+----------+
| Fedora 39        | PASS     |
+------------------+----------+
| CentOS Stream 8  | PASS     |
+------------------+----------+
| Fedora 40        | PASS     |
+------------------+----------+
| Fedora 38        | PASS     |
+------------------+----------+
| CentOS Stream 9  | PASS     |
+------------------+----------+
| Fedora 37        | PASS     |
+------------------+----------+
| Debian 12        | PASS     |
+------------------+----------+


Debian Bullseye
	Kernel: 5.4.0-167-generic
	Compiler: gcc 10.2.1-6

Ubuntu 22.04
	Kernel: 5.4.0-167-generic
	Compiler: gcc 11.4.0

openSUSE Leap 15
	Kernel: 5.4.0-167-generic
	Compiler: gcc 7.5.0

RHEL8
	Kernel: 5.4.0-167-generic
	Compiler: gcc 8.5.0 20210514 (Red Hat 8.5.0-20)

Fedora 39
	Kernel: Depends on container host
	Compiler: gcc 13.2.1

CentOS Stream 8
	Kernel: 5.4.0-167-generic
	Compiler: gcc 8.5.0 20210514

Fedora 40
	Kernel: Depends on container host
	Compiler: clang 18.1.6

Fedora 38
	Kernel: Depends on container host
	Compiler: clang 16.0.6

CentOS Stream 9
	Kernel: 5.4.0-167-generic
	Compiler: gcc 11.4.1 20230605

Fedora 37
	Kernel: Depends on container host system
	Compiler: gcc 12.3.1

Debian 12
	Kernel: Container Host Kernel
	Compiler: gcc 12.2.0

To view detailed results, visit:
https://lab.dpdk.org/results/dashboard/patchsets/30271/

UNH-IOL DPDK Community Lab

To manage your email subscriptions, visit: 
https://lab.dpdk.org/results/dashboard/preferences/subscriptions/