From mboxrd@z Thu Jan  1 00:00:00 1970
Return-Path: <test-report-bounces@dpdk.org>
Received: from mails.dpdk.org (mails.dpdk.org [217.70.189.124])
	by inbox.dpdk.org (Postfix) with ESMTP id 2ED3E454C1
	for <public@inbox.dpdk.org>; Sat, 22 Jun 2024 02:20:56 +0200 (CEST)
Received: from mails.dpdk.org (localhost [127.0.0.1])
	by mails.dpdk.org (Postfix) with ESMTP id 272A640298;
	Sat, 22 Jun 2024 02:20:56 +0200 (CEST)
Received: from mail-pl1-f226.google.com (mail-pl1-f226.google.com
 [209.85.214.226])
 by mails.dpdk.org (Postfix) with ESMTP id 957564025C
 for <test-report@dpdk.org>; Sat, 22 Jun 2024 02:20:53 +0200 (CEST)
Received: by mail-pl1-f226.google.com with SMTP id
 d9443c01a7336-1fa0f143b85so81205ad.3
 for <test-report@dpdk.org>; Fri, 21 Jun 2024 17:20:53 -0700 (PDT)
DKIM-Signature: v=1; a=rsa-sha256; c=relaxed/relaxed;
 d=iol.unh.edu; s=unh-iol; t=1719015653; x=1719620453; darn=dpdk.org;
 h=references:in-reply-to:cc:to:from:subject:message-id:date:from:to
 :cc:subject:date:message-id:reply-to;
 bh=KUALOcWMYglrgI/lvDYRjGb4nC+x8pZ4PdS36x277H4=;
 b=G+o87XRBuDaW1Va6FEPyxv3ICpNsiVCQpqW1IFVxEMYWXv40m/KkFLOnmUREZSA8Lv
 iJFzY7PAZ7OOBAR84e0C9Vslc+fzlPxmd62yXVkqGvT52unOkMNpWtMsio2/+0FM3nEw
 D+lhoDpd1OdYt20UjKbaqwjJR6ilL0KKXngfY=
X-Google-DKIM-Signature: v=1; a=rsa-sha256; c=relaxed/relaxed;
 d=1e100.net; s=20230601; t=1719015653; x=1719620453;
 h=references:in-reply-to:cc:to:from:subject:message-id:date
 :x-gm-message-state:from:to:cc:subject:date:message-id:reply-to;
 bh=KUALOcWMYglrgI/lvDYRjGb4nC+x8pZ4PdS36x277H4=;
 b=FYomu9PjDEfNR/7fe8JOS8ovdCS/GLqydSrLGHwq0TkUDSMvyq+YCY6AC6LqSg2gfV
 VeUvv6plbSyAxzFqO6zzXvxJtpoN3U4mnQPeOktLc4l+1QCmAz6/kdErrvS1kJLKB9cH
 oTGa8JEt9/c5qtD0H7R1FVldII0FlENeA83OrUpR1/e8rWlZkG0CuwZirICzOYW4SzoZ
 7qAN+HXWX9Mmk/7cxQTPt2T09jEhYg8hpVIgbQP0EY/+DIz5XdPHgXYYrURvgik24yXT
 +50HqSizJsHus/qfyArriQJeVrvdRuhGpK9eAKSZraPDf9Eru/A3u4OW3MKhHViubQXx
 twsA==
X-Gm-Message-State: AOJu0YwrGmYf0N8ocHYlPpqko6QbLl7yPKBCzyj7tBHC6JKTHvobL2xc
 E3NaQ364Zs5hw3VgUFX/vJZ3jKs6BE2LEZFw8SlzZ2I3G2FmxbvWG7IZebUd9S4fIP0nS+6Bh8T
 eE6TfoIdIUcB2U5eFXdEbRanpPUuX7x7aVL974n5hm/Sy9MMaXwVS0tz5
X-Google-Smtp-Source: AGHT+IHsI9orYvtzCmFweQ4gLITULijoVW743KXwOHaWoUm/vF7aDozFzdW55meioNq0rTwngR18JYQOmE+5
X-Received: by 2002:a17:902:6805:b0:1f9:c8cc:9e0f with SMTP id
 d9443c01a7336-1f9c8cca23cmr53000805ad.18.1719015652753; 
 Fri, 21 Jun 2024 17:20:52 -0700 (PDT)
Received: from postal.iol.unh.edu (postal.iol.unh.edu.
 [2606:4100:3880:1234::84]) by smtp-relay.gmail.com with ESMTPS id
 d9443c01a7336-1f9eb320668sm210485ad.51.2024.06.21.17.20.52
 (version=TLS1_2 cipher=ECDHE-ECDSA-AES128-GCM-SHA256 bits=128/128);
 Fri, 21 Jun 2024 17:20:52 -0700 (PDT)
X-Relaying-Domain: iol.unh.edu
Date: Fri, 21 Jun 2024 17:20:52 -0700 (PDT)
Message-ID: <667618e4.170a0220.a171d.1710SMTPIN_ADDED_MISSING@mx.google.com>
Received: from [172.21.0.7] (unknown [172.18.0.240])
 by postal.iol.unh.edu (Postfix) with ESMTP id 2A218605C373;
 Fri, 21 Jun 2024 20:20:52 -0400 (EDT)
Subject: |SUCCESS| pw141485-141486 [PATCH] [v3,2/2] eventdev: add support for
From: dpdklab@iol.unh.edu
To: Test Report <test-report@dpdk.org>
Cc: dpdk-test-reports@iol.unh.edu
In-Reply-To: <20240621222408.583464-3-abdullah.sevincer@intel.com>
References: <20240621222408.583464-3-abdullah.sevincer@intel.com>
Content-Type: text/plain
X-BeenThere: test-report@dpdk.org
X-Mailman-Version: 2.1.29
Precedence: list
List-Id: automatic DPDK test reports <test-report.dpdk.org>
List-Unsubscribe: <https://mails.dpdk.org/options/test-report>,
 <mailto:test-report-request@dpdk.org?subject=unsubscribe>
List-Archive: <http://mails.dpdk.org/archives/test-report/>
List-Post: <mailto:test-report@dpdk.org>
List-Help: <mailto:test-report-request@dpdk.org?subject=help>
List-Subscribe: <https://mails.dpdk.org/listinfo/test-report>,
 <mailto:test-report-request@dpdk.org?subject=subscribe>
Errors-To: test-report-bounces@dpdk.org

Test-Label: iol-unit-arm64-testing
Test-Status: SUCCESS
http://dpdk.org/patch/141486

_Testing PASS_

Submitter: Abdullah Sevincer <abdullah.sevincer@intel.com>
Date: Friday, June 21 2024 22:24:08 
DPDK git baseline: Repo:dpdk
  Branch: master
  CommitID:4a44d97f0a52a76258c6a6cb6a713f4380a8ab1f

141485-141486 --> testing pass

Test environment and result as below:

+-----------------------------+---------------------------+----------------+--------------+------------------------------+
|         Environment         | cryptodev_sw_zuc_autotest | dpdk_unit_test | lpm_autotest | cryptodev_sw_snow3g_autotest |
+=============================+===========================+================+==============+==============================+
| Debian 12 (arm)             | PASS                      | PASS           | SKIPPED      | PASS                         |
+-----------------------------+---------------------------+----------------+--------------+------------------------------+
| Debian 11 (Buster) (ARM)    | SKIPPED                   | PASS           | SKIPPED      | SKIPPED                      |
+-----------------------------+---------------------------+----------------+--------------+------------------------------+
| 32-bit Ubuntu 20.04.4 (ARM) | SKIPPED                   | PASS           | SKIPPED      | SKIPPED                      |
+-----------------------------+---------------------------+----------------+--------------+------------------------------+
| CentOS Stream 9 (ARM)       | SKIPPED                   | PASS           | SKIPPED      | SKIPPED                      |
+-----------------------------+---------------------------+----------------+--------------+------------------------------+
| Fedora 38 (ARM)             | SKIPPED                   | PASS           | SKIPPED      | SKIPPED                      |
+-----------------------------+---------------------------+----------------+--------------+------------------------------+
| Fedora 39 (ARM)             | SKIPPED                   | PASS           | SKIPPED      | SKIPPED                      |
+-----------------------------+---------------------------+----------------+--------------+------------------------------+
| Fedora 40 (ARM)             | SKIPPED                   | PASS           | SKIPPED      | SKIPPED                      |
+-----------------------------+---------------------------+----------------+--------------+------------------------------+
| Fedora 38 (ARM Clang)       | SKIPPED                   | PASS           | SKIPPED      | SKIPPED                      |
+-----------------------------+---------------------------+----------------+--------------+------------------------------+
| Fedora 37 (ARM)             | SKIPPED                   | PASS           | SKIPPED      | SKIPPED                      |
+-----------------------------+---------------------------+----------------+--------------+------------------------------+
| Ubuntu 20.04 ARM SVE        | SKIPPED                   | SKIPPED        | PASS         | SKIPPED                      |
+-----------------------------+---------------------------+----------------+--------------+------------------------------+


Debian 12 (arm)
	Kernel: Container Host Kernel
	Compiler: gcc 12.2.0

Debian 11 (Buster) (ARM)
	Kernel: Container Host Kernel
	Compiler: gcc 10.2.1

32-bit Ubuntu 20.04.4 (ARM)
	Kernel: 5.4.0-155-generic aarch64
	Compiler: gcc 9.4

CentOS Stream 9 (ARM)
	Kernel: Container Host Kernel
	Compiler: gcc 11.4.1

Fedora 38 (ARM)
	Kernel: Depends on container host
	Compiler: gcc 13.2.1

Fedora 39 (ARM)
	Kernel: Depends on container host
	Compiler: gcc 13.2.1

Fedora 40 (ARM)
	Kernel: Depends on container host
	Compiler: gcc 14.1.1

Fedora 38 (ARM Clang)
	Kernel: Depends on container host
	Compiler: clang 16.0.6

Fedora 37 (ARM)
	Kernel: Depends on container host
	Compiler: gcc 12.3.1

Ubuntu 20.04 ARM SVE
	Kernel: 5.4.0-167-generic
	Compiler: gcc (Ubuntu 10.5.0-1ubuntu1~20.04) 10.5.0

To view detailed results, visit:
https://lab.dpdk.org/results/dashboard/patchsets/30275/

UNH-IOL DPDK Community Lab

To manage your email subscriptions, visit: 
https://lab.dpdk.org/results/dashboard/preferences/subscriptions/