From mboxrd@z Thu Jan  1 00:00:00 1970
Return-Path: <test-report-bounces@dpdk.org>
Received: from mails.dpdk.org (mails.dpdk.org [217.70.189.124])
	by inbox.dpdk.org (Postfix) with ESMTP id 885B2454C3
	for <public@inbox.dpdk.org>; Sat, 22 Jun 2024 03:18:17 +0200 (CEST)
Received: from mails.dpdk.org (localhost [127.0.0.1])
	by mails.dpdk.org (Postfix) with ESMTP id 7968C402DE;
	Sat, 22 Jun 2024 03:18:17 +0200 (CEST)
Received: from mail-pl1-f228.google.com (mail-pl1-f228.google.com
 [209.85.214.228])
 by mails.dpdk.org (Postfix) with ESMTP id AA3244025C
 for <test-report@dpdk.org>; Sat, 22 Jun 2024 03:18:16 +0200 (CEST)
Received: by mail-pl1-f228.google.com with SMTP id
 d9443c01a7336-1f4a0050b9aso21280585ad.2
 for <test-report@dpdk.org>; Fri, 21 Jun 2024 18:18:16 -0700 (PDT)
DKIM-Signature: v=1; a=rsa-sha256; c=relaxed/relaxed;
 d=iol.unh.edu; s=unh-iol; t=1719019096; x=1719623896; darn=dpdk.org;
 h=references:in-reply-to:cc:to:from:subject:message-id:date:from:to
 :cc:subject:date:message-id:reply-to;
 bh=G1noDz1exsrAcEICdBy2eeJoQTMdIuQx8XsmYhYve78=;
 b=S55qRA60fg83O3SV9Tvj+MY4A61BYz5bBoELej4IiqdKNZn22lak7wSjoFsAk9g2Qf
 H8QN5HhkZJyStDc66ga4VFQKQi+BPmorvBwGLnwrWv5pSnBX/+J3Uha2tG0J44ySigA+
 gyEfB/q/uKOuiOT/C8p3ir4VST/DRD/3Ly9aU=
X-Google-DKIM-Signature: v=1; a=rsa-sha256; c=relaxed/relaxed;
 d=1e100.net; s=20230601; t=1719019096; x=1719623896;
 h=references:in-reply-to:cc:to:from:subject:message-id:date
 :x-gm-message-state:from:to:cc:subject:date:message-id:reply-to;
 bh=G1noDz1exsrAcEICdBy2eeJoQTMdIuQx8XsmYhYve78=;
 b=bEEBk4dvt/78XzW1xI+tMZI1pM8t+CiW/X1YD4bLA0pzoBcdcpcpeZfcaTy6tEsxrT
 H1JGltPpxt1D06tsY8VH57y6pva7b53GaJQL9484ORXsbIYn9dOjASz3efepshi7XcDT
 pFXBhHTSKleCEtgsKd9qx639IiZxdqZnegmvuyKAuu7+GbTwRdTecWJyz3ikxpw8mkQF
 buihAeknDwGRzgFAjaC7irm8ZFHtWz8XG8EOEKvMGYV83XEnLioxIlpCk3K07jNWkNqf
 iZDQQBU2LAmsR6bsCiLRaosucr+fgnKatb/EKPWDJUsYMpMKGJyk4fGoveTaw/1UvGIi
 BsEw==
X-Gm-Message-State: AOJu0Yxy8yZF59RTjZXMSoyGe8lrxRholC5GKy97pHjNqkJLkzQJEik2
 tHkf0cxyRHI7LKDpFz9KdrRb2isOIyvsAuo8KLp+/03lCGNWB3tLSF9CaMQIOnbZ+BNFhrSU4AX
 4SJAc4ks8ie65itEHt5tvSlErM7qTgcWzWU2t7puSUBX+PEcQNgZmqGQG
X-Google-Smtp-Source: AGHT+IFfxh/oz+WMbL0iYTVXETVR8HsETUrLbfvVmojqp2LMrSjm0OC/r5ldQEyHPDm1CfwDhEugEwb+bisQ
X-Received: by 2002:a17:902:da8f:b0:1f9:9691:7b98 with SMTP id
 d9443c01a7336-1f9aa3aef4bmr115923605ad.12.1719019095819; 
 Fri, 21 Jun 2024 18:18:15 -0700 (PDT)
Received: from postal.iol.unh.edu (postal.iol.unh.edu.
 [2606:4100:3880:1234::84]) by smtp-relay.gmail.com with ESMTPS id
 d9443c01a7336-1f9eb3b3e9asm225345ad.93.2024.06.21.18.18.15
 (version=TLS1_2 cipher=ECDHE-ECDSA-AES128-GCM-SHA256 bits=128/128);
 Fri, 21 Jun 2024 18:18:15 -0700 (PDT)
X-Relaying-Domain: iol.unh.edu
Date: Fri, 21 Jun 2024 18:18:15 -0700 (PDT)
Message-ID: <66762657.170a0220.38b1f.1a51SMTPIN_ADDED_MISSING@mx.google.com>
Received: from [172.17.0.3] (unknown [172.18.0.217])
 by postal.iol.unh.edu (Postfix) with ESMTP id DEFE2605C373;
 Fri, 21 Jun 2024 21:18:14 -0400 (EDT)
Subject: |SUCCESS| pw141485-141486 [PATCH] [v3,2/2] eventdev: add support for
From: dpdklab@iol.unh.edu
To: Test Report <test-report@dpdk.org>
Cc: dpdk-test-reports@iol.unh.edu
In-Reply-To: <20240621222408.583464-3-abdullah.sevincer@intel.com>
References: <20240621222408.583464-3-abdullah.sevincer@intel.com>
Content-Type: text/plain
X-BeenThere: test-report@dpdk.org
X-Mailman-Version: 2.1.29
Precedence: list
List-Id: automatic DPDK test reports <test-report.dpdk.org>
List-Unsubscribe: <https://mails.dpdk.org/options/test-report>,
 <mailto:test-report-request@dpdk.org?subject=unsubscribe>
List-Archive: <http://mails.dpdk.org/archives/test-report/>
List-Post: <mailto:test-report@dpdk.org>
List-Help: <mailto:test-report-request@dpdk.org?subject=help>
List-Subscribe: <https://mails.dpdk.org/listinfo/test-report>,
 <mailto:test-report-request@dpdk.org?subject=subscribe>
Errors-To: test-report-bounces@dpdk.org

Test-Label: iol-compile-arm64-testing
Test-Status: SUCCESS
http://dpdk.org/patch/141486

_Testing PASS_

Submitter: Abdullah Sevincer <abdullah.sevincer@intel.com>
Date: Friday, June 21 2024 22:24:08 
DPDK git baseline: Repo:dpdk
  Branch: master
  CommitID:4a44d97f0a52a76258c6a6cb6a713f4380a8ab1f

141485-141486 --> testing pass

Test environment and result as below:

+----------------------------------------+--------------------+
|              Environment               | dpdk_meson_compile |
+========================================+====================+
| Ubuntu 20.04 ARM SVE                   | PASS               |
+----------------------------------------+--------------------+
| Debian 12 with MUSDK                   | PASS               |
+----------------------------------------+--------------------+
| Fedora 39 (ARM)                        | PASS               |
+----------------------------------------+--------------------+
| Fedora 38 (ARM)                        | PASS               |
+----------------------------------------+--------------------+
| Ubuntu 20.04 aarch32 GCC Cross Compile | PASS               |
+----------------------------------------+--------------------+
| Ubuntu 20.04 ARM Clang Cross Compile   | PASS               |
+----------------------------------------+--------------------+
| Fedora 37 (ARM)                        | PASS               |
+----------------------------------------+--------------------+
| RHEL9 (ARM)                            | PASS               |
+----------------------------------------+--------------------+
| Debian 11 (Buster) (ARM)               | PASS               |
+----------------------------------------+--------------------+
| Ubuntu 20.04 ARM GCC Cross Compile     | PASS               |
+----------------------------------------+--------------------+
| Fedora 40 (ARM Clang)                  | PASS               |
+----------------------------------------+--------------------+
| Ubuntu 24.04 (ARM)                     | PASS               |
+----------------------------------------+--------------------+
| Debian 12 (arm)                        | PASS               |
+----------------------------------------+--------------------+


Ubuntu 20.04 ARM SVE
	Kernel: 5.4.0-167-generic
	Compiler: gcc (Ubuntu 10.5.0-1ubuntu1~20.04) 10.5.0

Debian 12 with MUSDK
	Kernel: Container Host Kernel
	Compiler: gcc 12.2.0

Fedora 39 (ARM)
	Kernel: Depends on container host
	Compiler: gcc 13.2.1

Fedora 38 (ARM)
	Kernel: Depends on container host
	Compiler: gcc 13.2.1

Ubuntu 20.04 aarch32 GCC Cross Compile
	Kernel: 5.4.0-167-generic
	Compiler: gcc 9.4.0

Ubuntu 20.04 ARM Clang Cross Compile
	Kernel: 5.4.0-72-generic
	Compiler: clang 10.0.0-4ubuntu1

Fedora 37 (ARM)
	Kernel: Depends on container host
	Compiler: gcc 12.3.1

RHEL9 (ARM)
	Kernel: Depends on container host
	Compiler: gcc 11.4.1

Debian 11 (Buster) (ARM)
	Kernel: Container Host Kernel
	Compiler: gcc 10.2.1

Ubuntu 20.04 ARM GCC Cross Compile
	Kernel: 5.4.0-167-generic
	Compiler: aarch64-linux-gnu-gcc (Ubuntu 9.4.0-1ubuntu1~20.04.2) 9.4.0

Fedora 40 (ARM Clang)
	Kernel: Depends on container host
	Compiler: clang 18.1.6

Ubuntu 24.04 (ARM)
	Kernel: 5.4.0-167-generic
	Compiler: gcc 13.2.0

Debian 12 (arm)
	Kernel: Container Host Kernel
	Compiler: gcc 12.2.0

To view detailed results, visit:
https://lab.dpdk.org/results/dashboard/patchsets/30275/

UNH-IOL DPDK Community Lab

To manage your email subscriptions, visit: 
https://lab.dpdk.org/results/dashboard/preferences/subscriptions/