From mboxrd@z Thu Jan  1 00:00:00 1970
Return-Path: <test-report-bounces@dpdk.org>
Received: from mails.dpdk.org (mails.dpdk.org [217.70.189.124])
	by inbox.dpdk.org (Postfix) with ESMTP id 6D7F8454DF
	for <public@inbox.dpdk.org>; Mon, 24 Jun 2024 12:16:31 +0200 (CEST)
Received: from mails.dpdk.org (localhost [127.0.0.1])
	by mails.dpdk.org (Postfix) with ESMTP id 6A4F340609;
	Mon, 24 Jun 2024 12:16:31 +0200 (CEST)
Received: from mail-il1-f226.google.com (mail-il1-f226.google.com
 [209.85.166.226])
 by mails.dpdk.org (Postfix) with ESMTP id 3CBDF4026E
 for <test-report@dpdk.org>; Mon, 24 Jun 2024 12:16:19 +0200 (CEST)
Received: by mail-il1-f226.google.com with SMTP id
 e9e14a558f8ab-376517b9408so523805ab.0
 for <test-report@dpdk.org>; Mon, 24 Jun 2024 03:16:19 -0700 (PDT)
DKIM-Signature: v=1; a=rsa-sha256; c=relaxed/relaxed;
 d=iol.unh.edu; s=unh-iol; t=1719224178; x=1719828978; darn=dpdk.org;
 h=references:in-reply-to:cc:to:from:subject:message-id:date:from:to
 :cc:subject:date:message-id:reply-to;
 bh=/KyZIgLJHYavd6NMOqCv4ahweByzvZLBe0qwGRDpH9c=;
 b=YNtw4cF7b5L+co15LO5e+ZSbvsR5A2lp7lRgvAiZWLEC7Tu8PO/kIOverb8iqjQzwN
 Ub5//OFMfWd5NMtI/eASv/X4syJecEsFl0RXzvsp1n30PmMmIe7fkBNDtXAgSB/m+u60
 D2V1ou28MkqvjaV5z+GGbBGpewXLr74KhUxec=
X-Google-DKIM-Signature: v=1; a=rsa-sha256; c=relaxed/relaxed;
 d=1e100.net; s=20230601; t=1719224178; x=1719828978;
 h=references:in-reply-to:cc:to:from:subject:message-id:date
 :x-gm-message-state:from:to:cc:subject:date:message-id:reply-to;
 bh=/KyZIgLJHYavd6NMOqCv4ahweByzvZLBe0qwGRDpH9c=;
 b=jSGX09LU0iD7esHjabpjBJMNASnHLortrQZ46r9DkIsWgQiGTWIDJFq+L7/sdIiWQ6
 hMDWKAAVjLQMjHhjszF62EYVo6tIOwxJ1JLJJL8RtkTeo62wLCHUVSEsci2VtohiDqf3
 5/svuTvOzegdnkAG4COBPAMmblabDhJdaDL9c7K3Gav1ozGAZqOXvHIIuIsHqtowRuD4
 +4X9TlXIaMVD3a/ycC2TsSMa+CR4QIlt5ooG4smCvrFILX6SkXJbZraeIX4H5n8wkXfL
 iwy4Ohbyvp8kVOJvpRk5UFhfKuBXxN7JDAsP1perTQ+3TDt2bmlmSRepgdg4C/hSreGQ
 2lAg==
X-Gm-Message-State: AOJu0Yw9XfnHlWnZ6gzaVWbhdyPT45nzWyEc0vRwZOHR7mMZGowVWkA8
 5dvOhahDo5BR0FAIxmW2B2n/5kOzSEXUIK8SwvtEGjylZ1OSjW0MMkqshaFn2dPv6om5iCkYBB3
 Src7+G/st6KRfMuWRNyf+QEdE5Twh4ZcVmjCRB4Lf+wY9YncLmBxemXvV
X-Google-Smtp-Source: AGHT+IHlAKgxNOOFluAJjZzRdb9l/YrPGbeCUN9mr6u27a9JIiwqPyRevdCqY9004DYnI2Te5NXnpYjIXPhW
X-Received: by 2002:a05:6e02:218b:b0:375:ab88:b09d with SMTP id
 e9e14a558f8ab-3763b1c19bbmr58723075ab.18.1719224178631; 
 Mon, 24 Jun 2024 03:16:18 -0700 (PDT)
Received: from postal.iol.unh.edu (postal.iol.unh.edu.
 [2606:4100:3880:1234::84]) by smtp-relay.gmail.com with ESMTPS id
 e9e14a558f8ab-3762f3bcd48sm3626745ab.66.2024.06.24.03.16.18
 (version=TLS1_2 cipher=ECDHE-ECDSA-AES128-GCM-SHA256 bits=128/128);
 Mon, 24 Jun 2024 03:16:18 -0700 (PDT)
X-Relaying-Domain: iol.unh.edu
Date: Mon, 24 Jun 2024 03:16:18 -0700 (PDT)
Message-ID: <66794772.050a0220.dcbbe.b7c8SMTPIN_ADDED_MISSING@mx.google.com>
Received: from [172.21.0.6] (unknown [172.18.0.240])
 by postal.iol.unh.edu (Postfix) with ESMTP id 1FC3C605C373;
 Mon, 24 Jun 2024 06:16:18 -0400 (EDT)
Subject: |SUCCESS| pw141509-141510 [PATCH] [2/2] net/bonding: add command to 
From: dpdklab@iol.unh.edu
To: Test Report <test-report@dpdk.org>
Cc: dpdk-test-reports@iol.unh.edu
In-Reply-To: <20240624020355.3712965-3-chaoyong.he@corigine.com>
References: <20240624020355.3712965-3-chaoyong.he@corigine.com>
Content-Type: text/plain
X-BeenThere: test-report@dpdk.org
X-Mailman-Version: 2.1.29
Precedence: list
List-Id: automatic DPDK test reports <test-report.dpdk.org>
List-Unsubscribe: <https://mails.dpdk.org/options/test-report>,
 <mailto:test-report-request@dpdk.org?subject=unsubscribe>
List-Archive: <http://mails.dpdk.org/archives/test-report/>
List-Post: <mailto:test-report@dpdk.org>
List-Help: <mailto:test-report-request@dpdk.org?subject=help>
List-Subscribe: <https://mails.dpdk.org/listinfo/test-report>,
 <mailto:test-report-request@dpdk.org?subject=subscribe>
Errors-To: test-report-bounces@dpdk.org

Test-Label: iol-compile-amd64-testing
Test-Status: SUCCESS
http://dpdk.org/patch/141510

_Testing PASS_

Submitter: Chaoyong He <chaoyong.he@corigine.com>
Date: Monday, June 24 2024 02:03:55 
DPDK git baseline: Repo:dpdk
  Branch: master
  CommitID:fbba6db3640f9f623c29c452e1a6b057073e81d2

141509-141510 --> testing pass

Test environment and result as below:

+---------------------+--------------------+----------------------+-------------------+
|     Environment     | dpdk_meson_compile | dpdk_mingw64_compile | dpdk_msvc_compile |
+=====================+====================+======================+===================+
| FreeBSD 13.3        | PASS               | SKIPPED              | SKIPPED           |
+---------------------+--------------------+----------------------+-------------------+
| FreeBSD 14.1        | PASS               | SKIPPED              | SKIPPED           |
+---------------------+--------------------+----------------------+-------------------+
| Windows Server 2022 | PASS               | PASS                 | PASS              |
+---------------------+--------------------+----------------------+-------------------+
| Windows Server 2019 | PASS               | PASS                 | SKIPPED           |
+---------------------+--------------------+----------------------+-------------------+


FreeBSD 13.3
	Kernel: 13.3-RELEASE-p1
	Compiler: clang 17.0.6

FreeBSD 14.1
	Kernel: 14.1
	Compiler: clang 18.1.5

Windows Server 2022
	Kernel: 10.0.20348.2031
	Compiler: clang 15.0.7, gcc 8.1.0 (MinGW), and MSVC VS 17.9

Windows Server 2019
	Kernel: 10.0.17763
	Compiler: clang 14.0 and gcc 8.1.0 (MinGW)

To view detailed results, visit:
https://lab.dpdk.org/results/dashboard/patchsets/30282/

UNH-IOL DPDK Community Lab

To manage your email subscriptions, visit: 
https://lab.dpdk.org/results/dashboard/preferences/subscriptions/