From mboxrd@z Thu Jan  1 00:00:00 1970
Return-Path: <test-report-bounces@dpdk.org>
Received: from mails.dpdk.org (mails.dpdk.org [217.70.189.124])
	by inbox.dpdk.org (Postfix) with ESMTP id 92507454DF
	for <public@inbox.dpdk.org>; Mon, 24 Jun 2024 12:17:17 +0200 (CEST)
Received: from mails.dpdk.org (localhost [127.0.0.1])
	by mails.dpdk.org (Postfix) with ESMTP id 8F67F40609;
	Mon, 24 Jun 2024 12:17:17 +0200 (CEST)
Received: from mail-yb1-f228.google.com (mail-yb1-f228.google.com
 [209.85.219.228])
 by mails.dpdk.org (Postfix) with ESMTP id ECFD34026E
 for <test-report@dpdk.org>; Mon, 24 Jun 2024 12:17:16 +0200 (CEST)
Received: by mail-yb1-f228.google.com with SMTP id
 3f1490d57ef6-dfe41f7852cso4129308276.1
 for <test-report@dpdk.org>; Mon, 24 Jun 2024 03:17:16 -0700 (PDT)
DKIM-Signature: v=1; a=rsa-sha256; c=relaxed/relaxed;
 d=iol.unh.edu; s=unh-iol; t=1719224236; x=1719829036; darn=dpdk.org;
 h=references:in-reply-to:cc:to:from:subject:message-id:date:from:to
 :cc:subject:date:message-id:reply-to;
 bh=/KyZIgLJHYavd6NMOqCv4ahweByzvZLBe0qwGRDpH9c=;
 b=iIxlwUB1Gx/3zJNyYoSuNY+Pxz2f2youbw72pfzHiWSg8g1FSPJbQJSojcuhzK7/Zt
 mMRbxMtLrcEWu0bEh+eKPlNP8AkJT/ZyY1Vl5E2Crrd20cGaT5s6C8cubv56uzu1+Umd
 IVSnX2akMWS3wIoo4MIP3Bauber0UPnPHjdWg=
X-Google-DKIM-Signature: v=1; a=rsa-sha256; c=relaxed/relaxed;
 d=1e100.net; s=20230601; t=1719224236; x=1719829036;
 h=references:in-reply-to:cc:to:from:subject:message-id:date
 :x-gm-message-state:from:to:cc:subject:date:message-id:reply-to;
 bh=/KyZIgLJHYavd6NMOqCv4ahweByzvZLBe0qwGRDpH9c=;
 b=tNZyvTmNV5Tif6xy88PMF/TXFhbE3b/j/LLwsj5eRPEl+2wPiy9qUz6gNo6RoPa4Qe
 cbarUu2HRgFpHwOFu3FBSDXPvVENYvPafcIT44Z3171uGDY9Qkqb0zOn2IwOnIltBPdE
 1yjZrFlQQc1B+IQjKO3NyRXJ+rI19mY9i2XdDWRMddFExk7u700KazMuKSr2yALABFrr
 zK5JYFtaOGaSvdIstnj6dO6h0HIi9WZOgOKZ1oFgbmSkZOcXKAPOQo37EQqrNi9tVjfv
 jjmshRgWF4sM7czzc7tXzT7lL6BIDqCDtggWBYCH9Ku+q9vRvcPodRNZDycg0JFe3NRT
 nFZA==
X-Gm-Message-State: AOJu0Yz3Nan9xERQmHxzOAHuNQ4wz6KBP4an4L1Gko0AzACvzsHC2/Ws
 3JXnaktzm7D0JiSoSX4ZwAj5rxm7mdng2OtRGS6B1ok2eWE9735BpmHQgbc7RRdAUd9giariKSL
 jWhxmtwLU26oiQtQ8dESoIJrvqtoI3oq4Ls4rph6k
X-Google-Smtp-Source: AGHT+IHhvqnaKua3acuZpc00DdhhGCmt4yHq4HGpNUCMpI8BkB3bXfbLMZs6f1E20R09bl8n6g/iu/34RB41
X-Received: by 2002:a25:2b89:0:b0:dff:af1:8976 with SMTP id
 3f1490d57ef6-e030404eec7mr4149964276.64.1719224236375; 
 Mon, 24 Jun 2024 03:17:16 -0700 (PDT)
Received: from postal.iol.unh.edu (postal.iol.unh.edu. [132.177.123.84])
 by smtp-relay.gmail.com with ESMTPS id
 3f1490d57ef6-e02e65c5726sm279123276.28.2024.06.24.03.17.16
 (version=TLS1_2 cipher=ECDHE-ECDSA-AES128-GCM-SHA256 bits=128/128);
 Mon, 24 Jun 2024 03:17:16 -0700 (PDT)
X-Relaying-Domain: iol.unh.edu
Date: Mon, 24 Jun 2024 03:17:16 -0700 (PDT)
Message-ID: <667947ac.050a0220.adeed.4cb9SMTPIN_ADDED_MISSING@mx.google.com>
Received: from [172.21.0.6] (unknown [172.18.0.240])
 by postal.iol.unh.edu (Postfix) with ESMTP id 003B2605C373;
 Mon, 24 Jun 2024 06:17:15 -0400 (EDT)
Subject: |SUCCESS| pw141509-141510 [PATCH] [2/2] net/bonding: add command to 
From: dpdklab@iol.unh.edu
To: Test Report <test-report@dpdk.org>
Cc: dpdk-test-reports@iol.unh.edu
In-Reply-To: <20240624020355.3712965-3-chaoyong.he@corigine.com>
References: <20240624020355.3712965-3-chaoyong.he@corigine.com>
Content-Type: text/plain
X-BeenThere: test-report@dpdk.org
X-Mailman-Version: 2.1.29
Precedence: list
List-Id: automatic DPDK test reports <test-report.dpdk.org>
List-Unsubscribe: <https://mails.dpdk.org/options/test-report>,
 <mailto:test-report-request@dpdk.org?subject=unsubscribe>
List-Archive: <http://mails.dpdk.org/archives/test-report/>
List-Post: <mailto:test-report@dpdk.org>
List-Help: <mailto:test-report-request@dpdk.org?subject=help>
List-Subscribe: <https://mails.dpdk.org/listinfo/test-report>,
 <mailto:test-report-request@dpdk.org?subject=subscribe>
Errors-To: test-report-bounces@dpdk.org

Test-Label: iol-compile-amd64-testing
Test-Status: SUCCESS
http://dpdk.org/patch/141510

_Testing PASS_

Submitter: Chaoyong He <chaoyong.he@corigine.com>
Date: Monday, June 24 2024 02:03:55 
DPDK git baseline: Repo:dpdk
  Branch: master
  CommitID:fbba6db3640f9f623c29c452e1a6b057073e81d2

141509-141510 --> testing pass

Test environment and result as below:

+---------------------+--------------------+----------------------+-------------------+
|     Environment     | dpdk_meson_compile | dpdk_mingw64_compile | dpdk_msvc_compile |
+=====================+====================+======================+===================+
| FreeBSD 13.3        | PASS               | SKIPPED              | SKIPPED           |
+---------------------+--------------------+----------------------+-------------------+
| FreeBSD 14.1        | PASS               | SKIPPED              | SKIPPED           |
+---------------------+--------------------+----------------------+-------------------+
| Windows Server 2022 | PASS               | PASS                 | PASS              |
+---------------------+--------------------+----------------------+-------------------+
| Windows Server 2019 | PASS               | PASS                 | SKIPPED           |
+---------------------+--------------------+----------------------+-------------------+


FreeBSD 13.3
	Kernel: 13.3-RELEASE-p1
	Compiler: clang 17.0.6

FreeBSD 14.1
	Kernel: 14.1
	Compiler: clang 18.1.5

Windows Server 2022
	Kernel: 10.0.20348.2031
	Compiler: clang 15.0.7, gcc 8.1.0 (MinGW), and MSVC VS 17.9

Windows Server 2019
	Kernel: 10.0.17763
	Compiler: clang 14.0 and gcc 8.1.0 (MinGW)

To view detailed results, visit:
https://lab.dpdk.org/results/dashboard/patchsets/30282/

UNH-IOL DPDK Community Lab

To manage your email subscriptions, visit: 
https://lab.dpdk.org/results/dashboard/preferences/subscriptions/