From mboxrd@z Thu Jan  1 00:00:00 1970
Return-Path: <test-report-bounces@dpdk.org>
Received: from mails.dpdk.org (mails.dpdk.org [217.70.189.124])
	by inbox.dpdk.org (Postfix) with ESMTP id 3CB3B454DF
	for <public@inbox.dpdk.org>; Mon, 24 Jun 2024 12:56:47 +0200 (CEST)
Received: from mails.dpdk.org (localhost [127.0.0.1])
	by mails.dpdk.org (Postfix) with ESMTP id 3AA824069D;
	Mon, 24 Jun 2024 12:56:47 +0200 (CEST)
Received: from mail-io1-f98.google.com (mail-io1-f98.google.com
 [209.85.166.98]) by mails.dpdk.org (Postfix) with ESMTP id 6B2FA4069D
 for <test-report@dpdk.org>; Mon, 24 Jun 2024 12:56:46 +0200 (CEST)
Received: by mail-io1-f98.google.com with SMTP id
 ca18e2360f4ac-7eb7a2f062cso161755339f.0
 for <test-report@dpdk.org>; Mon, 24 Jun 2024 03:56:46 -0700 (PDT)
DKIM-Signature: v=1; a=rsa-sha256; c=relaxed/relaxed;
 d=iol.unh.edu; s=unh-iol; t=1719226606; x=1719831406; darn=dpdk.org;
 h=references:in-reply-to:cc:to:from:subject:message-id:date:from:to
 :cc:subject:date:message-id:reply-to;
 bh=rOVue6TgCJyw7jnhTBB1YqMhRN7OEx8QdCM6y/Zewbk=;
 b=iCFbtZunsEKXqPtItvRNdcMFo2c7+7FdMb+/NhZRb+qX3+/GLISUE+ZnTv+kRkxfzg
 OVpfEtz5FOK5gyrrWncQ9B5pLhOS9ONv7GH0nQIpTRGrtSKHFbCTibEtbqLNEXPqTSJK
 tqQ33GAAdIPxsRnyivUYPy63gMqpmTueWUEqg=
X-Google-DKIM-Signature: v=1; a=rsa-sha256; c=relaxed/relaxed;
 d=1e100.net; s=20230601; t=1719226606; x=1719831406;
 h=references:in-reply-to:cc:to:from:subject:message-id:date
 :x-gm-message-state:from:to:cc:subject:date:message-id:reply-to;
 bh=rOVue6TgCJyw7jnhTBB1YqMhRN7OEx8QdCM6y/Zewbk=;
 b=TgTDByYrKp0U07oHzYOfFBGPUWj6OknF4pq/3VJ3ddtoUIEORP9RirSUFTbvNdJeNu
 aacD2WX2rmCAby1GDqjHlnaeVgnLDVrgN6xXRtHNMoIig7mMNbsrXai1cyngjGfeKMeC
 NqLHN5Y5oRiEVR3a+F6DiBNkxZsYyUWNoZC1VmPWyrgQgH+KJW4rOCVgaGcEn1EZg6UP
 wZKqMOHzm3CPD0m8n0seC9ZwHLkSTqOOS6lgxbigWNS15IsPMS8wTiZRfLMgmbd2sRgd
 vIxRNdCGEqLZceFq9xar8QLhAWK1dVppY0jZglCrcPJDpBaA9UDCFvEajojwH0ySJvyb
 xS9Q==
X-Gm-Message-State: AOJu0Yxp+ve+nyZ4lx2m6gGtRMfrUmaaXN8MDjC5w5q1hX1lUs4HAEmJ
 QtprvKZ06ijDv2c/5s61eCIP+7A1Okjz9OWeqiBkTGased0D2PuYFxUGnlsIVKM8P8CLcuII3wg
 MGTLXvxv96D6eBhQc+i2GSPwra3z3H3g4oTLLG68TZt9vIyVvM5TRjaGg
X-Google-Smtp-Source: AGHT+IGlz8XSoW+jJw0Gb+/sxz7i/Ic+02cIuZAbQtvsSW+2HEfabr8A6IvC+rj7UKJbFQ9nbp30/9KQHvDN
X-Received: by 2002:a05:6602:2dc3:b0:7eb:906e:e3d4 with SMTP id
 ca18e2360f4ac-7f3a7532be9mr504210339f.7.1719226605752; 
 Mon, 24 Jun 2024 03:56:45 -0700 (PDT)
Received: from postal.iol.unh.edu (postal.iol.unh.edu.
 [2606:4100:3880:1234::84]) by smtp-relay.gmail.com with ESMTPS id
 ca18e2360f4ac-7f39202e432sm15352439f.22.2024.06.24.03.56.45
 (version=TLS1_2 cipher=ECDHE-ECDSA-AES128-GCM-SHA256 bits=128/128);
 Mon, 24 Jun 2024 03:56:45 -0700 (PDT)
X-Relaying-Domain: iol.unh.edu
Date: Mon, 24 Jun 2024 03:56:45 -0700 (PDT)
Message-ID: <667950ed.050a0220.ea25f.b948SMTPIN_ADDED_MISSING@mx.google.com>
Received: from [172.21.0.6] (unknown [172.18.0.240])
 by postal.iol.unh.edu (Postfix) with ESMTP id 3619C605C373;
 Mon, 24 Jun 2024 06:56:45 -0400 (EDT)
Subject: |SUCCESS| pw141509-141510 [PATCH] [2/2] net/bonding: add command to 
From: dpdklab@iol.unh.edu
To: Test Report <test-report@dpdk.org>
Cc: dpdk-test-reports@iol.unh.edu
In-Reply-To: <20240624020355.3712965-3-chaoyong.he@corigine.com>
References: <20240624020355.3712965-3-chaoyong.he@corigine.com>
Content-Type: text/plain
X-BeenThere: test-report@dpdk.org
X-Mailman-Version: 2.1.29
Precedence: list
List-Id: automatic DPDK test reports <test-report.dpdk.org>
List-Unsubscribe: <https://mails.dpdk.org/options/test-report>,
 <mailto:test-report-request@dpdk.org?subject=unsubscribe>
List-Archive: <http://mails.dpdk.org/archives/test-report/>
List-Post: <mailto:test-report@dpdk.org>
List-Help: <mailto:test-report-request@dpdk.org?subject=help>
List-Subscribe: <https://mails.dpdk.org/listinfo/test-report>,
 <mailto:test-report-request@dpdk.org?subject=subscribe>
Errors-To: test-report-bounces@dpdk.org

Test-Label: iol-compile-arm64-testing
Test-Status: SUCCESS
http://dpdk.org/patch/141510

_Testing PASS_

Submitter: Chaoyong He <chaoyong.he@corigine.com>
Date: Monday, June 24 2024 02:03:55 
DPDK git baseline: Repo:dpdk
  Branch: master
  CommitID:fbba6db3640f9f623c29c452e1a6b057073e81d2

141509-141510 --> testing pass

Test environment and result as below:

+-----------------------+--------------------+
|      Environment      | dpdk_meson_compile |
+=======================+====================+
| Ubuntu 20.04 ARM SVE  | PASS               |
+-----------------------+--------------------+
| Debian 12 with MUSDK  | PASS               |
+-----------------------+--------------------+
| RHEL9 (ARM)           | PASS               |
+-----------------------+--------------------+
| Fedora 37 (ARM)       | PASS               |
+-----------------------+--------------------+
| Fedora 38 (ARM)       | PASS               |
+-----------------------+--------------------+
| Ubuntu 24.04 (ARM)    | PASS               |
+-----------------------+--------------------+
| Fedora 39 (ARM)       | PASS               |
+-----------------------+--------------------+
| Ubuntu 22.04 (ARM)    | PASS               |
+-----------------------+--------------------+
| CentOS Stream 9 (ARM) | PASS               |
+-----------------------+--------------------+
| Ubuntu 20.04 (ARM)    | PASS               |
+-----------------------+--------------------+
| Debian 12 (arm)       | PASS               |
+-----------------------+--------------------+


Ubuntu 20.04 ARM SVE
	Kernel: 5.4.0-167-generic
	Compiler: gcc (Ubuntu 10.5.0-1ubuntu1~20.04) 10.5.0

Debian 12 with MUSDK
	Kernel: Container Host Kernel
	Compiler: gcc 12.2.0

RHEL9 (ARM)
	Kernel: Depends on container host
	Compiler: gcc 11.4.1

Fedora 37 (ARM)
	Kernel: Depends on container host
	Compiler: gcc 12.3.1

Fedora 38 (ARM)
	Kernel: Depends on container host
	Compiler: gcc 13.2.1

Ubuntu 24.04 (ARM)
	Kernel: 5.4.0-167-generic
	Compiler: gcc 13.2.0

Fedora 39 (ARM)
	Kernel: Depends on container host
	Compiler: gcc 13.2.1

Ubuntu 22.04 (ARM)
	Kernel: Container Host Kernel
	Compiler: gcc 11.4.0

CentOS Stream 9 (ARM)
	Kernel: Container Host Kernel
	Compiler: gcc 11.4.1

Ubuntu 20.04 (ARM)
	Kernel: Container Host Kernel
	Compiler: gcc 9.4.0

Debian 12 (arm)
	Kernel: Container Host Kernel
	Compiler: gcc 12.2.0

To view detailed results, visit:
https://lab.dpdk.org/results/dashboard/patchsets/30282/

UNH-IOL DPDK Community Lab

To manage your email subscriptions, visit: 
https://lab.dpdk.org/results/dashboard/preferences/subscriptions/