From mboxrd@z Thu Jan  1 00:00:00 1970
Return-Path: <test-report-bounces@dpdk.org>
Received: from mails.dpdk.org (mails.dpdk.org [217.70.189.124])
	by inbox.dpdk.org (Postfix) with ESMTP id DD6A2454DF
	for <public@inbox.dpdk.org>; Mon, 24 Jun 2024 13:41:15 +0200 (CEST)
Received: from mails.dpdk.org (localhost [127.0.0.1])
	by mails.dpdk.org (Postfix) with ESMTP id DB95A4026E;
	Mon, 24 Jun 2024 13:41:15 +0200 (CEST)
Received: from mail-oa1-f99.google.com (mail-oa1-f99.google.com
 [209.85.160.99]) by mails.dpdk.org (Postfix) with ESMTP id 7A2A04026C
 for <test-report@dpdk.org>; Mon, 24 Jun 2024 13:41:02 +0200 (CEST)
Received: by mail-oa1-f99.google.com with SMTP id
 586e51a60fabf-25c9ef2701fso2408483fac.1
 for <test-report@dpdk.org>; Mon, 24 Jun 2024 04:41:02 -0700 (PDT)
DKIM-Signature: v=1; a=rsa-sha256; c=relaxed/relaxed;
 d=iol.unh.edu; s=unh-iol; t=1719229262; x=1719834062; darn=dpdk.org;
 h=references:in-reply-to:cc:to:from:subject:message-id:date:from:to
 :cc:subject:date:message-id:reply-to;
 bh=jQX3W6corH3wyEGf+ZEZKh3KtbeyBQrFBE1QuqfLR6Q=;
 b=Nd28SMarkyI35ZWXCUWDHWZP8LZJrPp8x1x5DeJvjlgQXIH/aLM6aJMzfT5B2wGOxz
 L29vbLNZw1qBUAT5XP0laAToZHeyEwdaoL7Yr8IkJ+bTJOlgPqtdejs5jZvG0RjpNg2p
 ikYwYUqHSfC4ogD9nT5rGLRbCy7eB0LzeeLXc=
X-Google-DKIM-Signature: v=1; a=rsa-sha256; c=relaxed/relaxed;
 d=1e100.net; s=20230601; t=1719229262; x=1719834062;
 h=references:in-reply-to:cc:to:from:subject:message-id:date
 :x-gm-message-state:from:to:cc:subject:date:message-id:reply-to;
 bh=jQX3W6corH3wyEGf+ZEZKh3KtbeyBQrFBE1QuqfLR6Q=;
 b=Q18sGK3KcndLBvawWHUyNJgXPWByN2Os4UAHuxhwpwVV2medyNcB5Znqrwex27C/YK
 FdaTUL1KKK1A+BTWP1kwwoJpCAy1zbxAe9E5bc93gPkcP/OHo2pHyU/nLlA4I28qotvl
 Ft55caFABDrU2dgGAZPo6EhuLmKtM93TcS3JX6qk8TsOIw1vwEL02tfnKvsvM6dlGBlw
 yXlo2sKb/HhaYlKu2swKseSvVpqpK5g9G6KFEpljQx/QAy+qLhQkUYPJSsOZ3POXDi3S
 DuWmXd89Xs+XJcayz0Nc6d2qc+gR0G0Tfj3ZXU8idZy+bOm1mTsCfGo6uiXQ7i/kClSw
 0a/A==
X-Gm-Message-State: AOJu0YwXKAsZtJ7KsNjEdtKB+I7OsJ/z7pN0poiYTeQLzqeI7qFjo7bw
 pd2b+NRdr28oPgUYekA7GvjQ4pZdxwyQCPgf6MvI1lIZiIJmZaVJNauVOaf/YVFc4MbzKvx7TWm
 Ls7cbEebCQkZVS2a89leEYV5n4YcT3PFIz1UL5Tvd
X-Google-Smtp-Source: AGHT+IHXKbBNWBN35NT+VEUKOKcJGLOFfJq29BVZwAerzOvlmYxA4IZVuXcjwEuGJDhEui17laVWCOaUw6sf
X-Received: by 2002:a05:6870:9a21:b0:23c:1f34:730 with SMTP id
 586e51a60fabf-25d06ebbca0mr4153678fac.49.1719229261766; 
 Mon, 24 Jun 2024 04:41:01 -0700 (PDT)
Received: from postal.iol.unh.edu (postal.iol.unh.edu. [132.177.123.84])
 by smtp-relay.gmail.com with ESMTPS id
 586e51a60fabf-25cd494c932sm90091fac.1.2024.06.24.04.41.01
 (version=TLS1_2 cipher=ECDHE-ECDSA-AES128-GCM-SHA256 bits=128/128);
 Mon, 24 Jun 2024 04:41:01 -0700 (PDT)
X-Relaying-Domain: iol.unh.edu
Date: Mon, 24 Jun 2024 04:41:01 -0700 (PDT)
Message-ID: <66795b4d.050a0220.84e6e.6dbcSMTPIN_ADDED_MISSING@mx.google.com>
Received: from [172.21.0.8] (unknown [172.18.0.240])
 by postal.iol.unh.edu (Postfix) with ESMTP id 3F08E605C373;
 Mon, 24 Jun 2024 07:41:00 -0400 (EDT)
Subject: |SUCCESS| pw141509-141510 [PATCH] [2/2] net/bonding: add command to 
From: dpdklab@iol.unh.edu
To: Test Report <test-report@dpdk.org>
Cc: dpdk-test-reports@iol.unh.edu
In-Reply-To: <20240624020355.3712965-3-chaoyong.he@corigine.com>
References: <20240624020355.3712965-3-chaoyong.he@corigine.com>
Content-Type: text/plain
X-BeenThere: test-report@dpdk.org
X-Mailman-Version: 2.1.29
Precedence: list
List-Id: automatic DPDK test reports <test-report.dpdk.org>
List-Unsubscribe: <https://mails.dpdk.org/options/test-report>,
 <mailto:test-report-request@dpdk.org?subject=unsubscribe>
List-Archive: <http://mails.dpdk.org/archives/test-report/>
List-Post: <mailto:test-report@dpdk.org>
List-Help: <mailto:test-report-request@dpdk.org?subject=help>
List-Subscribe: <https://mails.dpdk.org/listinfo/test-report>,
 <mailto:test-report-request@dpdk.org?subject=subscribe>
Errors-To: test-report-bounces@dpdk.org

Test-Label: iol-compile-arm64-testing
Test-Status: SUCCESS
http://dpdk.org/patch/141510

_Testing PASS_

Submitter: Chaoyong He <chaoyong.he@corigine.com>
Date: Monday, June 24 2024 02:03:55 
DPDK git baseline: Repo:dpdk
  Branch: master
  CommitID:fbba6db3640f9f623c29c452e1a6b057073e81d2

141509-141510 --> testing pass

Test environment and result as below:

+----------------------------------------+--------------------+
|              Environment               | dpdk_meson_compile |
+========================================+====================+
| Ubuntu 20.04 ARM SVE                   | PASS               |
+----------------------------------------+--------------------+
| Debian 12 with MUSDK                   | PASS               |
+----------------------------------------+--------------------+
| RHEL9 (ARM)                            | PASS               |
+----------------------------------------+--------------------+
| Fedora 37 (ARM)                        | PASS               |
+----------------------------------------+--------------------+
| Fedora 38 (ARM)                        | PASS               |
+----------------------------------------+--------------------+
| Ubuntu 24.04 (ARM)                     | PASS               |
+----------------------------------------+--------------------+
| Fedora 39 (ARM)                        | PASS               |
+----------------------------------------+--------------------+
| Ubuntu 22.04 (ARM)                     | PASS               |
+----------------------------------------+--------------------+
| CentOS Stream 9 (ARM)                  | PASS               |
+----------------------------------------+--------------------+
| Ubuntu 20.04 (ARM)                     | PASS               |
+----------------------------------------+--------------------+
| Debian 12 (arm)                        | PASS               |
+----------------------------------------+--------------------+
| Ubuntu 20.04 aarch32 GCC Cross Compile | PASS               |
+----------------------------------------+--------------------+
| Fedora 40 (ARM Clang)                  | PASS               |
+----------------------------------------+--------------------+
| Ubuntu 20.04 ARM Clang Cross Compile   | PASS               |
+----------------------------------------+--------------------+
| Fedora 39 (ARM Clang)                  | PASS               |
+----------------------------------------+--------------------+


Ubuntu 20.04 ARM SVE
	Kernel: 5.4.0-167-generic
	Compiler: gcc (Ubuntu 10.5.0-1ubuntu1~20.04) 10.5.0

Debian 12 with MUSDK
	Kernel: Container Host Kernel
	Compiler: gcc 12.2.0

RHEL9 (ARM)
	Kernel: Depends on container host
	Compiler: gcc 11.4.1

Fedora 37 (ARM)
	Kernel: Depends on container host
	Compiler: gcc 12.3.1

Fedora 38 (ARM)
	Kernel: Depends on container host
	Compiler: gcc 13.2.1

Ubuntu 24.04 (ARM)
	Kernel: 5.4.0-167-generic
	Compiler: gcc 13.2.0

Fedora 39 (ARM)
	Kernel: Depends on container host
	Compiler: gcc 13.2.1

Ubuntu 22.04 (ARM)
	Kernel: Container Host Kernel
	Compiler: gcc 11.4.0

CentOS Stream 9 (ARM)
	Kernel: Container Host Kernel
	Compiler: gcc 11.4.1

Ubuntu 20.04 (ARM)
	Kernel: Container Host Kernel
	Compiler: gcc 9.4.0

Debian 12 (arm)
	Kernel: Container Host Kernel
	Compiler: gcc 12.2.0

Ubuntu 20.04 aarch32 GCC Cross Compile
	Kernel: 5.4.0-167-generic
	Compiler: gcc 9.4.0

Fedora 40 (ARM Clang)
	Kernel: Depends on container host
	Compiler: clang 18.1.6

Ubuntu 20.04 ARM Clang Cross Compile
	Kernel: 5.4.0-72-generic
	Compiler: clang 10.0.0-4ubuntu1

Fedora 39 (ARM Clang)
	Kernel: Depends on container host
	Compiler: clang 17.0.6

To view detailed results, visit:
https://lab.dpdk.org/results/dashboard/patchsets/30282/

UNH-IOL DPDK Community Lab

To manage your email subscriptions, visit: 
https://lab.dpdk.org/results/dashboard/preferences/subscriptions/