From mboxrd@z Thu Jan  1 00:00:00 1970
Return-Path: <test-report-bounces@dpdk.org>
Received: from mails.dpdk.org (mails.dpdk.org [217.70.189.124])
	by inbox.dpdk.org (Postfix) with ESMTP id EC461454E1
	for <public@inbox.dpdk.org>; Mon, 24 Jun 2024 15:18:58 +0200 (CEST)
Received: from mails.dpdk.org (localhost [127.0.0.1])
	by mails.dpdk.org (Postfix) with ESMTP id EA1B74026E;
	Mon, 24 Jun 2024 15:18:58 +0200 (CEST)
Received: from mail-oa1-f100.google.com (mail-oa1-f100.google.com
 [209.85.160.100])
 by mails.dpdk.org (Postfix) with ESMTP id DEBF24026C
 for <test-report@dpdk.org>; Mon, 24 Jun 2024 15:18:56 +0200 (CEST)
Received: by mail-oa1-f100.google.com with SMTP id
 586e51a60fabf-2598a57b2c1so2113286fac.0
 for <test-report@dpdk.org>; Mon, 24 Jun 2024 06:18:56 -0700 (PDT)
DKIM-Signature: v=1; a=rsa-sha256; c=relaxed/relaxed;
 d=iol.unh.edu; s=unh-iol; t=1719235136; x=1719839936; darn=dpdk.org;
 h=references:in-reply-to:cc:to:from:subject:message-id:date:from:to
 :cc:subject:date:message-id:reply-to;
 bh=adycAtBGF8Gy4AvToxw52Fgfh0DNQhwQCgvTJlDeAB8=;
 b=IAMJxtmMPSJyrcl7XK0uXbVWF2XZNiK+ACUMUMsBkJOJPrWh7rrpsKoXYThIzkRu6z
 M48MSC/l08M4e9hUPS8lWuVAuTCEt91tiM4c60Wm6WkdNLjJf6YSK9WzCK36Dn9bKwcf
 dJWPXPNyyI0QfcwsHGcM/QZwm4pYHH36Z7jXA=
X-Google-DKIM-Signature: v=1; a=rsa-sha256; c=relaxed/relaxed;
 d=1e100.net; s=20230601; t=1719235136; x=1719839936;
 h=references:in-reply-to:cc:to:from:subject:message-id:date
 :x-gm-message-state:from:to:cc:subject:date:message-id:reply-to;
 bh=adycAtBGF8Gy4AvToxw52Fgfh0DNQhwQCgvTJlDeAB8=;
 b=JyY09iHM6/RFzIEMueWB+Ice1gd0pPJiFy0YKlby8LRMFNvF3rcQ0haaGqRNVFio5o
 Vl2M2BYrd0q9jfuvS0r5KO7Pzs5suib17dYCJo/HPyN9SUHLmhxjRVaAAgy97FDLfeJ1
 kLMcAzw33DO98tkfIUB7Z2Lx19M6iD/f2I4wPHxzowPMn3fX7Qy1vry0Eoay4JYmibwZ
 WdsDFfywbMmiTiz4JfDEEGVjWbyrI+P3k0CzjCoPo7+MZVKmg1tOXJC3xZaTt4HFv4Cq
 N2VWE+xEW0Ur5Zd6rQVJBx8GWcpDwtG0CCgs8zB8aXfN69sMy/a1OE5gzNZvkn8Y5NA+
 /lsA==
X-Gm-Message-State: AOJu0YykRVicw4V/s+YELJH8/G9o40nqhYaqF1Jp6sC6u45pWxFoR8WH
 we/U5iyI3+NdPP3eNxmpZQuMoJGbYyZgHiQJY1NIsnhAy5LMbs1ly9/wh752YEH362PFCL9vsEV
 Hw0NVPMNe6xQ8EVWefvwRHxlIjFqNhvB4CcZrxk6FIBUDJPnTd0FX1PdP
X-Google-Smtp-Source: AGHT+IGKnH01D6V83W4ZnfEG9XotSaVA91qcMOgNTQzECJW3x0uacZvbsP1ZE7nFDungwEg5iNf3pxx6GONM
X-Received: by 2002:a05:6870:d204:b0:254:ccac:133c with SMTP id
 586e51a60fabf-25d06e5a2d9mr5294379fac.41.1719235136283; 
 Mon, 24 Jun 2024 06:18:56 -0700 (PDT)
Received: from postal.iol.unh.edu (postal.iol.unh.edu.
 [2606:4100:3880:1234::84]) by smtp-relay.gmail.com with ESMTPS id
 d75a77b69052e-444c2b871c1sm1162071cf.15.2024.06.24.06.18.56
 (version=TLS1_2 cipher=ECDHE-ECDSA-AES128-GCM-SHA256 bits=128/128);
 Mon, 24 Jun 2024 06:18:56 -0700 (PDT)
X-Relaying-Domain: iol.unh.edu
Date: Mon, 24 Jun 2024 06:18:56 -0700 (PDT)
Message-ID: <66797240.050a0220.a4f17.844fSMTPIN_ADDED_MISSING@mx.google.com>
Received: from [172.21.0.7] (unknown [172.18.0.240])
 by postal.iol.unh.edu (Postfix) with ESMTP id B5C4C605C380;
 Mon, 24 Jun 2024 09:18:55 -0400 (EDT)
Subject: |SUCCESS| pw141512-141523 [PATCH] [v2,12/12] crypto/cnxk: enable dua
From: dpdklab@iol.unh.edu
To: Test Report <test-report@dpdk.org>
Cc: dpdk-test-reports@iol.unh.edu
In-Reply-To: <20240624062401.4143606-13-asasidharan@marvell.com>
References: <20240624062401.4143606-13-asasidharan@marvell.com>
Content-Type: text/plain
X-BeenThere: test-report@dpdk.org
X-Mailman-Version: 2.1.29
Precedence: list
List-Id: automatic DPDK test reports <test-report.dpdk.org>
List-Unsubscribe: <https://mails.dpdk.org/options/test-report>,
 <mailto:test-report-request@dpdk.org?subject=unsubscribe>
List-Archive: <http://mails.dpdk.org/archives/test-report/>
List-Post: <mailto:test-report@dpdk.org>
List-Help: <mailto:test-report-request@dpdk.org?subject=help>
List-Subscribe: <https://mails.dpdk.org/listinfo/test-report>,
 <mailto:test-report-request@dpdk.org?subject=subscribe>
Errors-To: test-report-bounces@dpdk.org

Test-Label: iol-abi-testing
Test-Status: SUCCESS
http://dpdk.org/patch/141523

_Testing PASS_

Submitter: Aakash Sasidharan <asasidharan@marvell.com>
Date: Monday, June 24 2024 06:24:01 
DPDK git baseline: Repo:dpdk
  Branch: master
  CommitID:4a44d97f0a52a76258c6a6cb6a713f4380a8ab1f

141512-141523 --> testing pass

Test environment and result as below:

+------------------+----------+
|   Environment    | abi_test |
+==================+==========+
| CentOS Stream 8  | PASS     |
+------------------+----------+
| Fedora 37        | PASS     |
+------------------+----------+
| Debian Bullseye  | PASS     |
+------------------+----------+
| CentOS Stream 9  | PASS     |
+------------------+----------+
| Fedora 38        | PASS     |
+------------------+----------+
| Debian 12        | PASS     |
+------------------+----------+
| Ubuntu 22.04     | PASS     |
+------------------+----------+
| RHEL8            | PASS     |
+------------------+----------+
| Fedora 39        | PASS     |
+------------------+----------+
| openSUSE Leap 15 | PASS     |
+------------------+----------+
| Fedora 40        | PASS     |
+------------------+----------+
| RHEL9            | PASS     |
+------------------+----------+
| Ubuntu 24.04     | PASS     |
+------------------+----------+


CentOS Stream 8
	Kernel: 5.4.0-167-generic
	Compiler: gcc 8.5.0 20210514

Fedora 37
	Kernel: Depends on container host system
	Compiler: gcc 12.3.1

Debian Bullseye
	Kernel: 5.4.0-167-generic
	Compiler: gcc 10.2.1-6

CentOS Stream 9
	Kernel: 5.4.0-167-generic
	Compiler: gcc 11.4.1 20230605

Fedora 38
	Kernel: Depends on container host
	Compiler: clang 16.0.6

Debian 12
	Kernel: Container Host Kernel
	Compiler: gcc 12.2.0

Ubuntu 22.04
	Kernel: 5.4.0-167-generic
	Compiler: gcc 11.4.0

RHEL8
	Kernel: 5.4.0-167-generic
	Compiler: gcc 8.5.0 20210514 (Red Hat 8.5.0-20)

Fedora 39
	Kernel: Depends on container host
	Compiler: gcc 13.2.1

openSUSE Leap 15
	Kernel: 5.4.0-167-generic
	Compiler: gcc 7.5.0

Fedora 40
	Kernel: Depends on container host
	Compiler: clang 18.1.6

RHEL9
	Kernel: Depends on container host
	Compiler: gcc 11.4.1

Ubuntu 24.04
	Kernel: 5.4.0-167-generic
	Compiler: gcc 13.2.0

To view detailed results, visit:
https://lab.dpdk.org/results/dashboard/patchsets/30284/

UNH-IOL DPDK Community Lab

To manage your email subscriptions, visit: 
https://lab.dpdk.org/results/dashboard/preferences/subscriptions/