From mboxrd@z Thu Jan  1 00:00:00 1970
Return-Path: <test-report-bounces@dpdk.org>
Received: from mails.dpdk.org (mails.dpdk.org [217.70.189.124])
	by inbox.dpdk.org (Postfix) with ESMTP id DBD48454E1
	for <public@inbox.dpdk.org>; Mon, 24 Jun 2024 15:23:45 +0200 (CEST)
Received: from mails.dpdk.org (localhost [127.0.0.1])
	by mails.dpdk.org (Postfix) with ESMTP id D81624026E;
	Mon, 24 Jun 2024 15:23:45 +0200 (CEST)
Received: from mail-qv1-f97.google.com (mail-qv1-f97.google.com
 [209.85.219.97]) by mails.dpdk.org (Postfix) with ESMTP id 520EC4026C
 for <test-report@dpdk.org>; Mon, 24 Jun 2024 15:23:44 +0200 (CEST)
Received: by mail-qv1-f97.google.com with SMTP id
 6a1803df08f44-6b556d6689dso2065106d6.1
 for <test-report@dpdk.org>; Mon, 24 Jun 2024 06:23:44 -0700 (PDT)
DKIM-Signature: v=1; a=rsa-sha256; c=relaxed/relaxed;
 d=iol.unh.edu; s=unh-iol; t=1719235423; x=1719840223; darn=dpdk.org;
 h=references:in-reply-to:cc:to:from:subject:message-id:date:from:to
 :cc:subject:date:message-id:reply-to;
 bh=c/ZaovXy71w2Z1COlf0hc605lONoMYNgE73aTeteTGk=;
 b=U2y64Q5ndEO8TLwndHA68JYddwmYCOkRvD4WUjft8S45l+Dc9e7tP/2jlgBuDfdm/K
 oB+CGBgf4FxU/gemCO994sA/C71va6vrzMzVX281PpJBe0P0UNldKZ/7yxxo3o0BmJkB
 DGzl7Qibp91+cy3lVwOkIRxmYMD+cBiMx0fSs=
X-Google-DKIM-Signature: v=1; a=rsa-sha256; c=relaxed/relaxed;
 d=1e100.net; s=20230601; t=1719235423; x=1719840223;
 h=references:in-reply-to:cc:to:from:subject:message-id:date
 :x-gm-message-state:from:to:cc:subject:date:message-id:reply-to;
 bh=c/ZaovXy71w2Z1COlf0hc605lONoMYNgE73aTeteTGk=;
 b=O3xAUVXbFOeOz6vEMSN8EJJ+OZtKzf0bZY+uRyzY8IwPpYQ9NEKugmSmHXIOzneS8Z
 hOPyu89pzOqaBLG/kuWhYj09q3Jh0BsIHX8a5qc42AInP6xswcDQfzNQK3eo2Sb/KJY8
 dKWVY5PRwvmtJOiBagYtd89+916I56+4INWGNu6SsoYx/fw6X8QbeF4RuOZ8hzkdQjqX
 aQxbKLdDzFe7XXJ5YwVGt2YnljZv4AVJaMO0zt/Vfuo79Clw/Gwl63PJkzLNKyUh1VOh
 sLBK+hNZ6SG2I4/OV/KI2Pm7yZdecnhmdi8Z4ErSKBApZlv+OA3qsYZsPAQ+2ezqOy8/
 glcQ==
X-Gm-Message-State: AOJu0YxKFTglf3kpDMD9iCtwDS6W0vtLnvejqz3JDPZAFGIEP0gqlB8Q
 kuChbQ+t3ec3+7J5vIoRPO8hrBaD0q5ynx2MiSTRMaLyDKItERAKzRqi1bqcs37F1daNwSxYj/G
 F1TiDM1uVuxgriWCpkQqIqqFP1+9wkRcp1JxDrxS3sP5Pj/HHZyb7PZ2O
X-Google-Smtp-Source: AGHT+IHF5jnvlSth+U720M/BFoYGOW5fADS9Hxm3cQBerMk2Jm17fg7dKT8UEUu5M549kjIESzb2r0irx0p/
X-Received: by 2002:a0c:e34b:0:b0:6b0:77da:3ab6 with SMTP id
 6a1803df08f44-6b54099f72fmr41330846d6.12.1719235423525; 
 Mon, 24 Jun 2024 06:23:43 -0700 (PDT)
Received: from postal.iol.unh.edu (postal.iol.unh.edu.
 [2606:4100:3880:1234::84]) by smtp-relay.gmail.com with ESMTPS id
 6a1803df08f44-6b51edcbf69sm3221836d6.65.2024.06.24.06.23.43
 (version=TLS1_2 cipher=ECDHE-ECDSA-AES128-GCM-SHA256 bits=128/128);
 Mon, 24 Jun 2024 06:23:43 -0700 (PDT)
X-Relaying-Domain: iol.unh.edu
Date: Mon, 24 Jun 2024 06:23:43 -0700 (PDT)
Message-ID: <6679735f.050a0220.4e59d.7dffSMTPIN_ADDED_MISSING@mx.google.com>
Received: from [172.21.0.6] (unknown [172.18.0.240])
 by postal.iol.unh.edu (Postfix) with ESMTP id 3452A605C380;
 Mon, 24 Jun 2024 09:23:43 -0400 (EDT)
Subject: |SUCCESS| pw141512-141523 [PATCH] [v2,12/12] crypto/cnxk: enable dua
From: dpdklab@iol.unh.edu
To: Test Report <test-report@dpdk.org>
Cc: dpdk-test-reports@iol.unh.edu
In-Reply-To: <20240624062401.4143606-13-asasidharan@marvell.com>
References: <20240624062401.4143606-13-asasidharan@marvell.com>
Content-Type: text/plain
X-BeenThere: test-report@dpdk.org
X-Mailman-Version: 2.1.29
Precedence: list
List-Id: automatic DPDK test reports <test-report.dpdk.org>
List-Unsubscribe: <https://mails.dpdk.org/options/test-report>,
 <mailto:test-report-request@dpdk.org?subject=unsubscribe>
List-Archive: <http://mails.dpdk.org/archives/test-report/>
List-Post: <mailto:test-report@dpdk.org>
List-Help: <mailto:test-report-request@dpdk.org?subject=help>
List-Subscribe: <https://mails.dpdk.org/listinfo/test-report>,
 <mailto:test-report-request@dpdk.org?subject=subscribe>
Errors-To: test-report-bounces@dpdk.org

Test-Label: iol-unit-arm64-testing
Test-Status: SUCCESS
http://dpdk.org/patch/141523

_Testing PASS_

Submitter: Aakash Sasidharan <asasidharan@marvell.com>
Date: Monday, June 24 2024 06:24:01 
DPDK git baseline: Repo:dpdk
  Branch: master
  CommitID:4a44d97f0a52a76258c6a6cb6a713f4380a8ab1f

141512-141523 --> testing pass

Test environment and result as below:

+-----------------------------+------------------------------+----------------+---------------------------+--------------+
|         Environment         | cryptodev_sw_snow3g_autotest | dpdk_unit_test | cryptodev_sw_zuc_autotest | lpm_autotest |
+=============================+==============================+================+===========================+==============+
| Debian 12 (arm)             | PASS                         | PASS           | PASS                      | SKIPPED      |
+-----------------------------+------------------------------+----------------+---------------------------+--------------+
| 32-bit Ubuntu 20.04.4 (ARM) | SKIPPED                      | PASS           | SKIPPED                   | SKIPPED      |
+-----------------------------+------------------------------+----------------+---------------------------+--------------+
| Debian 11 (Buster) (ARM)    | SKIPPED                      | PASS           | SKIPPED                   | SKIPPED      |
+-----------------------------+------------------------------+----------------+---------------------------+--------------+
| Fedora 37 (ARM)             | SKIPPED                      | PASS           | SKIPPED                   | SKIPPED      |
+-----------------------------+------------------------------+----------------+---------------------------+--------------+
| CentOS Stream 9 (ARM)       | SKIPPED                      | PASS           | SKIPPED                   | SKIPPED      |
+-----------------------------+------------------------------+----------------+---------------------------+--------------+
| Fedora 39 (ARM)             | SKIPPED                      | PASS           | SKIPPED                   | SKIPPED      |
+-----------------------------+------------------------------+----------------+---------------------------+--------------+
| Fedora 38 (ARM Clang)       | SKIPPED                      | PASS           | SKIPPED                   | SKIPPED      |
+-----------------------------+------------------------------+----------------+---------------------------+--------------+
| Fedora 40 (ARM Clang)       | SKIPPED                      | PASS           | SKIPPED                   | SKIPPED      |
+-----------------------------+------------------------------+----------------+---------------------------+--------------+
| Fedora 40 (ARM)             | SKIPPED                      | PASS           | SKIPPED                   | SKIPPED      |
+-----------------------------+------------------------------+----------------+---------------------------+--------------+
| Ubuntu 20.04 ARM SVE        | SKIPPED                      | SKIPPED        | SKIPPED                   | PASS         |
+-----------------------------+------------------------------+----------------+---------------------------+--------------+


Debian 12 (arm)
	Kernel: Container Host Kernel
	Compiler: gcc 12.2.0

32-bit Ubuntu 20.04.4 (ARM)
	Kernel: 5.4.0-155-generic aarch64
	Compiler: gcc 9.4

Debian 11 (Buster) (ARM)
	Kernel: Container Host Kernel
	Compiler: gcc 10.2.1

Fedora 37 (ARM)
	Kernel: Depends on container host
	Compiler: gcc 12.3.1

CentOS Stream 9 (ARM)
	Kernel: Container Host Kernel
	Compiler: gcc 11.4.1

Fedora 39 (ARM)
	Kernel: Depends on container host
	Compiler: gcc 13.2.1

Fedora 38 (ARM Clang)
	Kernel: Depends on container host
	Compiler: clang 16.0.6

Fedora 40 (ARM Clang)
	Kernel: Depends on container host
	Compiler: clang 18.1.6

Fedora 40 (ARM)
	Kernel: Depends on container host
	Compiler: gcc 14.1.1

Ubuntu 20.04 ARM SVE
	Kernel: 5.4.0-167-generic
	Compiler: gcc (Ubuntu 10.5.0-1ubuntu1~20.04) 10.5.0

To view detailed results, visit:
https://lab.dpdk.org/results/dashboard/patchsets/30284/

UNH-IOL DPDK Community Lab

To manage your email subscriptions, visit: 
https://lab.dpdk.org/results/dashboard/preferences/subscriptions/