From mboxrd@z Thu Jan  1 00:00:00 1970
Return-Path: <test-report-bounces@dpdk.org>
Received: from mails.dpdk.org (mails.dpdk.org [217.70.189.124])
	by inbox.dpdk.org (Postfix) with ESMTP id 80920454E2
	for <public@inbox.dpdk.org>; Mon, 24 Jun 2024 16:11:03 +0200 (CEST)
Received: from mails.dpdk.org (localhost [127.0.0.1])
	by mails.dpdk.org (Postfix) with ESMTP id 7EC6840E0C;
	Mon, 24 Jun 2024 16:11:03 +0200 (CEST)
Received: from mail-yw1-f225.google.com (mail-yw1-f225.google.com
 [209.85.128.225])
 by mails.dpdk.org (Postfix) with ESMTP id 6EF3A4065B
 for <test-report@dpdk.org>; Mon, 24 Jun 2024 16:11:02 +0200 (CEST)
Received: by mail-yw1-f225.google.com with SMTP id
 00721157ae682-6325b04c275so43360787b3.3
 for <test-report@dpdk.org>; Mon, 24 Jun 2024 07:11:02 -0700 (PDT)
DKIM-Signature: v=1; a=rsa-sha256; c=relaxed/relaxed;
 d=iol.unh.edu; s=unh-iol; t=1719238262; x=1719843062; darn=dpdk.org;
 h=references:in-reply-to:cc:to:from:subject:message-id:date:from:to
 :cc:subject:date:message-id:reply-to;
 bh=PiR6+arRwe+AS9QckoxUPDvAfi5h16Ub9X3GR5TZgUw=;
 b=GpZtuhfa+46AVUxBKwD7aCeuHqeXzYaQhQVYT75GhHCdFLCm3A/QOjCrDu0KK2A0y4
 BEjCexC1ePytSFABILfLwESLTwyWz6g+q7xKy2pJG7UXeu1eCM8jqQaYrtFTKlmvrug5
 GyeGhLjH1H7wPEOFnA1UU0vqA8o18LQG/7roQ=
X-Google-DKIM-Signature: v=1; a=rsa-sha256; c=relaxed/relaxed;
 d=1e100.net; s=20230601; t=1719238262; x=1719843062;
 h=references:in-reply-to:cc:to:from:subject:message-id:date
 :x-gm-message-state:from:to:cc:subject:date:message-id:reply-to;
 bh=PiR6+arRwe+AS9QckoxUPDvAfi5h16Ub9X3GR5TZgUw=;
 b=Cda4KIETCgdJ1Q+IpxAfficAXFsv080CNYAa+j51tPMsRXC3REJ0m+v9DkboF2dQ9u
 3qJ8S0sD4t/ybPPR6moZNhP+fouLfCCXccpEHjAFaHikYxtNsckLS771OfTc6350b7rS
 GDo7+Zrp+Q6s4dYwAcJR58NGgn7UW9Tyb/5CU3ZFrUm0jf+q1D3M0j7gxwfgbj+1IKK1
 BL+DdVAm0MA3pNg9FvOIyLFFgxfav78BrGhSKtiI2rp2e1jAkgVKhGU9CB8wNmXMbFYb
 FChMtjg5vgs7Mo5UtPLSUG9lHT0EfIyVVYVxWxZULPgz1Mbh7JIj/cXm4JUgHvgVbes7
 L85g==
X-Gm-Message-State: AOJu0YwtL8QBoo0XZNUpRk78yccG/bw0Bnbx6v15xGJuOCJEGNlJ43IU
 ZD/15svlpdJTdrx4z6fDPGiXPCUmDggC3LzXVXZWqiet1vg09t/AG/bEunDN7Gs/jNwZv2EvPuh
 iFpD2SOb/EmoyeDUXb0gE+e+5i0jalbh0NXN1eXXKdYejKioYVQW/Ustd
X-Google-Smtp-Source: AGHT+IFywH8h2hQIEnVbXFPlKEhBumpflCz8pA+CtcasXlrGSRn5UkCE5SkIsJjn57bmBk1kp6NKHoT3yacf
X-Received: by 2002:a0d:eb97:0:b0:61b:349c:817 with SMTP id
 00721157ae682-643aa7948a8mr43599347b3.12.1719238261824; 
 Mon, 24 Jun 2024 07:11:01 -0700 (PDT)
Received: from postal.iol.unh.edu (postal.iol.unh.edu.
 [2606:4100:3880:1234::84]) by smtp-relay.gmail.com with ESMTPS id
 00721157ae682-63f125a3f70sm2759107b3.39.2024.06.24.07.11.01
 (version=TLS1_2 cipher=ECDHE-ECDSA-AES128-GCM-SHA256 bits=128/128);
 Mon, 24 Jun 2024 07:11:01 -0700 (PDT)
X-Relaying-Domain: iol.unh.edu
Date: Mon, 24 Jun 2024 07:11:01 -0700 (PDT)
Message-ID: <66797e75.050a0220.8d247.570cSMTPIN_ADDED_MISSING@mx.google.com>
Received: from [172.21.0.6] (unknown [172.18.0.240])
 by postal.iol.unh.edu (Postfix) with ESMTP id 7467E605C380;
 Mon, 24 Jun 2024 10:11:01 -0400 (EDT)
Subject: |SUCCESS| pw141512-141523 [PATCH] [v2,12/12] crypto/cnxk: enable dua
From: dpdklab@iol.unh.edu
To: Test Report <test-report@dpdk.org>
Cc: dpdk-test-reports@iol.unh.edu
In-Reply-To: <20240624062401.4143606-13-asasidharan@marvell.com>
References: <20240624062401.4143606-13-asasidharan@marvell.com>
Content-Type: text/plain
X-BeenThere: test-report@dpdk.org
X-Mailman-Version: 2.1.29
Precedence: list
List-Id: automatic DPDK test reports <test-report.dpdk.org>
List-Unsubscribe: <https://mails.dpdk.org/options/test-report>,
 <mailto:test-report-request@dpdk.org?subject=unsubscribe>
List-Archive: <http://mails.dpdk.org/archives/test-report/>
List-Post: <mailto:test-report@dpdk.org>
List-Help: <mailto:test-report-request@dpdk.org?subject=help>
List-Subscribe: <https://mails.dpdk.org/listinfo/test-report>,
 <mailto:test-report-request@dpdk.org?subject=subscribe>
Errors-To: test-report-bounces@dpdk.org

Test-Label: iol-unit-amd64-testing
Test-Status: SUCCESS
http://dpdk.org/patch/141523

_Testing PASS_

Submitter: Aakash Sasidharan <asasidharan@marvell.com>
Date: Monday, June 24 2024 06:24:01 
DPDK git baseline: Repo:dpdk
  Branch: master
  CommitID:4a44d97f0a52a76258c6a6cb6a713f4380a8ab1f

141512-141523 --> testing pass

Test environment and result as below:

+---------------------+----------------+
|     Environment     | dpdk_unit_test |
+=====================+================+
| CentOS Stream 8     | PASS           |
+---------------------+----------------+
| CentOS Stream 9     | PASS           |
+---------------------+----------------+
| Debian Bullseye     | PASS           |
+---------------------+----------------+
| Debian 12           | PASS           |
+---------------------+----------------+
| Fedora 37           | PASS           |
+---------------------+----------------+
| Fedora 38           | PASS           |
+---------------------+----------------+
| Fedora 39           | PASS           |
+---------------------+----------------+
| Windows Server 2019 | PASS           |
+---------------------+----------------+
| Fedora 40           | PASS           |
+---------------------+----------------+
| Ubuntu 22.04        | PASS           |
+---------------------+----------------+
| Ubuntu 20.04        | PASS           |
+---------------------+----------------+
| openSUSE Leap 15    | PASS           |
+---------------------+----------------+
| RHEL8               | PASS           |
+---------------------+----------------+
| RHEL9               | PASS           |
+---------------------+----------------+
| Ubuntu 24.04        | PASS           |
+---------------------+----------------+


CentOS Stream 8
	Kernel: 5.4.0-167-generic
	Compiler: gcc 8.5.0 20210514

CentOS Stream 9
	Kernel: 5.4.0-167-generic
	Compiler: gcc 11.4.1 20230605

Debian Bullseye
	Kernel: 5.4.0-167-generic
	Compiler: gcc 10.2.1-6

Debian 12
	Kernel: Container Host Kernel
	Compiler: gcc 12.2.0

Fedora 37
	Kernel: Depends on container host system
	Compiler: gcc 12.3.1

Fedora 38
	Kernel: Depends on container host
	Compiler: clang 16.0.6

Fedora 39
	Kernel: Depends on container host
	Compiler: gcc 13.2.1

Windows Server 2019
	Kernel: 10.0.17763
	Compiler: clang 14.0 and gcc 8.1.0 (MinGW)

Fedora 40
	Kernel: Depends on container host
	Compiler: gcc 14.1.1

Ubuntu 22.04
	Kernel: 5.4.0-167-generic
	Compiler: gcc 11.4.0

Ubuntu 20.04
	Kernel: 5.4.0-167-generic
	Compiler: gcc 9.4.0-1ubuntu1~20.04.1

openSUSE Leap 15
	Kernel: 5.4.0-167-generic
	Compiler: gcc 7.5.0

RHEL8
	Kernel: 5.4.0-167-generic
	Compiler: gcc 8.5.0 20210514 (Red Hat 8.5.0-20)

RHEL9
	Kernel: Depends on container host
	Compiler: gcc 11.4.1

Ubuntu 24.04
	Kernel: 5.4.0-167-generic
	Compiler: gcc 13.2.0

To view detailed results, visit:
https://lab.dpdk.org/results/dashboard/patchsets/30284/

UNH-IOL DPDK Community Lab

To manage your email subscriptions, visit: 
https://lab.dpdk.org/results/dashboard/preferences/subscriptions/