From mboxrd@z Thu Jan  1 00:00:00 1970
Return-Path: <test-report-bounces@dpdk.org>
Received: from mails.dpdk.org (mails.dpdk.org [217.70.189.124])
	by inbox.dpdk.org (Postfix) with ESMTP id BD623454E2
	for <public@inbox.dpdk.org>; Mon, 24 Jun 2024 16:41:04 +0200 (CEST)
Received: from mails.dpdk.org (localhost [127.0.0.1])
	by mails.dpdk.org (Postfix) with ESMTP id AD4E340A6E;
	Mon, 24 Jun 2024 16:41:04 +0200 (CEST)
Received: from mail-yw1-f228.google.com (mail-yw1-f228.google.com
 [209.85.128.228])
 by mails.dpdk.org (Postfix) with ESMTP id 7BDCB40653
 for <test-report@dpdk.org>; Mon, 24 Jun 2024 16:41:03 +0200 (CEST)
Received: by mail-yw1-f228.google.com with SMTP id
 00721157ae682-63bb0ff142cso42607227b3.3
 for <test-report@dpdk.org>; Mon, 24 Jun 2024 07:41:03 -0700 (PDT)
DKIM-Signature: v=1; a=rsa-sha256; c=relaxed/relaxed;
 d=iol.unh.edu; s=unh-iol; t=1719240063; x=1719844863; darn=dpdk.org;
 h=references:in-reply-to:cc:to:from:subject:message-id:date:from:to
 :cc:subject:date:message-id:reply-to;
 bh=XolAFykFzBWLnCT8Tx6Uf4uK0TZVjGkTVrG9uB+uGe8=;
 b=At0nYKeC8wP7tc1eAJkLBeC+KKqX3qoPhMKQxSsjfMK1E6SiwnQs6dcRCjbF7GK3N6
 XxOS01tMpTD9NpOaWwaObkEO0zp2BYpObF+4rB/Vc64c37w9/cP4KEtJOWDI9EgP77h3
 dJ4MZoVIuiMT798Pst5uuBNAkYAy+98bHiM40=
X-Google-DKIM-Signature: v=1; a=rsa-sha256; c=relaxed/relaxed;
 d=1e100.net; s=20230601; t=1719240063; x=1719844863;
 h=references:in-reply-to:cc:to:from:subject:message-id:date
 :x-gm-message-state:from:to:cc:subject:date:message-id:reply-to;
 bh=XolAFykFzBWLnCT8Tx6Uf4uK0TZVjGkTVrG9uB+uGe8=;
 b=TMDunIzzThn/PeGvdjUuZQzupS+Wo/ZpSqcEj7bMqcIomdq+DKAZti+dzOc7NY0UPD
 I2T/5+rpH5hIZWGYkwH73djgtxQWgeJ5taJzh67x3RBkbL1/bf67CFOYPhaN+4DfXubV
 vnaTlVQKAPvXS+GDFQSihjvogo+ZtlEE8WYKRN2u2vi2+NDpTJygm8VGBdo4q00Jn659
 YVzpptITzbhBtotch7jcVaPSnZF34vLIaYApzhNzzWykxkfWsUfC55/FLLMgizOzDhD4
 msKPspU6segrSBwBYRNIgz8tqRc/UfeolhLCBfN5jY3uJ8DyIcnvwtRDFqsExCOd+Zx1
 IR7Q==
X-Gm-Message-State: AOJu0Yz5Hk0NVl7tXuG+2Lw2IktW8pcNHkDAQDuuFMUZNK3w6BUNQ5Yg
 DwRUHtzaOHHvB6qCd1aOvAudPFjIZdTA4bYlKoVBVltq+PWL6YbhdblT9C7vHZ9ghKjLIOqsCYC
 gYqi0Kfu2LHwJAD/Tv2R9H/4ur4d9fsZrl+UMileeyz5HbvAcX0nMzCWV
X-Google-Smtp-Source: AGHT+IFQ5/+pL3/9QYD3olj3nGXMxf6XyXKUB4OIwU/GnnCMaxNBTpeW3879maqCdjkwWTMLTofyDclgGn53
X-Received: by 2002:a81:92c2:0:b0:632:d12d:9378 with SMTP id
 00721157ae682-6429877c122mr49461237b3.11.1719240062875; 
 Mon, 24 Jun 2024 07:41:02 -0700 (PDT)
Received: from postal.iol.unh.edu (postal.iol.unh.edu.
 [2606:4100:3880:1234::84]) by smtp-relay.gmail.com with ESMTPS id
 00721157ae682-63f14c25816sm2783217b3.55.2024.06.24.07.41.02
 (version=TLS1_2 cipher=ECDHE-ECDSA-AES128-GCM-SHA256 bits=128/128);
 Mon, 24 Jun 2024 07:41:02 -0700 (PDT)
X-Relaying-Domain: iol.unh.edu
Date: Mon, 24 Jun 2024 07:41:02 -0700 (PDT)
Message-ID: <6679857e.050a0220.a0381.47d5SMTPIN_ADDED_MISSING@mx.google.com>
Received: from [172.21.0.6] (unknown [172.18.0.240])
 by postal.iol.unh.edu (Postfix) with ESMTP id 806E8605C380;
 Mon, 24 Jun 2024 10:41:02 -0400 (EDT)
Subject: |SUCCESS| pw141512-141523 [PATCH] [v2,12/12] crypto/cnxk: enable dua
From: dpdklab@iol.unh.edu
To: Test Report <test-report@dpdk.org>
Cc: dpdk-test-reports@iol.unh.edu
In-Reply-To: <20240624062401.4143606-13-asasidharan@marvell.com>
References: <20240624062401.4143606-13-asasidharan@marvell.com>
Content-Type: text/plain
X-BeenThere: test-report@dpdk.org
X-Mailman-Version: 2.1.29
Precedence: list
List-Id: automatic DPDK test reports <test-report.dpdk.org>
List-Unsubscribe: <https://mails.dpdk.org/options/test-report>,
 <mailto:test-report-request@dpdk.org?subject=unsubscribe>
List-Archive: <http://mails.dpdk.org/archives/test-report/>
List-Post: <mailto:test-report@dpdk.org>
List-Help: <mailto:test-report-request@dpdk.org?subject=help>
List-Subscribe: <https://mails.dpdk.org/listinfo/test-report>,
 <mailto:test-report-request@dpdk.org?subject=subscribe>
Errors-To: test-report-bounces@dpdk.org

Test-Label: iol-unit-amd64-testing
Test-Status: SUCCESS
http://dpdk.org/patch/141523

_Testing PASS_

Submitter: Aakash Sasidharan <asasidharan@marvell.com>
Date: Monday, June 24 2024 06:24:01 
DPDK git baseline: Repo:dpdk
  Branch: master
  CommitID:4a44d97f0a52a76258c6a6cb6a713f4380a8ab1f

141512-141523 --> testing pass

Test environment and result as below:

+---------------------+----------------+
|     Environment     | dpdk_unit_test |
+=====================+================+
| CentOS Stream 8     | PASS           |
+---------------------+----------------+
| CentOS Stream 9     | PASS           |
+---------------------+----------------+
| Debian Bullseye     | PASS           |
+---------------------+----------------+
| Debian 12           | PASS           |
+---------------------+----------------+
| Fedora 37           | PASS           |
+---------------------+----------------+
| Fedora 38           | PASS           |
+---------------------+----------------+
| Fedora 39           | PASS           |
+---------------------+----------------+
| Windows Server 2019 | PASS           |
+---------------------+----------------+
| Fedora 40           | PASS           |
+---------------------+----------------+
| Ubuntu 22.04        | PASS           |
+---------------------+----------------+
| Ubuntu 20.04        | PASS           |
+---------------------+----------------+
| openSUSE Leap 15    | PASS           |
+---------------------+----------------+
| RHEL8               | PASS           |
+---------------------+----------------+
| RHEL9               | PASS           |
+---------------------+----------------+
| Ubuntu 24.04        | PASS           |
+---------------------+----------------+
| Windows Server 2022 | PASS           |
+---------------------+----------------+


CentOS Stream 8
	Kernel: 5.4.0-167-generic
	Compiler: gcc 8.5.0 20210514

CentOS Stream 9
	Kernel: 5.4.0-167-generic
	Compiler: gcc 11.4.1 20230605

Debian Bullseye
	Kernel: 5.4.0-167-generic
	Compiler: gcc 10.2.1-6

Debian 12
	Kernel: Container Host Kernel
	Compiler: gcc 12.2.0

Fedora 37
	Kernel: Depends on container host system
	Compiler: gcc 12.3.1

Fedora 38
	Kernel: Depends on container host
	Compiler: clang 16.0.6

Fedora 39
	Kernel: Depends on container host
	Compiler: gcc 13.2.1

Windows Server 2019
	Kernel: 10.0.17763
	Compiler: clang 14.0 and gcc 8.1.0 (MinGW)

Fedora 40
	Kernel: Depends on container host
	Compiler: gcc 14.1.1

Ubuntu 22.04
	Kernel: 5.4.0-167-generic
	Compiler: gcc 11.4.0

Ubuntu 20.04
	Kernel: 5.4.0-167-generic
	Compiler: gcc 9.4.0-1ubuntu1~20.04.1

openSUSE Leap 15
	Kernel: 5.4.0-167-generic
	Compiler: gcc 7.5.0

RHEL8
	Kernel: 5.4.0-167-generic
	Compiler: gcc 8.5.0 20210514 (Red Hat 8.5.0-20)

RHEL9
	Kernel: Depends on container host
	Compiler: gcc 11.4.1

Ubuntu 24.04
	Kernel: 5.4.0-167-generic
	Compiler: gcc 13.2.0

Windows Server 2022
	Kernel: 10.0.20348.2031
	Compiler: clang 15.0.7, gcc 8.1.0 (MinGW), and MSVC VS 17.9

To view detailed results, visit:
https://lab.dpdk.org/results/dashboard/patchsets/30284/

UNH-IOL DPDK Community Lab

To manage your email subscriptions, visit: 
https://lab.dpdk.org/results/dashboard/preferences/subscriptions/