From mboxrd@z Thu Jan  1 00:00:00 1970
Return-Path: <test-report-bounces@dpdk.org>
Received: from mails.dpdk.org (mails.dpdk.org [217.70.189.124])
	by inbox.dpdk.org (Postfix) with ESMTP id AB705454E4
	for <public@inbox.dpdk.org>; Mon, 24 Jun 2024 17:42:52 +0200 (CEST)
Received: from mails.dpdk.org (localhost [127.0.0.1])
	by mails.dpdk.org (Postfix) with ESMTP id 90A4F4065A;
	Mon, 24 Jun 2024 17:42:52 +0200 (CEST)
Received: from mail-qk1-f227.google.com (mail-qk1-f227.google.com
 [209.85.222.227])
 by mails.dpdk.org (Postfix) with ESMTP id 815BB402DD
 for <test-report@dpdk.org>; Mon, 24 Jun 2024 17:42:51 +0200 (CEST)
Received: by mail-qk1-f227.google.com with SMTP id
 af79cd13be357-796df041d73so307481885a.3
 for <test-report@dpdk.org>; Mon, 24 Jun 2024 08:42:51 -0700 (PDT)
DKIM-Signature: v=1; a=rsa-sha256; c=relaxed/relaxed;
 d=iol.unh.edu; s=unh-iol; t=1719243771; x=1719848571; darn=dpdk.org;
 h=references:in-reply-to:cc:to:from:subject:message-id:date:from:to
 :cc:subject:date:message-id:reply-to;
 bh=zaPBk1tM3hdcawoi3oCnHT4b+O4+3jiEx+trv7WYMCQ=;
 b=cJkPhb2n1OQd1YJBxM3iR1WeaQBEPnw7P6ACoYhEU+3FpTCIAHAOTtyFRozlJBe9eT
 qk89nyha8nI8cik5niwurE1AQOYBUWkDnh8mK1hnWq4q6uiCotnPtsME7me9WXWo3Q3E
 ZltoBp6Cj4ItBuIT/KLPWElduKFQv5URaefiY=
X-Google-DKIM-Signature: v=1; a=rsa-sha256; c=relaxed/relaxed;
 d=1e100.net; s=20230601; t=1719243771; x=1719848571;
 h=references:in-reply-to:cc:to:from:subject:message-id:date
 :x-gm-message-state:from:to:cc:subject:date:message-id:reply-to;
 bh=zaPBk1tM3hdcawoi3oCnHT4b+O4+3jiEx+trv7WYMCQ=;
 b=VLumjrf6qa39xW9c+qtSExrDTQ8oTBOX3KzBMWzdSOfmrvMk4lfu3qWrPLLoYL+nEI
 +14FKMEURKr8JKYnK2PekPDzhJNU+uzEnR9nWYnfI0nNJUOlJPc4OZumeIJieCgum+zW
 wJ3YoIKMra6nieS/oD2l26M7TkLxUzVWS1pGz7Vnigny0tXPi1Z2RiIDEjA7dUXt/q4h
 zKUBBewSaXw5lSNK5GYDZUeU/mDOtjDcSBQVDKz32+hKfpiVdIzkoL9HIcnTxdUb/xCu
 nzWvgOXOA4od30mHNlc8ewC8mARPzO0huB6rf+lh1fsIs5btNq/Q8ooaBnn4RgdibRgP
 jEBA==
X-Gm-Message-State: AOJu0Ywi/iAEOl2F0EjrVycpiibZWfXhmdUXgXWk7mgMm56j4/emWZaF
 ZfgfPKfxE3yvD8ECFZqJWUtZ2TrZdNO3AXF3syEl98r/tLxS/nWIHzZfJnpwnNsanYTYf1rrk5c
 77c2y6khar8d9dVdLOhkZD2y0/AA42UmxbWSotGzLCljLy+uCVG8IKLTD
X-Google-Smtp-Source: AGHT+IGqCi8liKNiFGzyg3W8SwzzGwOV+VZYAqc8f08gb+E9ZmJotbW3cNHMYmTRLBgzqJUwhqcT4ZrYof2/
X-Received: by 2002:a05:620a:1a93:b0:792:c32f:caf0 with SMTP id
 af79cd13be357-79be47e4b35mr587030185a.70.1719243770821; 
 Mon, 24 Jun 2024 08:42:50 -0700 (PDT)
Received: from postal.iol.unh.edu (postal.iol.unh.edu.
 [2606:4100:3880:1234::84]) by smtp-relay.gmail.com with ESMTPS id
 af79cd13be357-79bce93ce60sm5844085a.9.2024.06.24.08.42.50
 (version=TLS1_2 cipher=ECDHE-ECDSA-AES128-GCM-SHA256 bits=128/128);
 Mon, 24 Jun 2024 08:42:50 -0700 (PDT)
X-Relaying-Domain: iol.unh.edu
Date: Mon, 24 Jun 2024 08:42:50 -0700 (PDT)
Message-ID: <667993fa.050a0220.fe821.3c91SMTPIN_ADDED_MISSING@mx.google.com>
Received: from [172.21.0.6] (unknown [172.18.0.240])
 by postal.iol.unh.edu (Postfix) with ESMTP id 72D79605C380;
 Mon, 24 Jun 2024 11:42:50 -0400 (EDT)
Subject: |SUCCESS| pw141530-141531 [PATCH] [v3,2/2] crypto/mlx5: add out of p
From: dpdklab@iol.unh.edu
To: Test Report <test-report@dpdk.org>
Cc: dpdk-test-reports@iol.unh.edu
In-Reply-To: <20240624091651.2295533-3-suanmingm@nvidia.com>
References: <20240624091651.2295533-3-suanmingm@nvidia.com>
Content-Type: text/plain
X-BeenThere: test-report@dpdk.org
X-Mailman-Version: 2.1.29
Precedence: list
List-Id: automatic DPDK test reports <test-report.dpdk.org>
List-Unsubscribe: <https://mails.dpdk.org/options/test-report>,
 <mailto:test-report-request@dpdk.org?subject=unsubscribe>
List-Archive: <http://mails.dpdk.org/archives/test-report/>
List-Post: <mailto:test-report@dpdk.org>
List-Help: <mailto:test-report-request@dpdk.org?subject=help>
List-Subscribe: <https://mails.dpdk.org/listinfo/test-report>,
 <mailto:test-report-request@dpdk.org?subject=subscribe>
Errors-To: test-report-bounces@dpdk.org

Test-Label: iol-compile-arm64-testing
Test-Status: SUCCESS
http://dpdk.org/patch/141531

_Testing PASS_

Submitter: Suanming Mou <suanmingm@nvidia.com>
Date: Monday, June 24 2024 09:16:51 
DPDK git baseline: Repo:dpdk
  Branch: master
  CommitID:4a44d97f0a52a76258c6a6cb6a713f4380a8ab1f

141530-141531 --> testing pass

Test environment and result as below:

+--------------------------+--------------------+
|       Environment        | dpdk_meson_compile |
+==========================+====================+
| Ubuntu 20.04 ARM SVE     | PASS               |
+--------------------------+--------------------+
| Debian 12 with MUSDK     | PASS               |
+--------------------------+--------------------+
| RHEL9 (ARM)              | PASS               |
+--------------------------+--------------------+
| Fedora 38 (ARM)          | PASS               |
+--------------------------+--------------------+
| Fedora 37 (ARM)          | PASS               |
+--------------------------+--------------------+
| Ubuntu 20.04 (ARM)       | PASS               |
+--------------------------+--------------------+
| Fedora 40 (ARM)          | PASS               |
+--------------------------+--------------------+
| Fedora 39 (ARM)          | PASS               |
+--------------------------+--------------------+
| Ubuntu 22.04 (ARM)       | PASS               |
+--------------------------+--------------------+
| CentOS Stream 9 (ARM)    | PASS               |
+--------------------------+--------------------+
| Debian 12 (arm)          | PASS               |
+--------------------------+--------------------+
| Debian 11 (Buster) (ARM) | PASS               |
+--------------------------+--------------------+
| Ubuntu 24.04 (ARM)       | PASS               |
+--------------------------+--------------------+


Ubuntu 20.04 ARM SVE
	Kernel: 5.4.0-167-generic
	Compiler: gcc (Ubuntu 10.5.0-1ubuntu1~20.04) 10.5.0

Debian 12 with MUSDK
	Kernel: Container Host Kernel
	Compiler: gcc 12.2.0

RHEL9 (ARM)
	Kernel: Depends on container host
	Compiler: gcc 11.4.1

Fedora 38 (ARM)
	Kernel: Depends on container host
	Compiler: gcc 13.2.1

Fedora 37 (ARM)
	Kernel: Depends on container host
	Compiler: gcc 12.3.1

Ubuntu 20.04 (ARM)
	Kernel: Container Host Kernel
	Compiler: gcc 9.4.0

Fedora 40 (ARM)
	Kernel: Depends on container host
	Compiler: gcc 14.1.1

Fedora 39 (ARM)
	Kernel: Depends on container host
	Compiler: gcc 13.2.1

Ubuntu 22.04 (ARM)
	Kernel: Container Host Kernel
	Compiler: gcc 11.4.0

CentOS Stream 9 (ARM)
	Kernel: Container Host Kernel
	Compiler: gcc 11.4.1

Debian 12 (arm)
	Kernel: Container Host Kernel
	Compiler: gcc 12.2.0

Debian 11 (Buster) (ARM)
	Kernel: Container Host Kernel
	Compiler: gcc 10.2.1

Ubuntu 24.04 (ARM)
	Kernel: 5.4.0-167-generic
	Compiler: gcc 13.2.0

To view detailed results, visit:
https://lab.dpdk.org/results/dashboard/patchsets/30286/

UNH-IOL DPDK Community Lab

To manage your email subscriptions, visit: 
https://lab.dpdk.org/results/dashboard/preferences/subscriptions/