From mboxrd@z Thu Jan  1 00:00:00 1970
Return-Path: <test-report-bounces@dpdk.org>
Received: from mails.dpdk.org (mails.dpdk.org [217.70.189.124])
	by inbox.dpdk.org (Postfix) with ESMTP id DD5F2454E4
	for <public@inbox.dpdk.org>; Mon, 24 Jun 2024 19:19:54 +0200 (CEST)
Received: from mails.dpdk.org (localhost [127.0.0.1])
	by mails.dpdk.org (Postfix) with ESMTP id B9810402DD;
	Mon, 24 Jun 2024 19:19:54 +0200 (CEST)
Received: from mail-yb1-f225.google.com (mail-yb1-f225.google.com
 [209.85.219.225])
 by mails.dpdk.org (Postfix) with ESMTP id 58F24402AF
 for <test-report@dpdk.org>; Mon, 24 Jun 2024 19:19:53 +0200 (CEST)
Received: by mail-yb1-f225.google.com with SMTP id
 3f1490d57ef6-dff36345041so4533903276.3
 for <test-report@dpdk.org>; Mon, 24 Jun 2024 10:19:53 -0700 (PDT)
DKIM-Signature: v=1; a=rsa-sha256; c=relaxed/relaxed;
 d=iol.unh.edu; s=unh-iol; t=1719249592; x=1719854392; darn=dpdk.org;
 h=references:in-reply-to:cc:to:from:subject:message-id:date:from:to
 :cc:subject:date:message-id:reply-to;
 bh=UiGv/XvMFPVlCp5UvW94u/epgeCFNCaeeJnpMAPWpUc=;
 b=E5l2FT3nkY4bk5dEYCJS1xtroYkFYXQHhmceT+E51rJnkNeuTuiGXB29BTiff4PDjw
 xU/HJfJfYZe5yo4LKVxhZoizeWUei+4Ye/CjHWGMuIKtUe8OXPoaoI5G3FCI7zhIwZdn
 bmIE43V+ig3ywuGkWpihiHQjO+MrmokIjXeRY=
X-Google-DKIM-Signature: v=1; a=rsa-sha256; c=relaxed/relaxed;
 d=1e100.net; s=20230601; t=1719249592; x=1719854392;
 h=references:in-reply-to:cc:to:from:subject:message-id:date
 :x-gm-message-state:from:to:cc:subject:date:message-id:reply-to;
 bh=UiGv/XvMFPVlCp5UvW94u/epgeCFNCaeeJnpMAPWpUc=;
 b=G9ev0DagP3eWhTSeiUM5WiTzy8MILa1SQ5cIP7LBiPbPlEEy13nUBVojtVuBlhZmKF
 LONY/j6RJrXPM8ETwi8HcXCTM4w/OtfwXGQo7fWB1ChcNqkjV6mdOT0A3CvzbngCx14e
 CxTsOQDzMgmoWCxgkdkNF3/dUDxaFPk/Sn0cDXEbQI3s+ONjHCTLW1CDwXdn98TkaEh8
 X+4aoOwEGaa5VwAFLgdEZSHmmtrq7gLpjFDYLiKgsVX0ycAhNYukygljVnPuXL3HwY18
 81Cm8IG0JqZmAa6w9+usEFmPHDIiBhrXTGryHqtQR5Dsq13S/75CT+exvCtQ70J+JvFQ
 l1qg==
X-Gm-Message-State: AOJu0YyfchFPysyAe3Pz/iN0pKUID2tUiz42J1WzFE45WRdfSJOJHmzG
 6/pIHFDuFHgqFdfLKtOZ0YNjiJn11/Sai/8nNfAAXDHO1gKN4yCti8tFxhrH+VFGIo7HK+tfZsb
 WoxdFTTy+ZgXHW8j1iTWjcNI18yfFpL7oxndKxN2NJMNIhTi70D1aVHYy
X-Google-Smtp-Source: AGHT+IHqJ0M1KdJqlMBKtSw6Tf8YGsrXKCHiYzSTs//kZxhogs/FTVy+ZXKYegj2d3MuDIyBslCzgqg6n9uU
X-Received: by 2002:a25:2ce:0:b0:e02:baa0:3112 with SMTP id
 3f1490d57ef6-e0303f68371mr4609958276.30.1719249592688; 
 Mon, 24 Jun 2024 10:19:52 -0700 (PDT)
Received: from postal.iol.unh.edu (postal.iol.unh.edu.
 [2606:4100:3880:1234::84]) by smtp-relay.gmail.com with ESMTPS id
 3f1490d57ef6-e02e611955csm317418276.7.2024.06.24.10.19.52
 (version=TLS1_2 cipher=ECDHE-ECDSA-AES128-GCM-SHA256 bits=128/128);
 Mon, 24 Jun 2024 10:19:52 -0700 (PDT)
X-Relaying-Domain: iol.unh.edu
Date: Mon, 24 Jun 2024 10:19:52 -0700 (PDT)
Message-ID: <6679aab8.050a0220.20ea.78c0SMTPIN_ADDED_MISSING@mx.google.com>
Received: from [172.21.0.6] (unknown [172.18.0.240])
 by postal.iol.unh.edu (Postfix) with ESMTP id 42D37605C380;
 Mon, 24 Jun 2024 13:19:52 -0400 (EDT)
Subject: |SUCCESS| pw141533-141553 [PATCH] [v5,21/21] doc: updated the docume
From: dpdklab@iol.unh.edu
To: Test Report <test-report@dpdk.org>
Cc: dpdk-test-reports@iol.unh.edu
In-Reply-To: <20240624091644.2404658-22-soumyadeep.hore@intel.com>
References: <20240624091644.2404658-22-soumyadeep.hore@intel.com>
Content-Type: text/plain
X-BeenThere: test-report@dpdk.org
X-Mailman-Version: 2.1.29
Precedence: list
List-Id: automatic DPDK test reports <test-report.dpdk.org>
List-Unsubscribe: <https://mails.dpdk.org/options/test-report>,
 <mailto:test-report-request@dpdk.org?subject=unsubscribe>
List-Archive: <http://mails.dpdk.org/archives/test-report/>
List-Post: <mailto:test-report@dpdk.org>
List-Help: <mailto:test-report-request@dpdk.org?subject=help>
List-Subscribe: <https://mails.dpdk.org/listinfo/test-report>,
 <mailto:test-report-request@dpdk.org?subject=subscribe>
Errors-To: test-report-bounces@dpdk.org

Test-Label: iol-unit-arm64-testing
Test-Status: SUCCESS
http://dpdk.org/patch/141553

_Testing PASS_

Submitter: Soumyadeep Hore <soumyadeep.hore@intel.com>
Date: Monday, June 24 2024 09:16:44 
DPDK git baseline: Repo:dpdk
  Branch: master
  CommitID:eabbac98af1345157e07c431e18543296c37c355

141533-141553 --> testing pass

Test environment and result as below:

+-----------------------------+----------------+------------------------------+---------------------------+
|         Environment         | dpdk_unit_test | cryptodev_sw_snow3g_autotest | cryptodev_sw_zuc_autotest |
+=============================+================+==============================+===========================+
| 32-bit Ubuntu 20.04.4 (ARM) | PASS           | SKIPPED                      | SKIPPED                   |
+-----------------------------+----------------+------------------------------+---------------------------+
| CentOS Stream 9 (ARM)       | PASS           | SKIPPED                      | SKIPPED                   |
+-----------------------------+----------------+------------------------------+---------------------------+
| Debian 12 (arm)             | PASS           | PASS                         | PASS                      |
+-----------------------------+----------------+------------------------------+---------------------------+
| Debian 11 (Buster) (ARM)    | PASS           | SKIPPED                      | SKIPPED                   |
+-----------------------------+----------------+------------------------------+---------------------------+
| Fedora 37 (ARM)             | PASS           | SKIPPED                      | SKIPPED                   |
+-----------------------------+----------------+------------------------------+---------------------------+
| Fedora 38 (ARM)             | PASS           | SKIPPED                      | SKIPPED                   |
+-----------------------------+----------------+------------------------------+---------------------------+
| Fedora 39 (ARM)             | PASS           | SKIPPED                      | SKIPPED                   |
+-----------------------------+----------------+------------------------------+---------------------------+


32-bit Ubuntu 20.04.4 (ARM)
	Kernel: 5.4.0-155-generic aarch64
	Compiler: gcc 9.4

CentOS Stream 9 (ARM)
	Kernel: Container Host Kernel
	Compiler: gcc 11.4.1

Debian 12 (arm)
	Kernel: Container Host Kernel
	Compiler: gcc 12.2.0

Debian 11 (Buster) (ARM)
	Kernel: Container Host Kernel
	Compiler: gcc 10.2.1

Fedora 37 (ARM)
	Kernel: Depends on container host
	Compiler: gcc 12.3.1

Fedora 38 (ARM)
	Kernel: Depends on container host
	Compiler: gcc 13.2.1

Fedora 39 (ARM)
	Kernel: Depends on container host
	Compiler: gcc 13.2.1

To view detailed results, visit:
https://lab.dpdk.org/results/dashboard/patchsets/30288/

UNH-IOL DPDK Community Lab

To manage your email subscriptions, visit: 
https://lab.dpdk.org/results/dashboard/preferences/subscriptions/