From mboxrd@z Thu Jan  1 00:00:00 1970
Return-Path: <test-report-bounces@dpdk.org>
Received: from mails.dpdk.org (mails.dpdk.org [217.70.189.124])
	by inbox.dpdk.org (Postfix) with ESMTP id EDFD7454E4
	for <public@inbox.dpdk.org>; Mon, 24 Jun 2024 19:36:19 +0200 (CEST)
Received: from mails.dpdk.org (localhost [127.0.0.1])
	by mails.dpdk.org (Postfix) with ESMTP id EAE5A402DD;
	Mon, 24 Jun 2024 19:36:19 +0200 (CEST)
Received: from mail-pf1-f228.google.com (mail-pf1-f228.google.com
 [209.85.210.228])
 by mails.dpdk.org (Postfix) with ESMTP id D6CCA402AF
 for <test-report@dpdk.org>; Mon, 24 Jun 2024 19:36:18 +0200 (CEST)
Received: by mail-pf1-f228.google.com with SMTP id
 d2e1a72fcca58-70671ecd334so1444550b3a.0
 for <test-report@dpdk.org>; Mon, 24 Jun 2024 10:36:18 -0700 (PDT)
DKIM-Signature: v=1; a=rsa-sha256; c=relaxed/relaxed;
 d=iol.unh.edu; s=unh-iol; t=1719250578; x=1719855378; darn=dpdk.org;
 h=references:in-reply-to:cc:to:from:subject:message-id:date:from:to
 :cc:subject:date:message-id:reply-to;
 bh=Vi1ZZTVEcy3KotTvRbKiSYIJcZrPpFBdXr/W35KZz5Y=;
 b=EhmG46HrcyU2a2pEMcSFsNaHAE47vvu5Zp0eZrtZBuhmu0WChTlmHbULQ3pmFTbr11
 Je9sQ1i10KFaq2rS83Yv1rz2LWoAsQtrHzTvid7I1bjYbIqp9YOt/e3UEZBE4aD6Qk6N
 riHeZY3BY4whDeZCMR3kurDHu38NJCPAW5td8=
X-Google-DKIM-Signature: v=1; a=rsa-sha256; c=relaxed/relaxed;
 d=1e100.net; s=20230601; t=1719250578; x=1719855378;
 h=references:in-reply-to:cc:to:from:subject:message-id:date
 :x-gm-message-state:from:to:cc:subject:date:message-id:reply-to;
 bh=Vi1ZZTVEcy3KotTvRbKiSYIJcZrPpFBdXr/W35KZz5Y=;
 b=WdD1Kw/Pj2kj3y5eUrpglYWyCaTZSEeKYpmDvxLt9CRpujkDhwyyjUNT/+1BnATP3G
 lFbnHu35LsMYfDHw2CVA6o2yVCQUdUb4FyW8hB3PdEYRnIUbBntuXUhldOOS3tdFXMbc
 iKUw9AfYHCfaqqe8c+njLfybJf2o0hYtJE1s7FH9r2cYR3LXKEl5yRIxpiheprwlPwbN
 r4Zdb/a2Dbi3u8M30Gn8XIfCNfUAlkvnW7Em/lVXOrrRx1oePUSIOxPmmwRQT6q5nJaf
 i2lBhtVUuNxrXRfT/8P89Kh30n9OGN2njDbe5zq81RnK9kUjd2Vwub5u/GbdkNbVOoOP
 dV+w==
X-Gm-Message-State: AOJu0Yw6c9P95AI+/Z0kViSo2qPQFSDQIL54OBYuS8CM2YZUndjFTcLd
 ksuAHqNR9OFbn4iZqcSNILSWCoVxbdZIs+mLyZoL2ZuGs2mWnYg0bRyhXH4ftY8OmCBoAV6h+BD
 fi58JNQ5xFWaxitQ+/5ko+6Unnb90oXGLW1587aLa
X-Google-Smtp-Source: AGHT+IEYcZjafSA7b5e+GMD1lvDFuUjTNZ4L1RPQ3dpLodWY7nKa8IIQPG13GQWelIei0EYTACLcWSYXrW4i
X-Received: by 2002:a05:6a20:bb11:b0:1b8:6ed5:a73 with SMTP id
 adf61e73a8af0-1bcf4621e52mr5645107637.48.1719250578022; 
 Mon, 24 Jun 2024 10:36:18 -0700 (PDT)
Received: from postal.iol.unh.edu (postal.iol.unh.edu. [132.177.123.84])
 by smtp-relay.gmail.com with ESMTPS id
 d2e1a72fcca58-706935b93f4sm30526b3a.21.2024.06.24.10.36.17
 (version=TLS1_2 cipher=ECDHE-ECDSA-AES128-GCM-SHA256 bits=128/128);
 Mon, 24 Jun 2024 10:36:18 -0700 (PDT)
X-Relaying-Domain: iol.unh.edu
Date: Mon, 24 Jun 2024 10:36:18 -0700 (PDT)
Message-ID: <6679ae92.a70a0220.bd27a.1f57SMTPIN_ADDED_MISSING@mx.google.com>
Received: from [172.21.0.6] (unknown [172.18.0.240])
 by postal.iol.unh.edu (Postfix) with ESMTP id 652E6605C380;
 Mon, 24 Jun 2024 13:36:17 -0400 (EDT)
Subject: |SUCCESS| pw141557-141561 [PATCH] [v2,5/5] net/cnxk: fix representor
From: dpdklab@iol.unh.edu
To: Test Report <test-report@dpdk.org>
Cc: dpdk-test-reports@iol.unh.edu
In-Reply-To: <20240624115733.191307-5-hkalra@marvell.com>
References: <20240624115733.191307-5-hkalra@marvell.com>
Content-Type: text/plain
X-BeenThere: test-report@dpdk.org
X-Mailman-Version: 2.1.29
Precedence: list
List-Id: automatic DPDK test reports <test-report.dpdk.org>
List-Unsubscribe: <https://mails.dpdk.org/options/test-report>,
 <mailto:test-report-request@dpdk.org?subject=unsubscribe>
List-Archive: <http://mails.dpdk.org/archives/test-report/>
List-Post: <mailto:test-report@dpdk.org>
List-Help: <mailto:test-report-request@dpdk.org?subject=help>
List-Subscribe: <https://mails.dpdk.org/listinfo/test-report>,
 <mailto:test-report-request@dpdk.org?subject=subscribe>
Errors-To: test-report-bounces@dpdk.org

Test-Label: iol-abi-testing
Test-Status: SUCCESS
http://dpdk.org/patch/141561

_Testing PASS_

Submitter: Harman Kalra <hkalra@marvell.com>
Date: Monday, June 24 2024 11:57:33 
DPDK git baseline: Repo:dpdk
  Branch: master
  CommitID:4a44d97f0a52a76258c6a6cb6a713f4380a8ab1f

141557-141561 --> testing pass

Test environment and result as below:

+-----------------+----------+
|   Environment   | abi_test |
+=================+==========+
| Fedora 37       | PASS     |
+-----------------+----------+
| Debian Bullseye | PASS     |
+-----------------+----------+
| CentOS Stream 8 | PASS     |
+-----------------+----------+
| Debian 12       | PASS     |
+-----------------+----------+
| Fedora 39       | PASS     |
+-----------------+----------+


Fedora 37
	Kernel: Depends on container host system
	Compiler: gcc 12.3.1

Debian Bullseye
	Kernel: 5.4.0-167-generic
	Compiler: gcc 10.2.1-6

CentOS Stream 8
	Kernel: 5.4.0-167-generic
	Compiler: gcc 8.5.0 20210514

Debian 12
	Kernel: Container Host Kernel
	Compiler: gcc 12.2.0

Fedora 39
	Kernel: Depends on container host
	Compiler: gcc 13.2.1

To view detailed results, visit:
https://lab.dpdk.org/results/dashboard/patchsets/30292/

UNH-IOL DPDK Community Lab

To manage your email subscriptions, visit: 
https://lab.dpdk.org/results/dashboard/preferences/subscriptions/