From mboxrd@z Thu Jan  1 00:00:00 1970
Return-Path: <test-report-bounces@dpdk.org>
Received: from mails.dpdk.org (mails.dpdk.org [217.70.189.124])
	by inbox.dpdk.org (Postfix) with ESMTP id 1834C454E5
	for <public@inbox.dpdk.org>; Mon, 24 Jun 2024 20:56:07 +0200 (CEST)
Received: from mails.dpdk.org (localhost [127.0.0.1])
	by mails.dpdk.org (Postfix) with ESMTP id E9DF7402E6;
	Mon, 24 Jun 2024 20:56:06 +0200 (CEST)
Received: from mail-yw1-f227.google.com (mail-yw1-f227.google.com
 [209.85.128.227])
 by mails.dpdk.org (Postfix) with ESMTP id 8F0DF402DD
 for <test-report@dpdk.org>; Mon, 24 Jun 2024 20:56:05 +0200 (CEST)
Received: by mail-yw1-f227.google.com with SMTP id
 00721157ae682-63bb0ff142cso45418107b3.3
 for <test-report@dpdk.org>; Mon, 24 Jun 2024 11:56:05 -0700 (PDT)
DKIM-Signature: v=1; a=rsa-sha256; c=relaxed/relaxed;
 d=iol.unh.edu; s=unh-iol; t=1719255365; x=1719860165; darn=dpdk.org;
 h=references:in-reply-to:cc:to:from:subject:message-id:date:from:to
 :cc:subject:date:message-id:reply-to;
 bh=uFdZhMknA8LVDRfv08NiUqEMIecJRDtbFqmwSNuwHwY=;
 b=c3hWlSSGDz57XlxuQFbHDTsglflAXTTbY08gtPsU1qY3eLA4dyEL3OdRdYunp1xAeh
 qsPTck7z6LXA+Z+nSN0dGf6t/K4F931hvU+udsipFVdL2lhyS07MFV/flpUmAy6MqJ28
 1xu5HR4T3A1w8ULowdS3+BAtDQL8K7u+vNsWs=
X-Google-DKIM-Signature: v=1; a=rsa-sha256; c=relaxed/relaxed;
 d=1e100.net; s=20230601; t=1719255365; x=1719860165;
 h=references:in-reply-to:cc:to:from:subject:message-id:date
 :x-gm-message-state:from:to:cc:subject:date:message-id:reply-to;
 bh=uFdZhMknA8LVDRfv08NiUqEMIecJRDtbFqmwSNuwHwY=;
 b=buRUa/kUJR+IWkK7bbeHEo2nwhdg/olqcawA+5yJOr6O5FlnPv3fODYEwk8heNsElS
 gVE6In2c0tuD1KxzBkd+3WV3DIVEdALgB+x/rBeihpR7o4cNyWCS5zugTS97S/snMFxT
 qhB2cociAwpbS0DntFnefT72LXWwivTwEZqoFdiPNj26SsJcHtVCtIcFTsX2a2NoQ+8x
 W6BMDyWZTYkwGgO4hFrbdBGZr3UinYbt6RnvpW687w4WSbWYcfSle1fReiBpGsz9tWvn
 wGAd75s0DXkiN4JXodqonHuVnA/U8eB3sEcgBLxHcu4ZLlwrmdOHg+ZnPqgpjZm25ywb
 iYuA==
X-Gm-Message-State: AOJu0Yy8xFvQiVdL2i5vx9IfXUwfzLTsgyYvU6m9FgLOeX74orsrDrxA
 7bkMQZDZh4eOzkuOyFolLAdKZFFAxq03p1EHx7MZmIkOQ9qIRkFu0ocTkzQGNWfsPNaCianhwbD
 9/Q7WvNOPGZhbFhusyr/P8OD4O/Hv80Hy6v0kkZmd
X-Google-Smtp-Source: AGHT+IF9YFjqZZ9/wx+hQA638bK/AdQt6wCKI4tB27ze+e2xrUAaIK9JydkxQJ5Lc3Fmn2xmFEtfX+eTJqi8
X-Received: by 2002:a81:92c2:0:b0:632:d12d:9378 with SMTP id
 00721157ae682-6429877c122mr56458917b3.11.1719255364767; 
 Mon, 24 Jun 2024 11:56:04 -0700 (PDT)
Received: from postal.iol.unh.edu (postal.iol.unh.edu. [132.177.123.84])
 by smtp-relay.gmail.com with ESMTPS id
 00721157ae682-63f157b9617sm3074767b3.68.2024.06.24.11.56.04
 (version=TLS1_2 cipher=ECDHE-ECDSA-AES128-GCM-SHA256 bits=128/128);
 Mon, 24 Jun 2024 11:56:04 -0700 (PDT)
X-Relaying-Domain: iol.unh.edu
Date: Mon, 24 Jun 2024 11:56:04 -0700 (PDT)
Message-ID: <6679c144.050a0220.1fc6d.72d5SMTPIN_ADDED_MISSING@mx.google.com>
Received: from [172.21.0.6] (unknown [172.18.0.240])
 by postal.iol.unh.edu (Postfix) with ESMTP id 65EFB605C380;
 Mon, 24 Jun 2024 14:56:04 -0400 (EDT)
Subject: |SUCCESS| pw141557-141561 [PATCH] [v2,5/5] net/cnxk: fix representor
From: dpdklab@iol.unh.edu
To: Test Report <test-report@dpdk.org>
Cc: dpdk-test-reports@iol.unh.edu
In-Reply-To: <20240624115733.191307-5-hkalra@marvell.com>
References: <20240624115733.191307-5-hkalra@marvell.com>
Content-Type: text/plain
X-BeenThere: test-report@dpdk.org
X-Mailman-Version: 2.1.29
Precedence: list
List-Id: automatic DPDK test reports <test-report.dpdk.org>
List-Unsubscribe: <https://mails.dpdk.org/options/test-report>,
 <mailto:test-report-request@dpdk.org?subject=unsubscribe>
List-Archive: <http://mails.dpdk.org/archives/test-report/>
List-Post: <mailto:test-report@dpdk.org>
List-Help: <mailto:test-report-request@dpdk.org?subject=help>
List-Subscribe: <https://mails.dpdk.org/listinfo/test-report>,
 <mailto:test-report-request@dpdk.org?subject=subscribe>
Errors-To: test-report-bounces@dpdk.org

Test-Label: iol-abi-testing
Test-Status: SUCCESS
http://dpdk.org/patch/141561

_Testing PASS_

Submitter: Harman Kalra <hkalra@marvell.com>
Date: Monday, June 24 2024 11:57:33 
DPDK git baseline: Repo:dpdk
  Branch: master
  CommitID:4a44d97f0a52a76258c6a6cb6a713f4380a8ab1f

141557-141561 --> testing pass

Test environment and result as below:

+------------------+----------+
|   Environment    | abi_test |
+==================+==========+
| CentOS Stream 8  | PASS     |
+------------------+----------+
| CentOS Stream 9  | PASS     |
+------------------+----------+
| Debian Bullseye  | PASS     |
+------------------+----------+
| Fedora 38        | PASS     |
+------------------+----------+
| openSUSE Leap 15 | PASS     |
+------------------+----------+
| Debian 12        | PASS     |
+------------------+----------+
| Fedora 37        | PASS     |
+------------------+----------+


CentOS Stream 8
	Kernel: 5.4.0-167-generic
	Compiler: gcc 8.5.0 20210514

CentOS Stream 9
	Kernel: 5.4.0-167-generic
	Compiler: gcc 11.4.1 20230605

Debian Bullseye
	Kernel: 5.4.0-167-generic
	Compiler: gcc 10.2.1-6

Fedora 38
	Kernel: Depends on container host
	Compiler: clang 16.0.6

openSUSE Leap 15
	Kernel: 5.4.0-167-generic
	Compiler: gcc 7.5.0

Debian 12
	Kernel: Container Host Kernel
	Compiler: gcc 12.2.0

Fedora 37
	Kernel: Depends on container host system
	Compiler: gcc 12.3.1

To view detailed results, visit:
https://lab.dpdk.org/results/dashboard/patchsets/30292/

UNH-IOL DPDK Community Lab

To manage your email subscriptions, visit: 
https://lab.dpdk.org/results/dashboard/preferences/subscriptions/