From mboxrd@z Thu Jan  1 00:00:00 1970
Return-Path: <test-report-bounces@dpdk.org>
Received: from mails.dpdk.org (mails.dpdk.org [217.70.189.124])
	by inbox.dpdk.org (Postfix) with ESMTP id 21F53454E5
	for <public@inbox.dpdk.org>; Mon, 24 Jun 2024 20:57:03 +0200 (CEST)
Received: from mails.dpdk.org (localhost [127.0.0.1])
	by mails.dpdk.org (Postfix) with ESMTP id 1E1AB402E6;
	Mon, 24 Jun 2024 20:57:03 +0200 (CEST)
Received: from mail-io1-f98.google.com (mail-io1-f98.google.com
 [209.85.166.98]) by mails.dpdk.org (Postfix) with ESMTP id 635BC402DD
 for <test-report@dpdk.org>; Mon, 24 Jun 2024 20:57:01 +0200 (CEST)
Received: by mail-io1-f98.google.com with SMTP id
 ca18e2360f4ac-7eb85f63f4aso164531839f.0
 for <test-report@dpdk.org>; Mon, 24 Jun 2024 11:57:01 -0700 (PDT)
DKIM-Signature: v=1; a=rsa-sha256; c=relaxed/relaxed;
 d=iol.unh.edu; s=unh-iol; t=1719255420; x=1719860220; darn=dpdk.org;
 h=references:in-reply-to:cc:to:from:subject:message-id:date:from:to
 :cc:subject:date:message-id:reply-to;
 bh=wzboQd1PMA17fp9cDexQKmFY+34ULXGLlZoj35lJVxI=;
 b=KRfI5MAx2nin5OFL0LIFbTX41eI9reviDE3i2vXXfzDs8/DGmutw1TktRy0V+z0X/H
 bWhNTCiT6+VPwy59lH+kRBi+6wDnL9+eXvU71hPqGnaHZBNFmqYIRiQZbjZQkpv9448a
 qNNnGfMdDCrSE2sO+8GHcbKwn+D44jCiT3dyc=
X-Google-DKIM-Signature: v=1; a=rsa-sha256; c=relaxed/relaxed;
 d=1e100.net; s=20230601; t=1719255420; x=1719860220;
 h=references:in-reply-to:cc:to:from:subject:message-id:date
 :x-gm-message-state:from:to:cc:subject:date:message-id:reply-to;
 bh=wzboQd1PMA17fp9cDexQKmFY+34ULXGLlZoj35lJVxI=;
 b=c15EMmBswBGAylQXsyj1IsHoy/b7RHyQiDkUp7+/1751dwHYSvAW2v+CdnbkD5Ea/K
 8Bwf/Nf2xhq8oMyQj/SkD4AjEJG0tV2R3lESQaWMqN0gwCg1X41TLLsNTXhqPDuWmFwI
 D7UoZTSC8xOxS4N3UGHKc8mXXFopWIDbC5WRnQ/Uv1G4clQHePNBDpzOOTCbMPTa+xw4
 44lzrSqHEODsnp7Y0v4BAejiSHPaEdMDE4X3w3UikV2NGqRChTGMvwbdFi4vRO8EsAGh
 ptPf3HPgh+Z/GSpisItmctPJ3AjWkVvJuhCPnIvYOwMWx7I6CIlQbkyJzLaqY55x0r45
 hBBQ==
X-Gm-Message-State: AOJu0YwaC1hjQ6onowy8jCzL0N2X6Yg7iCxrtJFM3vXa/i++JJC1NwN5
 VUH8MTquAw//gQZ4iwUor6D0yHUOks7dB+uPEHKdiYNwGftwaY/3yB/waA1g35MxukEVm9WJiUp
 gBMEM+7HRNIiU89yu3mvpCLDqeMNgoMlJIPKwFZghvodgDT//e5dZvDUp
X-Google-Smtp-Source: AGHT+IFjaHzMVx9PpnRMFqa5jgGVwnmXP7n7fBnG1wMtlMdSSzF0HHWR8nsZuyVLCAzmBIENtiS7p6E4is1F
X-Received: by 2002:a05:6e02:2149:b0:375:bb80:d78e with SMTP id
 e9e14a558f8ab-37651ff8d93mr8481985ab.6.1719255420697; 
 Mon, 24 Jun 2024 11:57:00 -0700 (PDT)
Received: from postal.iol.unh.edu (postal.iol.unh.edu.
 [2606:4100:3880:1234::84]) by smtp-relay.gmail.com with ESMTPS id
 e9e14a558f8ab-3762f303d68sm4069135ab.2.2024.06.24.11.57.00
 (version=TLS1_2 cipher=ECDHE-ECDSA-AES128-GCM-SHA256 bits=128/128);
 Mon, 24 Jun 2024 11:57:00 -0700 (PDT)
X-Relaying-Domain: iol.unh.edu
Date: Mon, 24 Jun 2024 11:57:00 -0700 (PDT)
Message-ID: <6679c17c.050a0220.7a969.e680SMTPIN_ADDED_MISSING@mx.google.com>
Received: from [172.21.0.6] (unknown [172.18.0.240])
 by postal.iol.unh.edu (Postfix) with ESMTP id 364CA605C380;
 Mon, 24 Jun 2024 14:57:00 -0400 (EDT)
Subject: |SUCCESS| pw141533-141553 [PATCH] [v5,21/21] doc: updated the docume
From: dpdklab@iol.unh.edu
To: Test Report <test-report@dpdk.org>
Cc: dpdk-test-reports@iol.unh.edu
In-Reply-To: <20240624091644.2404658-22-soumyadeep.hore@intel.com>
References: <20240624091644.2404658-22-soumyadeep.hore@intel.com>
Content-Type: text/plain
X-BeenThere: test-report@dpdk.org
X-Mailman-Version: 2.1.29
Precedence: list
List-Id: automatic DPDK test reports <test-report.dpdk.org>
List-Unsubscribe: <https://mails.dpdk.org/options/test-report>,
 <mailto:test-report-request@dpdk.org?subject=unsubscribe>
List-Archive: <http://mails.dpdk.org/archives/test-report/>
List-Post: <mailto:test-report@dpdk.org>
List-Help: <mailto:test-report-request@dpdk.org?subject=help>
List-Subscribe: <https://mails.dpdk.org/listinfo/test-report>,
 <mailto:test-report-request@dpdk.org?subject=subscribe>
Errors-To: test-report-bounces@dpdk.org

Test-Label: iol-unit-amd64-testing
Test-Status: SUCCESS
http://dpdk.org/patch/141553

_Testing PASS_

Submitter: Soumyadeep Hore <soumyadeep.hore@intel.com>
Date: Monday, June 24 2024 09:16:44 
DPDK git baseline: Repo:dpdk
  Branch: master
  CommitID:eabbac98af1345157e07c431e18543296c37c355

141533-141553 --> testing pass

Test environment and result as below:

+---------------------+----------------+
|     Environment     | dpdk_unit_test |
+=====================+================+
| Windows Server 2019 | PASS           |
+---------------------+----------------+
| Windows Server 2022 | PASS           |
+---------------------+----------------+
| CentOS Stream 8     | PASS           |
+---------------------+----------------+
| Debian Bullseye     | PASS           |
+---------------------+----------------+
| CentOS Stream 9     | PASS           |
+---------------------+----------------+
| Debian 12           | PASS           |
+---------------------+----------------+
| Fedora 38           | PASS           |
+---------------------+----------------+
| Fedora 37           | PASS           |
+---------------------+----------------+
| RHEL8               | PASS           |
+---------------------+----------------+
| openSUSE Leap 15    | PASS           |
+---------------------+----------------+
| Fedora 39           | PASS           |
+---------------------+----------------+


Windows Server 2019
	Kernel: 10.0.17763
	Compiler: clang 14.0 and gcc 8.1.0 (MinGW)

Windows Server 2022
	Kernel: 10.0.20348.2031
	Compiler: clang 15.0.7, gcc 8.1.0 (MinGW), and MSVC VS 17.9

CentOS Stream 8
	Kernel: 5.4.0-167-generic
	Compiler: gcc 8.5.0 20210514

Debian Bullseye
	Kernel: 5.4.0-167-generic
	Compiler: gcc 10.2.1-6

CentOS Stream 9
	Kernel: 5.4.0-167-generic
	Compiler: gcc 11.4.1 20230605

Debian 12
	Kernel: Container Host Kernel
	Compiler: gcc 12.2.0

Fedora 38
	Kernel: Depends on container host
	Compiler: gcc 13.2.1

Fedora 37
	Kernel: Depends on container host system
	Compiler: gcc 12.3.1

RHEL8
	Kernel: 5.4.0-167-generic
	Compiler: gcc 8.5.0 20210514 (Red Hat 8.5.0-20)

openSUSE Leap 15
	Kernel: 5.4.0-167-generic
	Compiler: gcc 7.5.0

Fedora 39
	Kernel: Depends on container host
	Compiler: gcc 13.2.1

To view detailed results, visit:
https://lab.dpdk.org/results/dashboard/patchsets/30288/

UNH-IOL DPDK Community Lab

To manage your email subscriptions, visit: 
https://lab.dpdk.org/results/dashboard/preferences/subscriptions/