From mboxrd@z Thu Jan  1 00:00:00 1970
Return-Path: <test-report-bounces@dpdk.org>
Received: from mails.dpdk.org (mails.dpdk.org [217.70.189.124])
	by inbox.dpdk.org (Postfix) with ESMTP id 0593B454E2
	for <public@inbox.dpdk.org>; Mon, 24 Jun 2024 21:17:09 +0200 (CEST)
Received: from mails.dpdk.org (localhost [127.0.0.1])
	by mails.dpdk.org (Postfix) with ESMTP id 00D3240DD5;
	Mon, 24 Jun 2024 21:17:09 +0200 (CEST)
Received: from mail-vk1-f227.google.com (mail-vk1-f227.google.com
 [209.85.221.227])
 by mails.dpdk.org (Postfix) with ESMTP id 2D41440A76
 for <test-report@dpdk.org>; Mon, 24 Jun 2024 21:17:07 +0200 (CEST)
Received: by mail-vk1-f227.google.com with SMTP id
 71dfb90a1353d-4ef56bdc3fcso1164364e0c.2
 for <test-report@dpdk.org>; Mon, 24 Jun 2024 12:17:07 -0700 (PDT)
DKIM-Signature: v=1; a=rsa-sha256; c=relaxed/relaxed;
 d=iol.unh.edu; s=unh-iol; t=1719256626; x=1719861426; darn=dpdk.org;
 h=references:in-reply-to:cc:to:from:subject:message-id:date:from:to
 :cc:subject:date:message-id:reply-to;
 bh=KpQMqHmMIbiFoxHW9BHam4f+kJ3b/yF2kXBMjEb68TU=;
 b=PSYuxZdUVykDIs0kIjvwWIidoUMj7G6v4WGols0kGlf7bSep5Tz3PRuMN5CJ/Q6IzT
 D9C/GzmlNZ8BppOjykWLr4rNtiTklBF7DB03aNbnTIeUQcRSlKwq8oBCvXmns6P3p88C
 +D6Y6AV0L9DCVPmzmGcUhSMNrbXmVyndoYVfk=
X-Google-DKIM-Signature: v=1; a=rsa-sha256; c=relaxed/relaxed;
 d=1e100.net; s=20230601; t=1719256626; x=1719861426;
 h=references:in-reply-to:cc:to:from:subject:message-id:date
 :x-gm-message-state:from:to:cc:subject:date:message-id:reply-to;
 bh=KpQMqHmMIbiFoxHW9BHam4f+kJ3b/yF2kXBMjEb68TU=;
 b=UPBpnFGTatNtdMuyvhXJ2l0le4IrPr+nMOKw1QJ8irqvuVlOUENo38iI0Aw7Phdm6B
 XVit6jFDAf+5+SVmPbFaIWTaErFy8vHDuqgkqK4pKRd300Ez44FXfhrY/m2u6osxZWO0
 vG0UPkfbnYn1/G+Ee1j5G6fDt5XlXD6xDr34Ea+uspsA76pRFAm85XU8Ao9QhGIuVhSz
 rr0KZwsM4g47ogAdlThGuiTdCNSm+Bmvx6eoc0i0HbwJjCtgIZRVKKJg0loVSyiidbMp
 AhhUWglsbKTG0pCmBbzy6l0D8/L45louBrXKXRSqkWN/aL/Xi/kmk7QYCbj7G3JX3UJs
 FB+Q==
X-Gm-Message-State: AOJu0Yx7Nidgo/0tkkINdXIPrnxf1QhVmc+SSHiRITYm4eusThs52r1q
 L4ay/ZvOIt9AMuUnna9fmisYuHcyJiHGLzv41NwUtZgaTy0f1X2U3rvnSlPsE2j46fryycBA2fL
 bC0EUjh/Aunak6dk1Okh3yvJcxMbZCDUjOztAMEimkcmNiiUhwgkDzW/N
X-Google-Smtp-Source: AGHT+IFZ/VmNkQ9urATWGo4BAZgv4UmIXKnbgKxN1pnlKQjALVU7V50auU6Pi0/yFoq48l4FkGRtVKTenv12
X-Received: by 2002:a05:6122:1ad0:b0:4ef:678e:8a90 with SMTP id
 71dfb90a1353d-4ef6d7d7e4dmr4253307e0c.3.1719256626389; 
 Mon, 24 Jun 2024 12:17:06 -0700 (PDT)
Received: from postal.iol.unh.edu (postal.iol.unh.edu.
 [2606:4100:3880:1234::84]) by smtp-relay.gmail.com with ESMTPS id
 71dfb90a1353d-4ef7609ee1fsm187000e0c.14.2024.06.24.12.17.06
 (version=TLS1_2 cipher=ECDHE-ECDSA-AES128-GCM-SHA256 bits=128/128);
 Mon, 24 Jun 2024 12:17:06 -0700 (PDT)
X-Relaying-Domain: iol.unh.edu
Date: Mon, 24 Jun 2024 12:17:06 -0700 (PDT)
Message-ID: <6679c632.050a0220.a011d.cd93SMTPIN_ADDED_MISSING@mx.google.com>
Received: from [172.21.0.6] (unknown [172.18.0.240])
 by postal.iol.unh.edu (Postfix) with ESMTP id 0FA52605C380;
 Mon, 24 Jun 2024 15:17:06 -0400 (EDT)
Subject: |SUCCESS| pw141533-141553 [PATCH] [v5,21/21] doc: updated the docume
From: dpdklab@iol.unh.edu
To: Test Report <test-report@dpdk.org>
Cc: dpdk-test-reports@iol.unh.edu
In-Reply-To: <20240624091644.2404658-22-soumyadeep.hore@intel.com>
References: <20240624091644.2404658-22-soumyadeep.hore@intel.com>
Content-Type: text/plain
X-BeenThere: test-report@dpdk.org
X-Mailman-Version: 2.1.29
Precedence: list
List-Id: automatic DPDK test reports <test-report.dpdk.org>
List-Unsubscribe: <https://mails.dpdk.org/options/test-report>,
 <mailto:test-report-request@dpdk.org?subject=unsubscribe>
List-Archive: <http://mails.dpdk.org/archives/test-report/>
List-Post: <mailto:test-report@dpdk.org>
List-Help: <mailto:test-report-request@dpdk.org?subject=help>
List-Subscribe: <https://mails.dpdk.org/listinfo/test-report>,
 <mailto:test-report-request@dpdk.org?subject=subscribe>
Errors-To: test-report-bounces@dpdk.org

Test-Label: iol-unit-amd64-testing
Test-Status: SUCCESS
http://dpdk.org/patch/141553

_Testing PASS_

Submitter: Soumyadeep Hore <soumyadeep.hore@intel.com>
Date: Monday, June 24 2024 09:16:44 
DPDK git baseline: Repo:dpdk
  Branch: master
  CommitID:eabbac98af1345157e07c431e18543296c37c355

141533-141553 --> testing pass

Test environment and result as below:

+---------------------+----------------+
|     Environment     | dpdk_unit_test |
+=====================+================+
| Windows Server 2019 | PASS           |
+---------------------+----------------+
| Windows Server 2022 | PASS           |
+---------------------+----------------+
| CentOS Stream 8     | PASS           |
+---------------------+----------------+
| Debian Bullseye     | PASS           |
+---------------------+----------------+
| CentOS Stream 9     | PASS           |
+---------------------+----------------+
| Debian 12           | PASS           |
+---------------------+----------------+
| Fedora 38           | PASS           |
+---------------------+----------------+
| Fedora 37           | PASS           |
+---------------------+----------------+
| RHEL8               | PASS           |
+---------------------+----------------+
| openSUSE Leap 15    | PASS           |
+---------------------+----------------+
| Fedora 39           | PASS           |
+---------------------+----------------+
| Fedora 40           | PASS           |
+---------------------+----------------+
| RHEL9               | PASS           |
+---------------------+----------------+
| Ubuntu 22.04        | PASS           |
+---------------------+----------------+
| Ubuntu 24.04        | PASS           |
+---------------------+----------------+
| Ubuntu 20.04        | PASS           |
+---------------------+----------------+


Windows Server 2019
	Kernel: 10.0.17763
	Compiler: clang 14.0 and gcc 8.1.0 (MinGW)

Windows Server 2022
	Kernel: 10.0.20348.2031
	Compiler: clang 15.0.7, gcc 8.1.0 (MinGW), and MSVC VS 17.9

CentOS Stream 8
	Kernel: 5.4.0-167-generic
	Compiler: gcc 8.5.0 20210514

Debian Bullseye
	Kernel: 5.4.0-167-generic
	Compiler: gcc 10.2.1-6

CentOS Stream 9
	Kernel: 5.4.0-167-generic
	Compiler: gcc 11.4.1 20230605

Debian 12
	Kernel: Container Host Kernel
	Compiler: gcc 12.2.0

Fedora 38
	Kernel: Depends on container host
	Compiler: gcc 13.2.1

Fedora 37
	Kernel: Depends on container host system
	Compiler: gcc 12.3.1

RHEL8
	Kernel: 5.4.0-167-generic
	Compiler: gcc 8.5.0 20210514 (Red Hat 8.5.0-20)

openSUSE Leap 15
	Kernel: 5.4.0-167-generic
	Compiler: gcc 7.5.0

Fedora 39
	Kernel: Depends on container host
	Compiler: gcc 13.2.1

Fedora 40
	Kernel: Depends on container host
	Compiler: clang 18.1.6

RHEL9
	Kernel: Depends on container host
	Compiler: gcc 11.4.1

Ubuntu 22.04
	Kernel: 5.4.0-167-generic
	Compiler: gcc 11.4.0

Ubuntu 24.04
	Kernel: 5.4.0-167-generic
	Compiler: gcc 13.2.0

Ubuntu 20.04
	Kernel: 5.4.0-167-generic
	Compiler: gcc 9.4.0-1ubuntu1~20.04.1

To view detailed results, visit:
https://lab.dpdk.org/results/dashboard/patchsets/30288/

UNH-IOL DPDK Community Lab

To manage your email subscriptions, visit: 
https://lab.dpdk.org/results/dashboard/preferences/subscriptions/