From mboxrd@z Thu Jan  1 00:00:00 1970
Return-Path: <test-report-bounces@dpdk.org>
Received: from mails.dpdk.org (mails.dpdk.org [217.70.189.124])
	by inbox.dpdk.org (Postfix) with ESMTP id 745CA454E2
	for <public@inbox.dpdk.org>; Mon, 24 Jun 2024 21:30:09 +0200 (CEST)
Received: from mails.dpdk.org (localhost [127.0.0.1])
	by mails.dpdk.org (Postfix) with ESMTP id 6F34740A82;
	Mon, 24 Jun 2024 21:30:09 +0200 (CEST)
Received: from mail-oa1-f97.google.com (mail-oa1-f97.google.com
 [209.85.160.97]) by mails.dpdk.org (Postfix) with ESMTP id 4E10540A76
 for <test-report@dpdk.org>; Mon, 24 Jun 2024 21:30:08 +0200 (CEST)
Received: by mail-oa1-f97.google.com with SMTP id
 586e51a60fabf-25c4d8ae511so2243387fac.2
 for <test-report@dpdk.org>; Mon, 24 Jun 2024 12:30:08 -0700 (PDT)
DKIM-Signature: v=1; a=rsa-sha256; c=relaxed/relaxed;
 d=iol.unh.edu; s=unh-iol; t=1719257407; x=1719862207; darn=dpdk.org;
 h=references:in-reply-to:cc:to:from:subject:message-id:date:from:to
 :cc:subject:date:message-id:reply-to;
 bh=n2rTQd6UA0gDy5ng/4UrSa8pZKteqt+xI4uhbgF55F4=;
 b=VSH401zDVg8V9PlOnzqlILTQoH7Q5Aom+mueuQCaSjn3r8anL7EnFFC78NBpuA5p+u
 sIVisIH1HdRzgRPRPvQD52rgjzzL0za5BDiOELd+RuUoFy3eTBtEkkoWVtQ4WrLaDdCr
 cjp38kmxYHpnS/12l8exbB5wF/mhP0ND4d2+w=
X-Google-DKIM-Signature: v=1; a=rsa-sha256; c=relaxed/relaxed;
 d=1e100.net; s=20230601; t=1719257407; x=1719862207;
 h=references:in-reply-to:cc:to:from:subject:message-id:date
 :x-gm-message-state:from:to:cc:subject:date:message-id:reply-to;
 bh=n2rTQd6UA0gDy5ng/4UrSa8pZKteqt+xI4uhbgF55F4=;
 b=fqfBLJONaI8mKtnKFKW9lu3rcruthITVBdzpRgHgbjI466h4qUEJ3llxRrEaBN8FqS
 K0JfBbWEva1eBJKF0AXFf7Q8JnC9fVp4qSxvyjVztbL1g2AynOwSLZwXmRwUwv49BiSX
 Bvc7L1dhNqL//jHzfYuH9+ABwhFISm2iWYjQe9XHrkc/fi1r8g4JN2zs6FwlkrHZB3aC
 aefI3Z4orFaco7mNNfI1wn8UfUZVE54rEf5wohsM5JraiZx2OfnSQWKebTCf8eMshorq
 GZmMpC6qBVcaGe7gJn/JaIJqQVjqEnpaSdY9WN/Lh8Sy9VHpCnhXzjOgyrNTaaEWpxof
 t2Vg==
X-Gm-Message-State: AOJu0Yy9Qd0PiEsBiggdNSDLMlSAvwUcxMPyp7Dnz8OkgsHrBwDJbdaZ
 94ZShMCLb1j5xpn32nPgIwlAdRYyc/madkJiVw7Ejlxi65LHpqhzu4dAOltoSXeHOVjL++H9fbA
 iTdI+RGXyPAD4rNhF2c30kTW6QECNGruMBrgigs5N
X-Google-Smtp-Source: AGHT+IG/P+7IxOg7ARqKha3nsY1F+33bKnsJqstypYXetG1EY3IHjvS+vThKJ889MnoTPx4b5Y5RYO3mnIs9
X-Received: by 2002:a05:6870:3906:b0:254:bb5d:468c with SMTP id
 586e51a60fabf-25d06c3156amr5675269fac.21.1719257407602; 
 Mon, 24 Jun 2024 12:30:07 -0700 (PDT)
Received: from postal.iol.unh.edu (postal.iol.unh.edu. [132.177.123.84])
 by smtp-relay.gmail.com with ESMTPS id
 41be03b00d2f7-716c09805d6sm400086a12.26.2024.06.24.12.30.07
 (version=TLS1_2 cipher=ECDHE-ECDSA-AES128-GCM-SHA256 bits=128/128);
 Mon, 24 Jun 2024 12:30:07 -0700 (PDT)
X-Relaying-Domain: iol.unh.edu
Date: Mon, 24 Jun 2024 12:30:07 -0700 (PDT)
Message-ID: <6679c93f.630a0220.c4312.db59SMTPIN_ADDED_MISSING@mx.google.com>
Received: from [172.21.0.6] (unknown [172.18.0.240])
 by postal.iol.unh.edu (Postfix) with ESMTP id CB311605C373;
 Mon, 24 Jun 2024 15:30:06 -0400 (EDT)
Subject: |SUCCESS| pw141533-141553 [PATCH] [v5,21/21] doc: updated the docume
From: dpdklab@iol.unh.edu
To: Test Report <test-report@dpdk.org>
Cc: dpdk-test-reports@iol.unh.edu
In-Reply-To: <20240624091644.2404658-22-soumyadeep.hore@intel.com>
References: <20240624091644.2404658-22-soumyadeep.hore@intel.com>
Content-Type: text/plain
X-BeenThere: test-report@dpdk.org
X-Mailman-Version: 2.1.29
Precedence: list
List-Id: automatic DPDK test reports <test-report.dpdk.org>
List-Unsubscribe: <https://mails.dpdk.org/options/test-report>,
 <mailto:test-report-request@dpdk.org?subject=unsubscribe>
List-Archive: <http://mails.dpdk.org/archives/test-report/>
List-Post: <mailto:test-report@dpdk.org>
List-Help: <mailto:test-report-request@dpdk.org?subject=help>
List-Subscribe: <https://mails.dpdk.org/listinfo/test-report>,
 <mailto:test-report-request@dpdk.org?subject=subscribe>
Errors-To: test-report-bounces@dpdk.org

Test-Label: iol-compile-amd64-testing
Test-Status: SUCCESS
http://dpdk.org/patch/141553

_Testing PASS_

Submitter: Soumyadeep Hore <soumyadeep.hore@intel.com>
Date: Monday, June 24 2024 09:16:44 
DPDK git baseline: Repo:dpdk
  Branch: master
  CommitID:eabbac98af1345157e07c431e18543296c37c355

141533-141553 --> testing pass

Test environment and result as below:

+---------------------+--------------------+----------------------+-------------------+------------------+-------------------+
|     Environment     | dpdk_meson_compile | dpdk_mingw64_compile | dpdk_msvc_compile | dpdk_compile_ovs | dpdk_compile_spdk |
+=====================+====================+======================+===================+==================+===================+
| FreeBSD 13.3        | PASS               | SKIPPED              | SKIPPED           | SKIPPED          | SKIPPED           |
+---------------------+--------------------+----------------------+-------------------+------------------+-------------------+
| Windows Server 2022 | PASS               | PASS                 | PASS              | SKIPPED          | SKIPPED           |
+---------------------+--------------------+----------------------+-------------------+------------------+-------------------+
| FreeBSD 14.1        | PASS               | SKIPPED              | SKIPPED           | SKIPPED          | SKIPPED           |
+---------------------+--------------------+----------------------+-------------------+------------------+-------------------+
| Windows Server 2019 | PASS               | PASS                 | SKIPPED           | SKIPPED          | SKIPPED           |
+---------------------+--------------------+----------------------+-------------------+------------------+-------------------+
| CentOS Stream 8     | PASS               | SKIPPED              | SKIPPED           | PASS             | PASS              |
+---------------------+--------------------+----------------------+-------------------+------------------+-------------------+
| Fedora 40           | PASS               | SKIPPED              | SKIPPED           | PASS             | PASS              |
+---------------------+--------------------+----------------------+-------------------+------------------+-------------------+
| CentOS Stream 9     | PASS               | SKIPPED              | SKIPPED           | PASS             | PASS              |
+---------------------+--------------------+----------------------+-------------------+------------------+-------------------+
| Fedora 39           | PASS               | SKIPPED              | SKIPPED           | PASS             | SKIPPED           |
+---------------------+--------------------+----------------------+-------------------+------------------+-------------------+


FreeBSD 13.3
	Kernel: 13.3-RELEASE-p1
	Compiler: clang 17.0.6

Windows Server 2022
	Kernel: 10.0.20348.2031
	Compiler: clang 15.0.7, gcc 8.1.0 (MinGW), and MSVC VS 17.9

FreeBSD 14.1
	Kernel: 14.1
	Compiler: clang 18.1.5

Windows Server 2019
	Kernel: 10.0.17763
	Compiler: clang 14.0 and gcc 8.1.0 (MinGW)

CentOS Stream 8
	Kernel: 5.4.0-167-generic
	Compiler: gcc 8.5.0 20210514

Fedora 40
	Kernel: Depends on container host
	Compiler: gcc 14.1.1

CentOS Stream 9
	Kernel: 5.4.0-167-generic
	Compiler: gcc 11.4.1 20230605

Fedora 39
	Kernel: Depends on container host
	Compiler: gcc 13.2.1

To view detailed results, visit:
https://lab.dpdk.org/results/dashboard/patchsets/30288/

UNH-IOL DPDK Community Lab

To manage your email subscriptions, visit: 
https://lab.dpdk.org/results/dashboard/preferences/subscriptions/