From mboxrd@z Thu Jan  1 00:00:00 1970
Return-Path: <test-report-bounces@dpdk.org>
Received: from mails.dpdk.org (mails.dpdk.org [217.70.189.124])
	by inbox.dpdk.org (Postfix) with ESMTP id BCC5D454E2
	for <public@inbox.dpdk.org>; Mon, 24 Jun 2024 21:32:15 +0200 (CEST)
Received: from mails.dpdk.org (localhost [127.0.0.1])
	by mails.dpdk.org (Postfix) with ESMTP id B6C2640A82;
	Mon, 24 Jun 2024 21:32:15 +0200 (CEST)
Received: from mail-pg1-f227.google.com (mail-pg1-f227.google.com
 [209.85.215.227])
 by mails.dpdk.org (Postfix) with ESMTP id CEF9840A76
 for <test-report@dpdk.org>; Mon, 24 Jun 2024 21:32:14 +0200 (CEST)
Received: by mail-pg1-f227.google.com with SMTP id
 41be03b00d2f7-6e7b121be30so3521385a12.1
 for <test-report@dpdk.org>; Mon, 24 Jun 2024 12:32:14 -0700 (PDT)
DKIM-Signature: v=1; a=rsa-sha256; c=relaxed/relaxed;
 d=iol.unh.edu; s=unh-iol; t=1719257534; x=1719862334; darn=dpdk.org;
 h=references:in-reply-to:cc:to:from:subject:message-id:date:from:to
 :cc:subject:date:message-id:reply-to;
 bh=crhYS4HDiwwGGh90E7I7IwRaoJAc3Vir2JJ1fJwB1dA=;
 b=bBOjcnvqVE95ZtW/OfPfAUvsDm6KFgXXgT1ApuEPyKtBUqybLA2/HB0RIc8IO/HM4l
 jPG67QmckK/hfKK41Sy6D4qSITx53r/G5kI4tld7N2DafWb+B6nDOmIl9y7Os/JXcv3Z
 v2HnqXRvz/dk8VH6cs8hvkcO56O4KPcMwMpZg=
X-Google-DKIM-Signature: v=1; a=rsa-sha256; c=relaxed/relaxed;
 d=1e100.net; s=20230601; t=1719257534; x=1719862334;
 h=references:in-reply-to:cc:to:from:subject:message-id:date
 :x-gm-message-state:from:to:cc:subject:date:message-id:reply-to;
 bh=crhYS4HDiwwGGh90E7I7IwRaoJAc3Vir2JJ1fJwB1dA=;
 b=iiHICAFeGIL+P5tRmb1cmDNiEo4luc/ZQx0ymhCV/RGyqVOz9AGYQT9n4BKEdDszic
 Uj/ZfP5HENTpHDf/BTWwsrFcUNcqUP33FW/OpM8c2nIGrsKNR9ztRPpHk9lSEhGmBzt6
 tnHA+YFnfvUtf4/rc+E/3Bq9I+Vftes5PBJ4pvYj4DdqHHEWj07zW+Ye5ziT/zMQJSQo
 fAc+ufOzSsAb6YdLQ0JOo3YVMYT6S8elhJ/zeetN9qWx5ie7PrOOEGMwkT3RLSWnT5SH
 Q76VCa5ul5Y/3u6l0/r04BX5Eo64Gxy43BDhNQJobg9jdVQcgWamyI+fIWwjSd6Kercf
 LgGA==
X-Gm-Message-State: AOJu0YwseQ3oA9pTqEXVYBQjLFBBLxEsMisv6IppgVxZqNTRE6Q8l0D4
 4ALdKX6rkbynl4MogWrUVs+mVM4MRUaG7DDtj5UdFspCmSgXoVsMcIA+DIXlOPTPBx8gqfOXa8z
 1jL4Q86cKSUWYrE7eMAdd4DLajF5vF0GxM3hOBAvG
X-Google-Smtp-Source: AGHT+IHhY0Gtg3DSuWCLFJPQQxX6Uy/Ol6n7QcM3cWGi5FLIgJoBB9HbW7Cfg7GfhPalAraZjuxyeMBmJJKp
X-Received: by 2002:a17:90b:17d2:b0:2c7:a8ca:90fb with SMTP id
 98e67ed59e1d1-2c8613db271mr4248064a91.29.1719257533897; 
 Mon, 24 Jun 2024 12:32:13 -0700 (PDT)
Received: from postal.iol.unh.edu (postal.iol.unh.edu. [132.177.123.84])
 by smtp-relay.gmail.com with ESMTPS id
 98e67ed59e1d1-2c7e4f03c64sm607446a91.4.2024.06.24.12.32.13
 (version=TLS1_2 cipher=ECDHE-ECDSA-AES128-GCM-SHA256 bits=128/128);
 Mon, 24 Jun 2024 12:32:13 -0700 (PDT)
X-Relaying-Domain: iol.unh.edu
Date: Mon, 24 Jun 2024 12:32:13 -0700 (PDT)
Message-ID: <6679c9bd.170a0220.aac8a.cb99SMTPIN_ADDED_MISSING@mx.google.com>
Received: from [172.21.0.6] (unknown [172.18.0.240])
 by postal.iol.unh.edu (Postfix) with ESMTP id EFF30605C373;
 Mon, 24 Jun 2024 15:32:12 -0400 (EDT)
Subject: |SUCCESS| pw141533-141553 [PATCH] [v5,21/21] doc: updated the docume
From: dpdklab@iol.unh.edu
To: Test Report <test-report@dpdk.org>
Cc: Soumyadeep Hore <soumyadeep.hore@intel.com>
In-Reply-To: <20240624091644.2404658-22-soumyadeep.hore@intel.com>
References: <20240624091644.2404658-22-soumyadeep.hore@intel.com>
Content-Type: text/plain
X-BeenThere: test-report@dpdk.org
X-Mailman-Version: 2.1.29
Precedence: list
List-Id: automatic DPDK test reports <test-report.dpdk.org>
List-Unsubscribe: <https://mails.dpdk.org/options/test-report>,
 <mailto:test-report-request@dpdk.org?subject=unsubscribe>
List-Archive: <http://mails.dpdk.org/archives/test-report/>
List-Post: <mailto:test-report@dpdk.org>
List-Help: <mailto:test-report-request@dpdk.org?subject=help>
List-Subscribe: <https://mails.dpdk.org/listinfo/test-report>,
 <mailto:test-report-request@dpdk.org?subject=subscribe>
Errors-To: test-report-bounces@dpdk.org

Test-Label: iol-compile-amd64-testing
Test-Status: SUCCESS
http://dpdk.org/patch/141553

_Testing PASS_

Submitter: Soumyadeep Hore <soumyadeep.hore@intel.com>
Date: Monday, June 24 2024 09:16:44 
DPDK git baseline: Repo:dpdk
  Branch: master
  CommitID:eabbac98af1345157e07c431e18543296c37c355

141533-141553 --> testing pass

Test environment and result as below:

+---------------------+--------------------+----------------------+-------------------+------------------+-------------------+
|     Environment     | dpdk_meson_compile | dpdk_mingw64_compile | dpdk_msvc_compile | dpdk_compile_ovs | dpdk_compile_spdk |
+=====================+====================+======================+===================+==================+===================+
| FreeBSD 13.3        | PASS               | SKIPPED              | SKIPPED           | SKIPPED          | SKIPPED           |
+---------------------+--------------------+----------------------+-------------------+------------------+-------------------+
| Windows Server 2022 | PASS               | PASS                 | PASS              | SKIPPED          | SKIPPED           |
+---------------------+--------------------+----------------------+-------------------+------------------+-------------------+
| FreeBSD 14.1        | PASS               | SKIPPED              | SKIPPED           | SKIPPED          | SKIPPED           |
+---------------------+--------------------+----------------------+-------------------+------------------+-------------------+
| Windows Server 2019 | PASS               | PASS                 | SKIPPED           | SKIPPED          | SKIPPED           |
+---------------------+--------------------+----------------------+-------------------+------------------+-------------------+
| CentOS Stream 8     | PASS               | SKIPPED              | SKIPPED           | PASS             | PASS              |
+---------------------+--------------------+----------------------+-------------------+------------------+-------------------+
| Fedora 40           | PASS               | SKIPPED              | SKIPPED           | PASS             | PASS              |
+---------------------+--------------------+----------------------+-------------------+------------------+-------------------+
| CentOS Stream 9     | PASS               | SKIPPED              | SKIPPED           | PASS             | PASS              |
+---------------------+--------------------+----------------------+-------------------+------------------+-------------------+
| Fedora 39           | PASS               | SKIPPED              | SKIPPED           | PASS             | PASS              |
+---------------------+--------------------+----------------------+-------------------+------------------+-------------------+
| Debian Bullseye     | PASS               | SKIPPED              | SKIPPED           | PASS             | PASS              |
+---------------------+--------------------+----------------------+-------------------+------------------+-------------------+


FreeBSD 13.3
	Kernel: 13.3-RELEASE-p1
	Compiler: clang 17.0.6

Windows Server 2022
	Kernel: 10.0.20348.2031
	Compiler: clang 15.0.7, gcc 8.1.0 (MinGW), and MSVC VS 17.9

FreeBSD 14.1
	Kernel: 14.1
	Compiler: clang 18.1.5

Windows Server 2019
	Kernel: 10.0.17763
	Compiler: clang 14.0 and gcc 8.1.0 (MinGW)

CentOS Stream 8
	Kernel: 5.4.0-167-generic
	Compiler: gcc 8.5.0 20210514

Fedora 40
	Kernel: Depends on container host
	Compiler: gcc 14.1.1

CentOS Stream 9
	Kernel: 5.4.0-167-generic
	Compiler: gcc 11.4.1 20230605

Fedora 39
	Kernel: Depends on container host
	Compiler: gcc 13.2.1

Debian Bullseye
	Kernel: 5.4.0-167-generic
	Compiler: gcc 10.2.1-6

To view detailed results, visit:
https://lab.dpdk.org/results/dashboard/patchsets/30288/

UNH-IOL DPDK Community Lab

To manage your email subscriptions, visit: 
https://lab.dpdk.org/results/dashboard/preferences/subscriptions/