From mboxrd@z Thu Jan  1 00:00:00 1970
Return-Path: <test-report-bounces@dpdk.org>
Received: from mails.dpdk.org (mails.dpdk.org [217.70.189.124])
	by inbox.dpdk.org (Postfix) with ESMTP id B8479454E2
	for <public@inbox.dpdk.org>; Mon, 24 Jun 2024 21:54:26 +0200 (CEST)
Received: from mails.dpdk.org (localhost [127.0.0.1])
	by mails.dpdk.org (Postfix) with ESMTP id A032440A82;
	Mon, 24 Jun 2024 21:54:26 +0200 (CEST)
Received: from mail-pl1-f226.google.com (mail-pl1-f226.google.com
 [209.85.214.226])
 by mails.dpdk.org (Postfix) with ESMTP id 64A8D40A76
 for <test-report@dpdk.org>; Mon, 24 Jun 2024 21:54:25 +0200 (CEST)
Received: by mail-pl1-f226.google.com with SMTP id
 d9443c01a7336-1f70c457823so33249715ad.3
 for <test-report@dpdk.org>; Mon, 24 Jun 2024 12:54:25 -0700 (PDT)
DKIM-Signature: v=1; a=rsa-sha256; c=relaxed/relaxed;
 d=iol.unh.edu; s=unh-iol; t=1719258864; x=1719863664; darn=dpdk.org;
 h=references:in-reply-to:cc:to:from:subject:message-id:date:from:to
 :cc:subject:date:message-id:reply-to;
 bh=rvIaHQzwPYTDqUTTkTJO1z0Q7JZWEH3z5I6NcgXzAhY=;
 b=QL3C1V90Jvw4c2E7epPYEOHIUpdpUhKPI0lBhIx3bmvLXDuBmyisnTaqjI168+Bjgj
 21XHzFm0c8MZIkVkhlmQGlLRlEjrMW2yaK5JulUJxZRqDiQNi4uwHroElQg5FTIjW0tc
 /dxs94y4Hoy/yPmZM3N3HQvZBK/o83gON4Fis=
X-Google-DKIM-Signature: v=1; a=rsa-sha256; c=relaxed/relaxed;
 d=1e100.net; s=20230601; t=1719258864; x=1719863664;
 h=references:in-reply-to:cc:to:from:subject:message-id:date
 :x-gm-message-state:from:to:cc:subject:date:message-id:reply-to;
 bh=rvIaHQzwPYTDqUTTkTJO1z0Q7JZWEH3z5I6NcgXzAhY=;
 b=NRvZ9C0vh+7tdCBpZH4CMnt28jh8rs1Bl2QyonA8JIbtxqo+sZMpdxxvQoVl5A+uH0
 ofa+97PATsRcAWGCUNwJLppVa4/i7cbnlv6jP5U6qx9MsEAPV32K3/0UQ6NfEMkhTO/T
 MVISWtzroYGWtS5qRTYGiQkzBNGz/61BJqdwA8OSSwFBS27bVd/ckzvf7paxnRJF3BTV
 va3uEVNMJ9BDnGQIy0uASWbxAd4+EL4PzaXaHoMIQ5T6HD11KX5klpHD/2Y4XuU1Q6AU
 8hoydzdAJIE9nxBuWU89kBqqQiR7COkTIRFCd1kY651c6whDZwWBKj8qLvAAsT89lvKL
 rkTA==
X-Gm-Message-State: AOJu0YxL9nQbDjk9l+JbXoYAMy68uO7Clx3Mj8rz0MPQdEH8IREn+kQa
 PVSvEcac2sMTgdkJEzXMZ2SwptokLOoXboVBBg1BKnKKbOSYcERwzLOKNLz5A01uJOk5TsICmLt
 MMzl4vxoYjh9W072CuIdNo1AKFyFp9kO09ubBMm/99Cmivo2GzkHlisQm
X-Google-Smtp-Source: AGHT+IEOvdGDAdKOHZnrXBi5NOHuY6oXcR+WI6UIEi3R++BSH2xGC3AbAq6T8HsFrDdChM8GynaA99/xlky4
X-Received: by 2002:a17:902:cece:b0:1fa:1f31:e7a3 with SMTP id
 d9443c01a7336-1fa23ee1cc4mr63485985ad.33.1719258864548; 
 Mon, 24 Jun 2024 12:54:24 -0700 (PDT)
Received: from postal.iol.unh.edu (postal.iol.unh.edu.
 [2606:4100:3880:1234::84]) by smtp-relay.gmail.com with ESMTPS id
 d9443c01a7336-1f9eb2eeeb6sm2222995ad.17.2024.06.24.12.54.24
 (version=TLS1_2 cipher=ECDHE-ECDSA-AES128-GCM-SHA256 bits=128/128);
 Mon, 24 Jun 2024 12:54:24 -0700 (PDT)
X-Relaying-Domain: iol.unh.edu
Date: Mon, 24 Jun 2024 12:54:24 -0700 (PDT)
Message-ID: <6679cef0.170a0220.794d9.08f0SMTPIN_ADDED_MISSING@mx.google.com>
Received: from [172.17.0.4] (unknown [172.18.0.217])
 by postal.iol.unh.edu (Postfix) with ESMTP id AAA67605C373;
 Mon, 24 Jun 2024 15:54:23 -0400 (EDT)
Subject: |SUCCESS| pw141557-141561 [PATCH] [v2,5/5] net/cnxk: fix representor
From: dpdklab@iol.unh.edu
To: Test Report <test-report@dpdk.org>
Cc: dpdk-test-reports@iol.unh.edu
In-Reply-To: <20240624115733.191307-5-hkalra@marvell.com>
References: <20240624115733.191307-5-hkalra@marvell.com>
Content-Type: text/plain
X-BeenThere: test-report@dpdk.org
X-Mailman-Version: 2.1.29
Precedence: list
List-Id: automatic DPDK test reports <test-report.dpdk.org>
List-Unsubscribe: <https://mails.dpdk.org/options/test-report>,
 <mailto:test-report-request@dpdk.org?subject=unsubscribe>
List-Archive: <http://mails.dpdk.org/archives/test-report/>
List-Post: <mailto:test-report@dpdk.org>
List-Help: <mailto:test-report-request@dpdk.org?subject=help>
List-Subscribe: <https://mails.dpdk.org/listinfo/test-report>,
 <mailto:test-report-request@dpdk.org?subject=subscribe>
Errors-To: test-report-bounces@dpdk.org

Test-Label: iol-unit-amd64-testing
Test-Status: SUCCESS
http://dpdk.org/patch/141561

_Testing PASS_

Submitter: Harman Kalra <hkalra@marvell.com>
Date: Monday, June 24 2024 11:57:33 
DPDK git baseline: Repo:dpdk
  Branch: master
  CommitID:4a44d97f0a52a76258c6a6cb6a713f4380a8ab1f

141557-141561 --> testing pass

Test environment and result as below:

+---------------------+----------------+
|     Environment     | dpdk_unit_test |
+=====================+================+
| Windows Server 2019 | PASS           |
+---------------------+----------------+
| Windows Server 2022 | PASS           |
+---------------------+----------------+
| CentOS Stream 9     | PASS           |
+---------------------+----------------+
| Debian Bullseye     | PASS           |
+---------------------+----------------+
| Debian 12           | PASS           |
+---------------------+----------------+
| Fedora 38           | PASS           |
+---------------------+----------------+
| CentOS Stream 8     | PASS           |
+---------------------+----------------+
| Fedora 39           | PASS           |
+---------------------+----------------+
| Fedora 37           | PASS           |
+---------------------+----------------+
| Fedora 40           | PASS           |
+---------------------+----------------+
| openSUSE Leap 15    | PASS           |
+---------------------+----------------+
| RHEL9               | PASS           |
+---------------------+----------------+


Windows Server 2019
	Kernel: 10.0.17763
	Compiler: clang 14.0 and gcc 8.1.0 (MinGW)

Windows Server 2022
	Kernel: 10.0.20348.2031
	Compiler: clang 15.0.7, gcc 8.1.0 (MinGW), and MSVC VS 17.9

CentOS Stream 9
	Kernel: 5.4.0-167-generic
	Compiler: gcc 11.4.1 20230605

Debian Bullseye
	Kernel: 5.4.0-167-generic
	Compiler: gcc 10.2.1-6

Debian 12
	Kernel: Container Host Kernel
	Compiler: gcc 12.2.0

Fedora 38
	Kernel: Depends on container host
	Compiler: gcc 13.2.1

CentOS Stream 8
	Kernel: 5.4.0-167-generic
	Compiler: gcc 8.5.0 20210514

Fedora 39
	Kernel: Depends on container host
	Compiler: gcc 13.2.1

Fedora 37
	Kernel: Depends on container host system
	Compiler: gcc 12.3.1

Fedora 40
	Kernel: Depends on container host
	Compiler: clang 18.1.6

openSUSE Leap 15
	Kernel: 5.4.0-167-generic
	Compiler: gcc 7.5.0

RHEL9
	Kernel: Depends on container host
	Compiler: gcc 11.4.1

To view detailed results, visit:
https://lab.dpdk.org/results/dashboard/patchsets/30292/

UNH-IOL DPDK Community Lab

To manage your email subscriptions, visit: 
https://lab.dpdk.org/results/dashboard/preferences/subscriptions/