From mboxrd@z Thu Jan  1 00:00:00 1970
Return-Path: <test-report-bounces@dpdk.org>
Received: from mails.dpdk.org (mails.dpdk.org [217.70.189.124])
	by inbox.dpdk.org (Postfix) with ESMTP id C8CDB454E3
	for <public@inbox.dpdk.org>; Mon, 24 Jun 2024 22:20:09 +0200 (CEST)
Received: from mails.dpdk.org (localhost [127.0.0.1])
	by mails.dpdk.org (Postfix) with ESMTP id C272840A76;
	Mon, 24 Jun 2024 22:20:09 +0200 (CEST)
Received: from mail-pg1-f226.google.com (mail-pg1-f226.google.com
 [209.85.215.226])
 by mails.dpdk.org (Postfix) with ESMTP id 24C5D402E1
 for <test-report@dpdk.org>; Mon, 24 Jun 2024 22:20:09 +0200 (CEST)
Received: by mail-pg1-f226.google.com with SMTP id
 41be03b00d2f7-717f17d7c63so2223402a12.0
 for <test-report@dpdk.org>; Mon, 24 Jun 2024 13:20:09 -0700 (PDT)
DKIM-Signature: v=1; a=rsa-sha256; c=relaxed/relaxed;
 d=iol.unh.edu; s=unh-iol; t=1719260408; x=1719865208; darn=dpdk.org;
 h=references:in-reply-to:cc:to:from:subject:message-id:date:from:to
 :cc:subject:date:message-id:reply-to;
 bh=NZ73XAnmRVC8X3JTXhZ/iQGSFNA7IVRgJCG4RoQTnR8=;
 b=djnRr5ijWpO9c7fpNLb4Rq57ebTUXQm5zqRQ44qgjhkSCGV8jZbtGqsjZ2zl440Bz2
 TlgMvsEmaFhjijDbglowXJJeY7dO0sIlD0PH7jtMJsmM99hBc4baqWhPu0oWIUUxSXMv
 8f5hrzboei5Vb7msKSeKPaUi9ZZ2uRok7dUuA=
X-Google-DKIM-Signature: v=1; a=rsa-sha256; c=relaxed/relaxed;
 d=1e100.net; s=20230601; t=1719260408; x=1719865208;
 h=references:in-reply-to:cc:to:from:subject:message-id:date
 :x-gm-message-state:from:to:cc:subject:date:message-id:reply-to;
 bh=NZ73XAnmRVC8X3JTXhZ/iQGSFNA7IVRgJCG4RoQTnR8=;
 b=GX7DD8kisxLPp1SIZF2XtU9v2klEX6JnpvoxmXYuWWJrVEwFKPQ9f5auJVPQcdCo4y
 Pjnm4gCVmKnRWELTEih5oYuLRTn10Uhc5nKoZrM2RlJzkOv0ru+1uf/1JlYxctuA5jMu
 iX+SqXpfpFUfqz9UjSregx2+7cjY2qU5jcT1OQBJM8KSmXSieHCdllETShSHVd3RhUxC
 T6Fq89MAdTukLme4lGVVISEy49U8IrlAK+0/PFYtJl7cydZx/5wtgesnrh2qlE9mdJqA
 oDcCVx/9Jir/lkXb5vBSwr/5QNMsqEJn33JdHdEbbHvqwSMTIU8O3WZ3mP36LGBV6VvI
 w+2A==
X-Gm-Message-State: AOJu0YyVo9hiXOihX3bXLg+om6Ug2n23zdaSgCMvKguCslPNWvHStpti
 2FIrq1R/yHdpyCOy7SAM7lURIoDjPvhxVaqO8aEGXAItVIef2dz97OfGAWMkBrTXqPX9nI5ih+I
 3vcFpMY8msoKFL8qdrmCDyV+5wdTFRnU9H6QZ2jtG
X-Google-Smtp-Source: AGHT+IEONVsV3CfvB1OdC6shLbAK6Aipeo+O0AyzFFsgc3T+1AGQCC6wa9s0BS8a/fOxTnDcCG6afTXg6DeA
X-Received: by 2002:a17:90b:4a8f:b0:2c4:b12b:fcc with SMTP id
 98e67ed59e1d1-2c8613d5beemr3677150a91.27.1719260408226; 
 Mon, 24 Jun 2024 13:20:08 -0700 (PDT)
Received: from postal.iol.unh.edu (postal.iol.unh.edu. [132.177.123.84])
 by smtp-relay.gmail.com with ESMTPS id
 98e67ed59e1d1-2c818457188sm424175a91.0.2024.06.24.13.20.08
 (version=TLS1_2 cipher=ECDHE-ECDSA-AES128-GCM-SHA256 bits=128/128);
 Mon, 24 Jun 2024 13:20:08 -0700 (PDT)
X-Relaying-Domain: iol.unh.edu
Date: Mon, 24 Jun 2024 13:20:08 -0700 (PDT)
Message-ID: <6679d4f8.170a0220.a3746.fe19SMTPIN_ADDED_MISSING@mx.google.com>
Received: from [172.17.0.5] (unknown [172.18.0.217])
 by postal.iol.unh.edu (Postfix) with ESMTP id 4F682605C373;
 Mon, 24 Jun 2024 16:20:07 -0400 (EDT)
Subject: |SUCCESS| pw141533-141553 [PATCH] [v5,21/21] doc: updated the docume
From: dpdklab@iol.unh.edu
To: Test Report <test-report@dpdk.org>
Cc: dpdk-test-reports@iol.unh.edu
In-Reply-To: <20240624091644.2404658-22-soumyadeep.hore@intel.com>
References: <20240624091644.2404658-22-soumyadeep.hore@intel.com>
Content-Type: text/plain
X-BeenThere: test-report@dpdk.org
X-Mailman-Version: 2.1.29
Precedence: list
List-Id: automatic DPDK test reports <test-report.dpdk.org>
List-Unsubscribe: <https://mails.dpdk.org/options/test-report>,
 <mailto:test-report-request@dpdk.org?subject=unsubscribe>
List-Archive: <http://mails.dpdk.org/archives/test-report/>
List-Post: <mailto:test-report@dpdk.org>
List-Help: <mailto:test-report-request@dpdk.org?subject=help>
List-Subscribe: <https://mails.dpdk.org/listinfo/test-report>,
 <mailto:test-report-request@dpdk.org?subject=subscribe>
Errors-To: test-report-bounces@dpdk.org

Test-Label: iol-compile-arm64-testing
Test-Status: SUCCESS
http://dpdk.org/patch/141553

_Testing PASS_

Submitter: Soumyadeep Hore <soumyadeep.hore@intel.com>
Date: Monday, June 24 2024 09:16:44 
DPDK git baseline: Repo:dpdk
  Branch: master
  CommitID:eabbac98af1345157e07c431e18543296c37c355

141533-141553 --> testing pass

Test environment and result as below:

+----------------------------------------+--------------------+
|              Environment               | dpdk_meson_compile |
+========================================+====================+
| Ubuntu 20.04 ARM SVE                   | PASS               |
+----------------------------------------+--------------------+
| Debian 12 with MUSDK                   | PASS               |
+----------------------------------------+--------------------+
| Ubuntu 20.04 (ARM)                     | PASS               |
+----------------------------------------+--------------------+
| Fedora 39 (ARM)                        | PASS               |
+----------------------------------------+--------------------+
| Fedora 40 (ARM)                        | PASS               |
+----------------------------------------+--------------------+
| Debian 12 (arm)                        | PASS               |
+----------------------------------------+--------------------+
| Fedora 37 (ARM)                        | PASS               |
+----------------------------------------+--------------------+
| Fedora 39 (ARM Clang)                  | PASS               |
+----------------------------------------+--------------------+
| Fedora 38 (ARM Clang)                  | PASS               |
+----------------------------------------+--------------------+
| Ubuntu 22.04 (ARM)                     | PASS               |
+----------------------------------------+--------------------+
| Fedora 38 (ARM)                        | PASS               |
+----------------------------------------+--------------------+
| CentOS Stream 9 (ARM)                  | PASS               |
+----------------------------------------+--------------------+
| Fedora 40 (ARM Clang)                  | PASS               |
+----------------------------------------+--------------------+
| Ubuntu 20.04 aarch32 GCC Cross Compile | PASS               |
+----------------------------------------+--------------------+
| Debian 11 (Buster) (ARM)               | PASS               |
+----------------------------------------+--------------------+
| Ubuntu 20.04 ARM GCC Cross Compile     | PASS               |
+----------------------------------------+--------------------+


Ubuntu 20.04 ARM SVE
	Kernel: 5.4.0-167-generic
	Compiler: gcc (Ubuntu 10.5.0-1ubuntu1~20.04) 10.5.0

Debian 12 with MUSDK
	Kernel: Container Host Kernel
	Compiler: gcc 12.2.0

Ubuntu 20.04 (ARM)
	Kernel: Container Host Kernel
	Compiler: gcc 9.4.0

Fedora 39 (ARM)
	Kernel: Depends on container host
	Compiler: gcc 13.2.1

Fedora 40 (ARM)
	Kernel: Depends on container host
	Compiler: gcc 14.1.1

Debian 12 (arm)
	Kernel: Container Host Kernel
	Compiler: gcc 12.2.0

Fedora 37 (ARM)
	Kernel: Depends on container host
	Compiler: gcc 12.3.1

Fedora 39 (ARM Clang)
	Kernel: Depends on container host
	Compiler: clang 17.0.6

Fedora 38 (ARM Clang)
	Kernel: Depends on container host
	Compiler: clang 16.0.6

Ubuntu 22.04 (ARM)
	Kernel: Container Host Kernel
	Compiler: gcc 11.4.0

Fedora 38 (ARM)
	Kernel: Depends on container host
	Compiler: gcc 13.2.1

CentOS Stream 9 (ARM)
	Kernel: Container Host Kernel
	Compiler: gcc 11.4.1

Fedora 40 (ARM Clang)
	Kernel: Depends on container host
	Compiler: clang 18.1.6

Ubuntu 20.04 aarch32 GCC Cross Compile
	Kernel: 5.4.0-167-generic
	Compiler: gcc 9.4.0

Debian 11 (Buster) (ARM)
	Kernel: Container Host Kernel
	Compiler: gcc 10.2.1

Ubuntu 20.04 ARM GCC Cross Compile
	Kernel: 5.4.0-167-generic
	Compiler: aarch64-linux-gnu-gcc (Ubuntu 9.4.0-1ubuntu1~20.04.2) 9.4.0

To view detailed results, visit:
https://lab.dpdk.org/results/dashboard/patchsets/30288/

UNH-IOL DPDK Community Lab

To manage your email subscriptions, visit: 
https://lab.dpdk.org/results/dashboard/preferences/subscriptions/