From mboxrd@z Thu Jan  1 00:00:00 1970
Return-Path: <test-report-bounces@dpdk.org>
Received: from mails.dpdk.org (mails.dpdk.org [217.70.189.124])
	by inbox.dpdk.org (Postfix) with ESMTP id 2D4B2454E3
	for <public@inbox.dpdk.org>; Mon, 24 Jun 2024 22:23:21 +0200 (CEST)
Received: from mails.dpdk.org (localhost [127.0.0.1])
	by mails.dpdk.org (Postfix) with ESMTP id 27E5640A76;
	Mon, 24 Jun 2024 22:23:21 +0200 (CEST)
Received: from mail-pl1-f226.google.com (mail-pl1-f226.google.com
 [209.85.214.226])
 by mails.dpdk.org (Postfix) with ESMTP id B0116402E1
 for <test-report@dpdk.org>; Mon, 24 Jun 2024 22:23:11 +0200 (CEST)
Received: by mail-pl1-f226.google.com with SMTP id
 d9443c01a7336-1f9de13d6baso31810195ad.2
 for <test-report@dpdk.org>; Mon, 24 Jun 2024 13:23:11 -0700 (PDT)
DKIM-Signature: v=1; a=rsa-sha256; c=relaxed/relaxed;
 d=iol.unh.edu; s=unh-iol; t=1719260591; x=1719865391; darn=dpdk.org;
 h=references:in-reply-to:cc:to:from:subject:message-id:date:from:to
 :cc:subject:date:message-id:reply-to;
 bh=NYpclXwIPdvQM8jwkBfq293vJ/ZksP62IZuKgAFKJaI=;
 b=KFg3DGK2YfWTtqS/eEyCIIZM1+/9ieopGs1qA5/tvKi6E0OKUuNkcWRcGlV5hD8GTH
 yuwIFDR5UdcNPwHiqwnPS+4MjRq+fq3kUD6qQfTapO+X67F0nc1sakMsMY7OjjDyFubg
 8LpAOQ4tvr7wUddyxbdyxGSGPqpelnAfFZjC0=
X-Google-DKIM-Signature: v=1; a=rsa-sha256; c=relaxed/relaxed;
 d=1e100.net; s=20230601; t=1719260591; x=1719865391;
 h=references:in-reply-to:cc:to:from:subject:message-id:date
 :x-gm-message-state:from:to:cc:subject:date:message-id:reply-to;
 bh=NYpclXwIPdvQM8jwkBfq293vJ/ZksP62IZuKgAFKJaI=;
 b=CzzAmtpWgCP7+3KEAv3Q7dNUPV5vZcJNQbW35RJU3DII7OjMV02f6rhCTUAZQ0qaC8
 Dyyzh8oatzbRPlIkv/JLg9cde+iJ+paccdSNoHWm685Zt3v4ZujoEJ9BTBsQUCNHHvVo
 7SYeRInoyX9OTg5J1M6jvb/JLG1aZJfIU6z20M8UTZXvee3f+kZ8IYUlI3ys0bWlwiGr
 nsaQexW37ntVSyKnbq/7C2SVaAht0h4VEt9RZ1JM+300vbKtJ35VYzkmyvF1+OgLtGwO
 QYONQ4E/TReBAx9jjqwZq83tNscVh0FxkAFdf+xHc5oRbu39KB8whh9ADywA7Gi52TQK
 I/pA==
X-Gm-Message-State: AOJu0YyTJ3vT7vyd73G6B3dmRZUr9D6z2E7m15+1xeaFk0d2c8M5jD6N
 G0LfLJ/6UunOJf8Mzo+YyMmHSsuHakxN3pC+k3I6yTUkpCLH80fMzTcSQbzCUu7hAN7BYRK9bhj
 +Yx2du7PBJHAfeXrn8mz7gZes4JUOKeIqwOKtEWDx
X-Google-Smtp-Source: AGHT+IEyfRqIZMX95Xgc7X8/F5Nl1056kEXImvIC4qtrG1BBEnycXuQtJ0Pz5zg9TktxtlecDH6tpBWATXWz
X-Received: by 2002:a17:903:186:b0:1f7:c33:aa7b with SMTP id
 d9443c01a7336-1fa23f22680mr62217405ad.12.1719260590752; 
 Mon, 24 Jun 2024 13:23:10 -0700 (PDT)
Received: from postal.iol.unh.edu (postal.iol.unh.edu. [132.177.123.84])
 by smtp-relay.gmail.com with ESMTPS id
 d9443c01a7336-1f9eb3c6704sm1413025ad.115.2024.06.24.13.23.10
 (version=TLS1_2 cipher=ECDHE-ECDSA-AES128-GCM-SHA256 bits=128/128);
 Mon, 24 Jun 2024 13:23:10 -0700 (PDT)
X-Relaying-Domain: iol.unh.edu
Date: Mon, 24 Jun 2024 13:23:10 -0700 (PDT)
Message-ID: <6679d5ae.170a0220.3f4cf.a79dSMTPIN_ADDED_MISSING@mx.google.com>
Received: from [172.21.0.7] (unknown [172.18.0.240])
 by postal.iol.unh.edu (Postfix) with ESMTP id 24A74605C373;
 Mon, 24 Jun 2024 16:23:10 -0400 (EDT)
Subject: |SUCCESS| pw141557-141561 [PATCH] [v2,5/5] net/cnxk: fix representor
From: dpdklab@iol.unh.edu
To: Test Report <test-report@dpdk.org>
Cc: dpdk-test-reports@iol.unh.edu
In-Reply-To: <20240624115733.191307-5-hkalra@marvell.com>
References: <20240624115733.191307-5-hkalra@marvell.com>
Content-Type: text/plain
X-BeenThere: test-report@dpdk.org
X-Mailman-Version: 2.1.29
Precedence: list
List-Id: automatic DPDK test reports <test-report.dpdk.org>
List-Unsubscribe: <https://mails.dpdk.org/options/test-report>,
 <mailto:test-report-request@dpdk.org?subject=unsubscribe>
List-Archive: <http://mails.dpdk.org/archives/test-report/>
List-Post: <mailto:test-report@dpdk.org>
List-Help: <mailto:test-report-request@dpdk.org?subject=help>
List-Subscribe: <https://mails.dpdk.org/listinfo/test-report>,
 <mailto:test-report-request@dpdk.org?subject=subscribe>
Errors-To: test-report-bounces@dpdk.org

Test-Label: iol-unit-amd64-testing
Test-Status: SUCCESS
http://dpdk.org/patch/141561

_Testing PASS_

Submitter: Harman Kalra <hkalra@marvell.com>
Date: Monday, June 24 2024 11:57:33 
DPDK git baseline: Repo:dpdk
  Branch: master
  CommitID:4a44d97f0a52a76258c6a6cb6a713f4380a8ab1f

141557-141561 --> testing pass

Test environment and result as below:

+---------------------+----------------+
|     Environment     | dpdk_unit_test |
+=====================+================+
| Windows Server 2019 | PASS           |
+---------------------+----------------+
| Windows Server 2022 | PASS           |
+---------------------+----------------+
| CentOS Stream 8     | PASS           |
+---------------------+----------------+
| Debian Bullseye     | PASS           |
+---------------------+----------------+
| Fedora 37           | PASS           |
+---------------------+----------------+
| Debian 12           | PASS           |
+---------------------+----------------+
| CentOS Stream 9     | PASS           |
+---------------------+----------------+
| Fedora 39           | PASS           |
+---------------------+----------------+


Windows Server 2019
	Kernel: 10.0.17763
	Compiler: clang 14.0 and gcc 8.1.0 (MinGW)

Windows Server 2022
	Kernel: 10.0.20348.2031
	Compiler: clang 15.0.7, gcc 8.1.0 (MinGW), and MSVC VS 17.9

CentOS Stream 8
	Kernel: 5.4.0-167-generic
	Compiler: gcc 8.5.0 20210514

Debian Bullseye
	Kernel: 5.4.0-167-generic
	Compiler: gcc 10.2.1-6

Fedora 37
	Kernel: Depends on container host system
	Compiler: gcc 12.3.1

Debian 12
	Kernel: Container Host Kernel
	Compiler: gcc 12.2.0

CentOS Stream 9
	Kernel: 5.4.0-167-generic
	Compiler: gcc 11.4.1 20230605

Fedora 39
	Kernel: Depends on container host
	Compiler: gcc 13.2.1

To view detailed results, visit:
https://lab.dpdk.org/results/dashboard/patchsets/30292/

UNH-IOL DPDK Community Lab

To manage your email subscriptions, visit: 
https://lab.dpdk.org/results/dashboard/preferences/subscriptions/