From mboxrd@z Thu Jan  1 00:00:00 1970
Return-Path: <test-report-bounces@dpdk.org>
Received: from mails.dpdk.org (mails.dpdk.org [217.70.189.124])
	by inbox.dpdk.org (Postfix) with ESMTP id C1D14454E9
	for <public@inbox.dpdk.org>; Tue, 25 Jun 2024 02:42:48 +0200 (CEST)
Received: from mails.dpdk.org (localhost [127.0.0.1])
	by mails.dpdk.org (Postfix) with ESMTP id B9FA4402C4;
	Tue, 25 Jun 2024 02:42:48 +0200 (CEST)
Received: from mail-il1-f228.google.com (mail-il1-f228.google.com
 [209.85.166.228])
 by mails.dpdk.org (Postfix) with ESMTP id B9EF64026F
 for <test-report@dpdk.org>; Tue, 25 Jun 2024 02:42:47 +0200 (CEST)
Received: by mail-il1-f228.google.com with SMTP id
 e9e14a558f8ab-375e96f5fddso18039435ab.1
 for <test-report@dpdk.org>; Mon, 24 Jun 2024 17:42:47 -0700 (PDT)
DKIM-Signature: v=1; a=rsa-sha256; c=relaxed/relaxed;
 d=iol.unh.edu; s=unh-iol; t=1719276167; x=1719880967; darn=dpdk.org;
 h=references:in-reply-to:cc:to:from:subject:message-id:date:from:to
 :cc:subject:date:message-id:reply-to;
 bh=F4xdJgBxmSs5ZEjcw85ewW1pZ9DpmPzbWenFskn9gO4=;
 b=FTUDy95hCt1pOXsmasRw9XsvIyZjWjzMqYVnae/HgDsGYr0UeZQM+Ix2EXNfhBRivO
 xtW8jUqcb4+gaOEqOYrRYUqVf7Q3VqMorQvERQmfM1hhNzaQOySaIK3mkCsvHvVg1zhw
 0OmT4UV9RwvglbgfeiV/8m9N7Mj6dkjWZCVKM=
X-Google-DKIM-Signature: v=1; a=rsa-sha256; c=relaxed/relaxed;
 d=1e100.net; s=20230601; t=1719276167; x=1719880967;
 h=references:in-reply-to:cc:to:from:subject:message-id:date
 :x-gm-message-state:from:to:cc:subject:date:message-id:reply-to;
 bh=F4xdJgBxmSs5ZEjcw85ewW1pZ9DpmPzbWenFskn9gO4=;
 b=TBvN6dUm+T67/mCDrsSsCALoA+RBdPUoNyazieFL/+bUQKfYr2qcA0YCxZg5aFpebA
 gX8vVbLlFAl4Ykt5L1LrHtBcBPNMjCTjdNsilFRf+KQ9gp2QI+2TsRHd36LuE4MIuMzF
 hpHuW7bk2UllSb0bqVqEuWRTg9eTsWdcIry0KYxppDMGTRsTFDduyt8aiGXstnDkGIa6
 nGQWxVl2NQwqaVry3/iKadGSjBPgCRsWRPyKvFF7nHEZZJl2GhVOd7xJCcBfud8SzPn/
 dDJZrtGDI0u57mUEPemQuy7S2Rczspv7I2cKQW/TYjBLBJKZ0apdEwX9mKshg/txaEkM
 XMCA==
X-Gm-Message-State: AOJu0YwVyb3NedQYivlI9sBnelaDdLSpEkoNstuwpY42JDhHVpwv7AxZ
 GYn0c5DV2E9UKMaVpwp4F8V8Rp80f+ER6DryWrPtJxubtEgWe+Ah7zs+wR/5eWEapGwMoVJ1JPc
 q3ym9mIzUV6TXT9gbrEcvQB/siJd6gn7NUpqmNGivUP6gFBeigY5TfdEC
X-Google-Smtp-Source: AGHT+IGDhmyymo6FUVe9TEpr18ShE59SxVRclMLRxPBpFjyKHUzR4uo0T17U2ki5qAqoLpvdXXviqWCDML15
X-Received: by 2002:a05:6e02:1e06:b0:376:26b2:6ac8 with SMTP id
 e9e14a558f8ab-3763df8e3d6mr69656145ab.11.1719276167133; 
 Mon, 24 Jun 2024 17:42:47 -0700 (PDT)
Received: from postal.iol.unh.edu (postal.iol.unh.edu.
 [2606:4100:3880:1234::84]) by smtp-relay.gmail.com with ESMTPS id
 e9e14a558f8ab-3762f303d31sm4789875ab.4.2024.06.24.17.42.47
 (version=TLS1_2 cipher=ECDHE-ECDSA-AES128-GCM-SHA256 bits=128/128);
 Mon, 24 Jun 2024 17:42:47 -0700 (PDT)
X-Relaying-Domain: iol.unh.edu
Date: Mon, 24 Jun 2024 17:42:47 -0700 (PDT)
Message-ID: <667a1287.050a0220.f3995.552fSMTPIN_ADDED_MISSING@mx.google.com>
Received: from [172.21.0.6] (unknown [172.18.0.240])
 by postal.iol.unh.edu (Postfix) with ESMTP id B3D68605C373;
 Mon, 24 Jun 2024 20:42:46 -0400 (EDT)
Subject: |SUCCESS| pw141557-141561 [PATCH] [v2,5/5] net/cnxk: fix representor
From: dpdklab@iol.unh.edu
To: Test Report <test-report@dpdk.org>
Cc: dpdk-test-reports@iol.unh.edu
In-Reply-To: <20240624115733.191307-5-hkalra@marvell.com>
References: <20240624115733.191307-5-hkalra@marvell.com>
Content-Type: text/plain
X-BeenThere: test-report@dpdk.org
X-Mailman-Version: 2.1.29
Precedence: list
List-Id: automatic DPDK test reports <test-report.dpdk.org>
List-Unsubscribe: <https://mails.dpdk.org/options/test-report>,
 <mailto:test-report-request@dpdk.org?subject=unsubscribe>
List-Archive: <http://mails.dpdk.org/archives/test-report/>
List-Post: <mailto:test-report@dpdk.org>
List-Help: <mailto:test-report-request@dpdk.org?subject=help>
List-Subscribe: <https://mails.dpdk.org/listinfo/test-report>,
 <mailto:test-report-request@dpdk.org?subject=subscribe>
Errors-To: test-report-bounces@dpdk.org

Test-Label: iol-compile-arm64-testing
Test-Status: SUCCESS
http://dpdk.org/patch/141561

_Testing PASS_

Submitter: Harman Kalra <hkalra@marvell.com>
Date: Monday, June 24 2024 11:57:33 
DPDK git baseline: Repo:dpdk
  Branch: master
  CommitID:4a44d97f0a52a76258c6a6cb6a713f4380a8ab1f

141557-141561 --> testing pass

Test environment and result as below:

+----------------------------------------+--------------------+
|              Environment               | dpdk_meson_compile |
+========================================+====================+
| Ubuntu 20.04 ARM SVE                   | PASS               |
+----------------------------------------+--------------------+
| Debian 12 with MUSDK                   | PASS               |
+----------------------------------------+--------------------+
| RHEL9 (ARM)                            | PASS               |
+----------------------------------------+--------------------+
| Ubuntu 20.04 ARM GCC Cross Compile     | PASS               |
+----------------------------------------+--------------------+
| Fedora 37 (ARM)                        | PASS               |
+----------------------------------------+--------------------+
| Fedora 38 (ARM)                        | PASS               |
+----------------------------------------+--------------------+
| Fedora 39 (ARM)                        | PASS               |
+----------------------------------------+--------------------+
| Ubuntu 20.04 (ARM)                     | PASS               |
+----------------------------------------+--------------------+
| CentOS Stream 9 (ARM)                  | PASS               |
+----------------------------------------+--------------------+
| Ubuntu 22.04 (ARM)                     | PASS               |
+----------------------------------------+--------------------+
| Ubuntu 24.04 (ARM)                     | PASS               |
+----------------------------------------+--------------------+
| Debian 11 (Buster) (ARM)               | PASS               |
+----------------------------------------+--------------------+
| Debian 12 (arm)                        | PASS               |
+----------------------------------------+--------------------+
| Ubuntu 20.04 ARM Clang Cross Compile   | PASS               |
+----------------------------------------+--------------------+
| Ubuntu 20.04 aarch32 GCC Cross Compile | PASS               |
+----------------------------------------+--------------------+
| Fedora 40 (ARM)                        | PASS               |
+----------------------------------------+--------------------+
| Fedora 40 (ARM Clang)                  | PASS               |
+----------------------------------------+--------------------+
| Fedora 38 (ARM Clang)                  | PASS               |
+----------------------------------------+--------------------+
| Fedora 39 (ARM Clang)                  | PASS               |
+----------------------------------------+--------------------+


Ubuntu 20.04 ARM SVE
	Kernel: 5.4.0-167-generic
	Compiler: gcc (Ubuntu 10.5.0-1ubuntu1~20.04) 10.5.0

Debian 12 with MUSDK
	Kernel: Container Host Kernel
	Compiler: gcc 12.2.0

RHEL9 (ARM)
	Kernel: Depends on container host
	Compiler: gcc 11.4.1

Ubuntu 20.04 ARM GCC Cross Compile
	Kernel: 5.4.0-167-generic
	Compiler: aarch64-linux-gnu-gcc (Ubuntu 9.4.0-1ubuntu1~20.04.2) 9.4.0

Fedora 37 (ARM)
	Kernel: Depends on container host
	Compiler: gcc 12.3.1

Fedora 38 (ARM)
	Kernel: Depends on container host
	Compiler: gcc 13.2.1

Fedora 39 (ARM)
	Kernel: Depends on container host
	Compiler: gcc 13.2.1

Ubuntu 20.04 (ARM)
	Kernel: Container Host Kernel
	Compiler: gcc 9.4.0

CentOS Stream 9 (ARM)
	Kernel: Container Host Kernel
	Compiler: gcc 11.4.1

Ubuntu 22.04 (ARM)
	Kernel: Container Host Kernel
	Compiler: gcc 11.4.0

Ubuntu 24.04 (ARM)
	Kernel: 5.4.0-167-generic
	Compiler: gcc 13.2.0

Debian 11 (Buster) (ARM)
	Kernel: Container Host Kernel
	Compiler: gcc 10.2.1

Debian 12 (arm)
	Kernel: Container Host Kernel
	Compiler: gcc 12.2.0

Ubuntu 20.04 ARM Clang Cross Compile
	Kernel: 5.4.0-72-generic
	Compiler: clang 10.0.0-4ubuntu1

Ubuntu 20.04 aarch32 GCC Cross Compile
	Kernel: 5.4.0-167-generic
	Compiler: gcc 9.4.0

Fedora 40 (ARM)
	Kernel: Depends on container host
	Compiler: gcc 14.1.1

Fedora 40 (ARM Clang)
	Kernel: Depends on container host
	Compiler: clang 18.1.6

Fedora 38 (ARM Clang)
	Kernel: Depends on container host
	Compiler: clang 16.0.6

Fedora 39 (ARM Clang)
	Kernel: Depends on container host
	Compiler: clang 17.0.6

To view detailed results, visit:
https://lab.dpdk.org/results/dashboard/patchsets/30292/

UNH-IOL DPDK Community Lab

To manage your email subscriptions, visit: 
https://lab.dpdk.org/results/dashboard/preferences/subscriptions/