From mboxrd@z Thu Jan  1 00:00:00 1970
Return-Path: <test-report-bounces@dpdk.org>
Received: from mails.dpdk.org (mails.dpdk.org [217.70.189.124])
	by inbox.dpdk.org (Postfix) with ESMTP id 04F57454EB
	for <public@inbox.dpdk.org>; Tue, 25 Jun 2024 07:02:33 +0200 (CEST)
Received: from mails.dpdk.org (localhost [127.0.0.1])
	by mails.dpdk.org (Postfix) with ESMTP id F2D34402A3;
	Tue, 25 Jun 2024 07:02:32 +0200 (CEST)
Received: from mail-vs1-f99.google.com (mail-vs1-f99.google.com
 [209.85.217.99]) by mails.dpdk.org (Postfix) with ESMTP id 9CD084026F
 for <test-report@dpdk.org>; Tue, 25 Jun 2024 07:02:31 +0200 (CEST)
Received: by mail-vs1-f99.google.com with SMTP id
 ada2fe7eead31-48f409bd157so1019833137.2
 for <test-report@dpdk.org>; Mon, 24 Jun 2024 22:02:31 -0700 (PDT)
DKIM-Signature: v=1; a=rsa-sha256; c=relaxed/relaxed;
 d=iol.unh.edu; s=unh-iol; t=1719291751; x=1719896551; darn=dpdk.org;
 h=references:in-reply-to:cc:to:from:subject:message-id:date:from:to
 :cc:subject:date:message-id:reply-to;
 bh=I4B81ikxtBzgYt0ETVl0bH561IbdiuHoMfgPedP9jBM=;
 b=KXGcJ8spQ7FPpQc3osNdDQF2uKqwtHVfCGaRSMWeBV7y83lH3s+3XFow7sfGQN1ztg
 XJo8loo4tHcDN3jHZfV4Bkcas20iZnbgLRlLx3+ktHa/6Os0wXI/+meuczS6v0a0k92X
 W/+P8X7EDjxL8Crn3HxFFgoa6uHcZJpOfzfvI=
X-Google-DKIM-Signature: v=1; a=rsa-sha256; c=relaxed/relaxed;
 d=1e100.net; s=20230601; t=1719291751; x=1719896551;
 h=references:in-reply-to:cc:to:from:subject:message-id:date
 :x-gm-message-state:from:to:cc:subject:date:message-id:reply-to;
 bh=I4B81ikxtBzgYt0ETVl0bH561IbdiuHoMfgPedP9jBM=;
 b=bCek6CL7fCdVXXfr3PnS6gS8YKZ41GUIjeyEBj6utWc8pQ6/xyAWulsQL3XFG3ONK1
 QS2azx1m0ZaEXD7Nprm6DDkmJb7fRKlAykHfJN5oIE0cKKy/HCncRNPzD6ubJUWzKnAx
 XDvBsu8qqoX5O09ZMjAa9AxAMIBwGojdYnchlwnUJsiS6KlSSeZfhVHN0iE13RfRT2Tw
 2u0E6BiQBEioZAwwRVpLgIytAuFZlO0rbMqnt9ujBv/hzn+ZxMvT/R5lGdKScaZqtpMB
 8pSQt8bMkJKnwfVmxu92BVzSTcy5NU6d77EQKLzC2mhSiSPvXnB4xlCbzrmXc7ijlcRG
 dP5g==
X-Gm-Message-State: AOJu0YzOAk4U/7+FuEYI1khL8gmUKvxQctGPkWddiLETVI9iMev4oDNe
 7KEeijzpnEEVoT+geap4NF+lFpGfxWFLsmdSpMZ0/a4kRgM/0F1RsV3GM/RAFRifNKCIFJBrjxH
 V8EafvcMIZBKyVHNCch05Dv6NAHPOQZAXkbqaloxfTjAMGwW2Z9q6RX76
X-Google-Smtp-Source: AGHT+IFc0T3dQZK5RynN0vM7T8JP09B6BfJkJ5Ow0jK0w3fiBg5L4KGX7Yo1vRF8r16zuqIz5QcHFS5UTww8
X-Received: by 2002:a67:fb88:0:b0:48f:4396:38a2 with SMTP id
 ada2fe7eead31-48f52ba2552mr5717923137.34.1719291751000; 
 Mon, 24 Jun 2024 22:02:31 -0700 (PDT)
Received: from postal.iol.unh.edu (postal.iol.unh.edu.
 [2606:4100:3880:1234::84]) by smtp-relay.gmail.com with ESMTPS id
 d75a77b69052e-444c2b8a732sm1718921cf.13.2024.06.24.22.02.30
 (version=TLS1_2 cipher=ECDHE-ECDSA-AES128-GCM-SHA256 bits=128/128);
 Mon, 24 Jun 2024 22:02:30 -0700 (PDT)
X-Relaying-Domain: iol.unh.edu
Date: Mon, 24 Jun 2024 22:02:30 -0700 (PDT)
Message-ID: <667a4f66.050a0220.d0076.c188SMTPIN_ADDED_MISSING@mx.google.com>
Received: from [172.21.0.6] (unknown [172.18.0.240])
 by postal.iol.unh.edu (Postfix) with ESMTP id B0C9B605C373;
 Tue, 25 Jun 2024 01:02:30 -0400 (EDT)
Subject: |SUCCESS| pw141576-141579 [PATCH] [v7,4/4] dts: add API doc generati
From: dpdklab@iol.unh.edu
To: Test Report <test-report@dpdk.org>
Cc: dpdk-test-reports@iol.unh.edu
In-Reply-To: <20240624142544.35644-5-juraj.linkes@pantheon.tech>
References: <20240624142544.35644-5-juraj.linkes@pantheon.tech>
Content-Type: text/plain
X-BeenThere: test-report@dpdk.org
X-Mailman-Version: 2.1.29
Precedence: list
List-Id: automatic DPDK test reports <test-report.dpdk.org>
List-Unsubscribe: <https://mails.dpdk.org/options/test-report>,
 <mailto:test-report-request@dpdk.org?subject=unsubscribe>
List-Archive: <http://mails.dpdk.org/archives/test-report/>
List-Post: <mailto:test-report@dpdk.org>
List-Help: <mailto:test-report-request@dpdk.org?subject=help>
List-Subscribe: <https://mails.dpdk.org/listinfo/test-report>,
 <mailto:test-report-request@dpdk.org?subject=subscribe>
Errors-To: test-report-bounces@dpdk.org

Test-Label: iol-compile-amd64-testing
Test-Status: SUCCESS
http://dpdk.org/patch/141579

_Testing PASS_

Submitter: Juraj Linkes <juraj.linkes@pantheon.tech>
Date: Monday, June 24 2024 14:25:44 
DPDK git baseline: Repo:dpdk
  Branch: master
  CommitID:4a44d97f0a52a76258c6a6cb6a713f4380a8ab1f

141576-141579 --> testing pass

Test environment and result as below:

+---------------------+--------------------+----------------------+-------------------+
|     Environment     | dpdk_meson_compile | dpdk_mingw64_compile | dpdk_msvc_compile |
+=====================+====================+======================+===================+
| FreeBSD 13.3        | PASS               | SKIPPED              | SKIPPED           |
+---------------------+--------------------+----------------------+-------------------+
| FreeBSD 14.1        | PASS               | SKIPPED              | SKIPPED           |
+---------------------+--------------------+----------------------+-------------------+
| Windows Server 2022 | PASS               | PASS                 | PASS              |
+---------------------+--------------------+----------------------+-------------------+
| Windows Server 2019 | PASS               | PASS                 | SKIPPED           |
+---------------------+--------------------+----------------------+-------------------+


FreeBSD 13.3
	Kernel: 13.3-RELEASE-p1
	Compiler: clang 17.0.6

FreeBSD 14.1
	Kernel: 14.1
	Compiler: clang 18.1.5

Windows Server 2022
	Kernel: 10.0.20348.2031
	Compiler: clang 15.0.7, gcc 8.1.0 (MinGW), and MSVC VS 17.9

Windows Server 2019
	Kernel: 10.0.17763
	Compiler: clang 14.0 and gcc 8.1.0 (MinGW)

To view detailed results, visit:
https://lab.dpdk.org/results/dashboard/patchsets/30297/

UNH-IOL DPDK Community Lab

To manage your email subscriptions, visit: 
https://lab.dpdk.org/results/dashboard/preferences/subscriptions/