From mboxrd@z Thu Jan  1 00:00:00 1970
Return-Path: <test-report-bounces@dpdk.org>
Received: from mails.dpdk.org (mails.dpdk.org [217.70.189.124])
	by inbox.dpdk.org (Postfix) with ESMTP id 9D6DC454ED
	for <public@inbox.dpdk.org>; Tue, 25 Jun 2024 09:30:50 +0200 (CEST)
Received: from mails.dpdk.org (localhost [127.0.0.1])
	by mails.dpdk.org (Postfix) with ESMTP id 94100402A3;
	Tue, 25 Jun 2024 09:30:50 +0200 (CEST)
Received: from mail-pf1-f228.google.com (mail-pf1-f228.google.com
 [209.85.210.228])
 by mails.dpdk.org (Postfix) with ESMTP id 05F7440151
 for <test-report@dpdk.org>; Tue, 25 Jun 2024 09:30:49 +0200 (CEST)
Received: by mail-pf1-f228.google.com with SMTP id
 d2e1a72fcca58-70671ecd334so1917614b3a.0
 for <test-report@dpdk.org>; Tue, 25 Jun 2024 00:30:48 -0700 (PDT)
DKIM-Signature: v=1; a=rsa-sha256; c=relaxed/relaxed;
 d=iol.unh.edu; s=unh-iol; t=1719300648; x=1719905448; darn=dpdk.org;
 h=references:in-reply-to:cc:to:from:subject:message-id:date:from:to
 :cc:subject:date:message-id:reply-to;
 bh=kCoMelcK9WQbFAJRgn2Zc/008oBWLOiTyOQG6sXS8BE=;
 b=g0jl+wEg3y/hXCNeEhEgW4SczhHHk9D4k1ADU6vweELPdBlxjr46D0ERu9F7IQefhi
 +bUU+l85B5WtM1kDaJcbkIyZbiPpUI/AfbhQoNcPN1waTKUDNcox+ErDSM5KUS05VKXT
 mYaZ69HmmpTSdaHJ9W20qAOlTYlTikpRlpl1c=
X-Google-DKIM-Signature: v=1; a=rsa-sha256; c=relaxed/relaxed;
 d=1e100.net; s=20230601; t=1719300648; x=1719905448;
 h=references:in-reply-to:cc:to:from:subject:message-id:date
 :x-gm-message-state:from:to:cc:subject:date:message-id:reply-to;
 bh=kCoMelcK9WQbFAJRgn2Zc/008oBWLOiTyOQG6sXS8BE=;
 b=F9t45BzNeBOwQrOX8wds5aW6hii+85i5aR4a/9rRQfNOf24eZIJjqAwO+sYFyXu3Mh
 tldNF43tIQBHTGcRcOVVxgc3c5Wqmm2HaDZn6nvsBlAJaQ6htImTsHCpwrazlkbciARP
 8ci4v/ODjAkeAGFa8Z8FRIwmzSESu3dgpjfPLtmQHSMuMRHqMI5MBhDeOQYG7eCaV4HA
 7TODWdtHQfIQiDeLLf4+WnJhOfXWFFeBT6SMa5lvFBVyCS47NVU95ymDotY+RHxAQqvk
 s7AuVcVAVJin45JKTFelyR80UTkKQVPHLpPqASrXaZTU9T0sZQj/d5B3zYp3UImo69DH
 VYhw==
X-Gm-Message-State: AOJu0Yxj5y2lI+fs6VEVnbt5t/V22RFhi+iSKZRdG2OI0SOX3AvAMpAi
 tQtDWMQbFbFKECNWBY4pOlCYReEVXSOrG2Nw3S1d5Ig2/USbX9wq3/LGe0nDRhcrrj5MRS8go8+
 e5IMZkxtVIgi/Nf036eIwBVw3qMs7gQ68+Iu8DMKH
X-Google-Smtp-Source: AGHT+IHGCv4kbSObw4iJZaUJHKr0JiZkl0BVEqBzuvRxivztt00JLUqyKf8wYi5SrW1PYayHh3LWgWlB+4ES
X-Received: by 2002:a05:6a20:8c02:b0:1bc:9e51:e638 with SMTP id
 adf61e73a8af0-1bcf4479ea9mr7263317637.21.1719300648121; 
 Tue, 25 Jun 2024 00:30:48 -0700 (PDT)
Received: from postal.iol.unh.edu (postal.iol.unh.edu. [132.177.123.84])
 by smtp-relay.gmail.com with ESMTPS id
 d9443c01a7336-1f9eb3c8bebsm1698025ad.128.2024.06.25.00.30.47
 (version=TLS1_2 cipher=ECDHE-ECDSA-AES128-GCM-SHA256 bits=128/128);
 Tue, 25 Jun 2024 00:30:48 -0700 (PDT)
X-Relaying-Domain: iol.unh.edu
Date: Tue, 25 Jun 2024 00:30:48 -0700 (PDT)
Message-ID: <667a7228.170a0220.5d52c.e66dSMTPIN_ADDED_MISSING@mx.google.com>
Received: from [172.21.0.7] (unknown [172.18.0.240])
 by postal.iol.unh.edu (Postfix) with ESMTP id 8380660524C8;
 Tue, 25 Jun 2024 03:30:47 -0400 (EDT)
Subject: |SUCCESS| pw141562 [PATCH] [v2] raw/zxdh: introduce zxdh raw device 
From: dpdklab@iol.unh.edu
To: Test Report <test-report@dpdk.org>
Cc: dpdk-test-reports@iol.unh.edu
In-Reply-To: <20240624123132.3133178-1-zhang.yong25@zte.com.cn>
References: <20240624123132.3133178-1-zhang.yong25@zte.com.cn>
Content-Type: text/plain
X-BeenThere: test-report@dpdk.org
X-Mailman-Version: 2.1.29
Precedence: list
List-Id: automatic DPDK test reports <test-report.dpdk.org>
List-Unsubscribe: <https://mails.dpdk.org/options/test-report>,
 <mailto:test-report-request@dpdk.org?subject=unsubscribe>
List-Archive: <http://mails.dpdk.org/archives/test-report/>
List-Post: <mailto:test-report@dpdk.org>
List-Help: <mailto:test-report-request@dpdk.org?subject=help>
List-Subscribe: <https://mails.dpdk.org/listinfo/test-report>,
 <mailto:test-report-request@dpdk.org?subject=subscribe>
Errors-To: test-report-bounces@dpdk.org

Test-Label: iol-abi-testing
Test-Status: SUCCESS
http://dpdk.org/patch/141562

_Testing PASS_

Submitter: Yong Zhang <zhang.yong25@zte.com.cn>
Date: Monday, June 24 2024 12:31:05 
DPDK git baseline: Repo:dpdk
  Branch: master
  CommitID:4a44d97f0a52a76258c6a6cb6a713f4380a8ab1f

141562 --> testing pass

Test environment and result as below:

+------------------+----------+
|   Environment    | abi_test |
+==================+==========+
| Fedora 38        | PASS     |
+------------------+----------+
| Debian 12        | PASS     |
+------------------+----------+
| CentOS Stream 8  | PASS     |
+------------------+----------+
| CentOS Stream 9  | PASS     |
+------------------+----------+
| Debian Bullseye  | PASS     |
+------------------+----------+
| Fedora 40        | PASS     |
+------------------+----------+
| Fedora 39        | PASS     |
+------------------+----------+
| Fedora 37        | PASS     |
+------------------+----------+
| RHEL9            | PASS     |
+------------------+----------+
| openSUSE Leap 15 | PASS     |
+------------------+----------+
| Ubuntu 22.04     | PASS     |
+------------------+----------+
| RHEL8            | PASS     |
+------------------+----------+
| Ubuntu 24.04     | PASS     |
+------------------+----------+


Fedora 38
	Kernel: Depends on container host
	Compiler: gcc 13.2.1

Debian 12
	Kernel: Container Host Kernel
	Compiler: gcc 12.2.0

CentOS Stream 8
	Kernel: 5.4.0-167-generic
	Compiler: gcc 8.5.0 20210514

CentOS Stream 9
	Kernel: 5.4.0-167-generic
	Compiler: gcc 11.4.1 20230605

Debian Bullseye
	Kernel: 5.4.0-167-generic
	Compiler: gcc 10.2.1-6

Fedora 40
	Kernel: Depends on container host
	Compiler: clang 18.1.6

Fedora 39
	Kernel: Depends on container host
	Compiler: clang 17.0.6

Fedora 37
	Kernel: Depends on container host system
	Compiler: gcc 12.3.1

RHEL9
	Kernel: Depends on container host
	Compiler: gcc 11.4.1

openSUSE Leap 15
	Kernel: 5.4.0-167-generic
	Compiler: gcc 7.5.0

Ubuntu 22.04
	Kernel: 5.4.0-167-generic
	Compiler: gcc 11.4.0

RHEL8
	Kernel: 5.4.0-167-generic
	Compiler: gcc 8.5.0 20210514 (Red Hat 8.5.0-20)

Ubuntu 24.04
	Kernel: 5.4.0-167-generic
	Compiler: gcc 13.2.0

To view detailed results, visit:
https://lab.dpdk.org/results/dashboard/patchsets/30293/

UNH-IOL DPDK Community Lab

To manage your email subscriptions, visit: 
https://lab.dpdk.org/results/dashboard/preferences/subscriptions/