From mboxrd@z Thu Jan  1 00:00:00 1970
Return-Path: <test-report-bounces@dpdk.org>
Received: from mails.dpdk.org (mails.dpdk.org [217.70.189.124])
	by inbox.dpdk.org (Postfix) with ESMTP id 26927454EF
	for <public@inbox.dpdk.org>; Tue, 25 Jun 2024 10:57:18 +0200 (CEST)
Received: from mails.dpdk.org (localhost [127.0.0.1])
	by mails.dpdk.org (Postfix) with ESMTP id F1B3B40BA2;
	Tue, 25 Jun 2024 10:57:17 +0200 (CEST)
Received: from mail-il1-f226.google.com (mail-il1-f226.google.com
 [209.85.166.226])
 by mails.dpdk.org (Postfix) with ESMTP id 0581F40696
 for <test-report@dpdk.org>; Tue, 25 Jun 2024 10:57:17 +0200 (CEST)
Received: by mail-il1-f226.google.com with SMTP id
 e9e14a558f8ab-376e6c5ce0eso497575ab.1
 for <test-report@dpdk.org>; Tue, 25 Jun 2024 01:57:16 -0700 (PDT)
DKIM-Signature: v=1; a=rsa-sha256; c=relaxed/relaxed;
 d=iol.unh.edu; s=unh-iol; t=1719305836; x=1719910636; darn=dpdk.org;
 h=references:in-reply-to:cc:to:from:subject:message-id:date:from:to
 :cc:subject:date:message-id:reply-to;
 bh=6lF0HY7iYYoFdhBm9pBtlDgAPzVTlLNsBIYrAP0UkQI=;
 b=ivPdGswMhmAAxrW6OC+HG929MrHaDjYmqMsKbsQ+3i0xVjWsji+OtrOdfkOOXc9TAw
 I60DQmX68Pr/AhB7EH3DZF1F8wt9gZaH0s2WI17PoILx5Y6Ma80YC6yACIdhEDJP1il0
 cyECuxSjZO/YomK4LWwaTvg63yKJ5KOZH/q7c=
X-Google-DKIM-Signature: v=1; a=rsa-sha256; c=relaxed/relaxed;
 d=1e100.net; s=20230601; t=1719305836; x=1719910636;
 h=references:in-reply-to:cc:to:from:subject:message-id:date
 :x-gm-message-state:from:to:cc:subject:date:message-id:reply-to;
 bh=6lF0HY7iYYoFdhBm9pBtlDgAPzVTlLNsBIYrAP0UkQI=;
 b=pRb+Fd57HouCH50/d6mW2LjR4kt/rcV4ZGpVkezjtvVgjpPk7DEreNYhOwgKAGOaOZ
 vgWW9GmNF+oxBtL09x+wmVhB/B2tLm5ssuN6WB4R+G6Ilv0KoehafLHbYQTUDz9XEbSP
 Bijnd2PxUFnC/7fjn/FzP8QD00Kl2uFwWgR/OryduE2OavacOnB6X8T8tDB52HQXVop6
 tsbcAIy20p2CcAqAeuknTssWp0Br9uNb1A9SBFv3y39KbYktPl6AVNsldWXkaknIcPm8
 +wfbHrg+BCna3B890ou1lcPabO+pzT0ETPmifQygpys+Bfh8b9ElOPbpDqCeRYktoOHh
 kmaQ==
X-Gm-Message-State: AOJu0YzWgJfmeo0EK8hx5IB7Um/rlI69T09Dg1nNgIyZnf+OcK8/yuh3
 8TLafCxlhkBjRevyg4jNgLSdAmJwK18fwK0QqezAD3QWLW0Si+6Yqpg/CquxRcY5ay0EOesa7qN
 fLDUIYGbKePDcKQlLxDAy43Oe92ME7TYN+DeujLif7Fsf6raOKKJbjI+Y
X-Google-Smtp-Source: AGHT+IHW6IdRiw4dE6bIb+oc2X9f5tj2Y/Sc3ys7Pp6DB14SN0fWqI6JNSKn9wqIUVj5ppMjmod0QIkEXh8a
X-Received: by 2002:a05:6e02:b41:b0:375:a3d8:97be with SMTP id
 e9e14a558f8ab-3763f5c6550mr79688675ab.9.1719305836262; 
 Tue, 25 Jun 2024 01:57:16 -0700 (PDT)
Received: from postal.iol.unh.edu (postal.iol.unh.edu.
 [2606:4100:3880:1234::84]) by smtp-relay.gmail.com with ESMTPS id
 e9e14a558f8ab-3762f3343d9sm4514255ab.38.2024.06.25.01.57.16
 (version=TLS1_2 cipher=ECDHE-ECDSA-AES128-GCM-SHA256 bits=128/128);
 Tue, 25 Jun 2024 01:57:16 -0700 (PDT)
X-Relaying-Domain: iol.unh.edu
Date: Tue, 25 Jun 2024 01:57:16 -0700 (PDT)
Message-ID: <667a866c.050a0220.e43f1.14e5SMTPIN_ADDED_MISSING@mx.google.com>
Received: from [172.17.0.2] (unknown [172.18.0.217])
 by postal.iol.unh.edu (Postfix) with ESMTP id B6B7160524C8;
 Tue, 25 Jun 2024 04:57:15 -0400 (EDT)
Subject: |SUCCESS| pw141576-141579 [PATCH] [v7,4/4] dts: add API doc generati
From: dpdklab@iol.unh.edu
To: Test Report <test-report@dpdk.org>
Cc: dpdk-test-reports@iol.unh.edu
In-Reply-To: <20240624142544.35644-5-juraj.linkes@pantheon.tech>
References: <20240624142544.35644-5-juraj.linkes@pantheon.tech>
Content-Type: text/plain
X-BeenThere: test-report@dpdk.org
X-Mailman-Version: 2.1.29
Precedence: list
List-Id: automatic DPDK test reports <test-report.dpdk.org>
List-Unsubscribe: <https://mails.dpdk.org/options/test-report>,
 <mailto:test-report-request@dpdk.org?subject=unsubscribe>
List-Archive: <http://mails.dpdk.org/archives/test-report/>
List-Post: <mailto:test-report@dpdk.org>
List-Help: <mailto:test-report-request@dpdk.org?subject=help>
List-Subscribe: <https://mails.dpdk.org/listinfo/test-report>,
 <mailto:test-report-request@dpdk.org?subject=subscribe>
Errors-To: test-report-bounces@dpdk.org

Test-Label: iol-unit-amd64-testing
Test-Status: SUCCESS
http://dpdk.org/patch/141579

_Testing PASS_

Submitter: Juraj Linkes <juraj.linkes@pantheon.tech>
Date: Monday, June 24 2024 14:25:44 
DPDK git baseline: Repo:dpdk
  Branch: master
  CommitID:4a44d97f0a52a76258c6a6cb6a713f4380a8ab1f

141576-141579 --> testing pass

Test environment and result as below:

+------------------+----------------+
|   Environment    | dpdk_unit_test |
+==================+================+
| CentOS Stream 8  | PASS           |
+------------------+----------------+
| Debian Bullseye  | PASS           |
+------------------+----------------+
| Fedora 37        | PASS           |
+------------------+----------------+
| CentOS Stream 9  | PASS           |
+------------------+----------------+
| Debian 12        | PASS           |
+------------------+----------------+
| Fedora 40        | PASS           |
+------------------+----------------+
| Fedora 38        | PASS           |
+------------------+----------------+
| Fedora 39        | PASS           |
+------------------+----------------+
| openSUSE Leap 15 | PASS           |
+------------------+----------------+
| RHEL8            | PASS           |
+------------------+----------------+
| Ubuntu 20.04     | PASS           |
+------------------+----------------+
| Ubuntu 24.04     | PASS           |
+------------------+----------------+
| RHEL9            | PASS           |
+------------------+----------------+
| Ubuntu 22.04     | PASS           |
+------------------+----------------+


CentOS Stream 8
	Kernel: 5.4.0-167-generic
	Compiler: gcc 8.5.0 20210514

Debian Bullseye
	Kernel: 5.4.0-167-generic
	Compiler: gcc 10.2.1-6

Fedora 37
	Kernel: Depends on container host system
	Compiler: gcc 12.3.1

CentOS Stream 9
	Kernel: 5.4.0-167-generic
	Compiler: gcc 11.4.1 20230605

Debian 12
	Kernel: Container Host Kernel
	Compiler: gcc 12.2.0

Fedora 40
	Kernel: Depends on container host
	Compiler: gcc 14.1.1

Fedora 38
	Kernel: Depends on container host
	Compiler: gcc 13.2.1

Fedora 39
	Kernel: Depends on container host
	Compiler: gcc 13.2.1

openSUSE Leap 15
	Kernel: 5.4.0-167-generic
	Compiler: gcc 7.5.0

RHEL8
	Kernel: 5.4.0-167-generic
	Compiler: gcc 8.5.0 20210514 (Red Hat 8.5.0-20)

Ubuntu 20.04
	Kernel: 5.4.0-167-generic
	Compiler: gcc 9.4.0-1ubuntu1~20.04.1

Ubuntu 24.04
	Kernel: 5.4.0-167-generic
	Compiler: gcc 13.2.0

RHEL9
	Kernel: Depends on container host
	Compiler: gcc 11.4.1

Ubuntu 22.04
	Kernel: 5.4.0-167-generic
	Compiler: gcc 11.4.0

To view detailed results, visit:
https://lab.dpdk.org/results/dashboard/patchsets/30297/

UNH-IOL DPDK Community Lab

To manage your email subscriptions, visit: 
https://lab.dpdk.org/results/dashboard/preferences/subscriptions/