From mboxrd@z Thu Jan  1 00:00:00 1970
Return-Path: <test-report-bounces@dpdk.org>
Received: from mails.dpdk.org (mails.dpdk.org [217.70.189.124])
	by inbox.dpdk.org (Postfix) with ESMTP id BD06E454EF
	for <public@inbox.dpdk.org>; Tue, 25 Jun 2024 11:09:30 +0200 (CEST)
Received: from mails.dpdk.org (localhost [127.0.0.1])
	by mails.dpdk.org (Postfix) with ESMTP id B896C40BA2;
	Tue, 25 Jun 2024 11:09:30 +0200 (CEST)
Received: from mail-oo1-f100.google.com (mail-oo1-f100.google.com
 [209.85.161.100])
 by mails.dpdk.org (Postfix) with ESMTP id 2CF2E40696
 for <test-report@dpdk.org>; Tue, 25 Jun 2024 11:08:40 +0200 (CEST)
Received: by mail-oo1-f100.google.com with SMTP id
 006d021491bc7-5b9706c84e5so2939228eaf.1
 for <test-report@dpdk.org>; Tue, 25 Jun 2024 02:08:40 -0700 (PDT)
DKIM-Signature: v=1; a=rsa-sha256; c=relaxed/relaxed;
 d=iol.unh.edu; s=unh-iol; t=1719306519; x=1719911319; darn=dpdk.org;
 h=references:in-reply-to:cc:to:from:subject:message-id:date:from:to
 :cc:subject:date:message-id:reply-to;
 bh=kCoMelcK9WQbFAJRgn2Zc/008oBWLOiTyOQG6sXS8BE=;
 b=R+DFHd5b2d00Zv25IxoMYNXoDbd12fARpd4kIhkmKGzk8xUgVVHAbIKjpzcywxgkTO
 0+86ChR++Cfl8NL5JAZ44MlnzyBbwhTs/1P+LiosBZhxju2RH+zjYFQndFGZROTTvPcy
 f/WuUdG1tja4S+4Nz97xiTE3/txz78n3KQQCI=
X-Google-DKIM-Signature: v=1; a=rsa-sha256; c=relaxed/relaxed;
 d=1e100.net; s=20230601; t=1719306519; x=1719911319;
 h=references:in-reply-to:cc:to:from:subject:message-id:date
 :x-gm-message-state:from:to:cc:subject:date:message-id:reply-to;
 bh=kCoMelcK9WQbFAJRgn2Zc/008oBWLOiTyOQG6sXS8BE=;
 b=ROjzXlKbzseX6OUDrfEMCjyEDlh7J7WB52gvlwYTdC/AQtNMB368YSWkV2wZA7Rwqr
 wu0/vYB5wxNHGeG/CdBj7/HdI4vyKYr6MdyUBz/TxGx40mqVzavam5foZLUPz0tfCoIW
 G8CvrQmTardRkSDgCpiV3xslvhEKJ0QGRlrU65vihBKV/Mxc6594pv78WH8nvMRBOHDk
 CuhM4s014UWaPca9Z464vA6qSV3KvNT4LVwprRp6ZQ6Abswr96nSyso2mh54DQCh1Ous
 RN401Hlf14lKbbLJn2mhIrkxunmIY+9gIvxSzIMDerJrdER6Iw8JxE0LIs41l93uW2on
 Gaiw==
X-Gm-Message-State: AOJu0YyrWyx8uGNXzfyKDXPSOHrNhYQYqX8GNDW83Vd2HxOqMXtkuczA
 fy46XqExoc5Vxe0ig3yn0x4ATl8y/36KAYP9OxxahwNx+GlGxiD2Sy+e18AeNWYOE8oARVlvyIv
 mYeU0rrLsMimK8OZLpQ4CkSQv/Fm+JDZLpVq2GDHVP8jo0xyYQncIQkGS
X-Google-Smtp-Source: AGHT+IG2bd7a1McFh2PpQ5bjSIyYsaBdpRZFP+PaDqkpzn113Azzpg6uudZZaOGXh/xXMFZs3+bk2Xl9NX0c
X-Received: by 2002:a4a:650a:0:b0:5bd:b378:7921 with SMTP id
 006d021491bc7-5c1ebb23d96mr7751220eaf.7.1719306519330; 
 Tue, 25 Jun 2024 02:08:39 -0700 (PDT)
Received: from postal.iol.unh.edu (postal.iol.unh.edu.
 [2606:4100:3880:1234::84]) by smtp-relay.gmail.com with ESMTPS id
 006d021491bc7-5c1d7cac4e6sm255182eaf.2.2024.06.25.02.08.39
 (version=TLS1_2 cipher=ECDHE-ECDSA-AES128-GCM-SHA256 bits=128/128);
 Tue, 25 Jun 2024 02:08:39 -0700 (PDT)
X-Relaying-Domain: iol.unh.edu
Date: Tue, 25 Jun 2024 02:08:39 -0700 (PDT)
Message-ID: <667a8917.050a0220.511e9.2ee4SMTPIN_ADDED_MISSING@mx.google.com>
Received: from [172.17.0.4] (unknown [172.18.0.217])
 by postal.iol.unh.edu (Postfix) with ESMTP id C4F2160524C8;
 Tue, 25 Jun 2024 05:08:38 -0400 (EDT)
Subject: |SUCCESS| pw141562 [PATCH] [v2] raw/zxdh: introduce zxdh raw device 
From: dpdklab@iol.unh.edu
To: Test Report <test-report@dpdk.org>
Cc: dpdk-test-reports@iol.unh.edu
In-Reply-To: <20240624123132.3133178-1-zhang.yong25@zte.com.cn>
References: <20240624123132.3133178-1-zhang.yong25@zte.com.cn>
Content-Type: text/plain
X-BeenThere: test-report@dpdk.org
X-Mailman-Version: 2.1.29
Precedence: list
List-Id: automatic DPDK test reports <test-report.dpdk.org>
List-Unsubscribe: <https://mails.dpdk.org/options/test-report>,
 <mailto:test-report-request@dpdk.org?subject=unsubscribe>
List-Archive: <http://mails.dpdk.org/archives/test-report/>
List-Post: <mailto:test-report@dpdk.org>
List-Help: <mailto:test-report-request@dpdk.org?subject=help>
List-Subscribe: <https://mails.dpdk.org/listinfo/test-report>,
 <mailto:test-report-request@dpdk.org?subject=subscribe>
Errors-To: test-report-bounces@dpdk.org

Test-Label: iol-abi-testing
Test-Status: SUCCESS
http://dpdk.org/patch/141562

_Testing PASS_

Submitter: Yong Zhang <zhang.yong25@zte.com.cn>
Date: Monday, June 24 2024 12:31:05 
DPDK git baseline: Repo:dpdk
  Branch: master
  CommitID:4a44d97f0a52a76258c6a6cb6a713f4380a8ab1f

141562 --> testing pass

Test environment and result as below:

+------------------+----------+
|   Environment    | abi_test |
+==================+==========+
| Fedora 38        | PASS     |
+------------------+----------+
| Debian 12        | PASS     |
+------------------+----------+
| CentOS Stream 8  | PASS     |
+------------------+----------+
| CentOS Stream 9  | PASS     |
+------------------+----------+
| Debian Bullseye  | PASS     |
+------------------+----------+
| Fedora 40        | PASS     |
+------------------+----------+
| Fedora 39        | PASS     |
+------------------+----------+
| Fedora 37        | PASS     |
+------------------+----------+
| RHEL9            | PASS     |
+------------------+----------+
| openSUSE Leap 15 | PASS     |
+------------------+----------+
| Ubuntu 22.04     | PASS     |
+------------------+----------+
| RHEL8            | PASS     |
+------------------+----------+
| Ubuntu 24.04     | PASS     |
+------------------+----------+


Fedora 38
	Kernel: Depends on container host
	Compiler: gcc 13.2.1

Debian 12
	Kernel: Container Host Kernel
	Compiler: gcc 12.2.0

CentOS Stream 8
	Kernel: 5.4.0-167-generic
	Compiler: gcc 8.5.0 20210514

CentOS Stream 9
	Kernel: 5.4.0-167-generic
	Compiler: gcc 11.4.1 20230605

Debian Bullseye
	Kernel: 5.4.0-167-generic
	Compiler: gcc 10.2.1-6

Fedora 40
	Kernel: Depends on container host
	Compiler: clang 18.1.6

Fedora 39
	Kernel: Depends on container host
	Compiler: clang 17.0.6

Fedora 37
	Kernel: Depends on container host system
	Compiler: gcc 12.3.1

RHEL9
	Kernel: Depends on container host
	Compiler: gcc 11.4.1

openSUSE Leap 15
	Kernel: 5.4.0-167-generic
	Compiler: gcc 7.5.0

Ubuntu 22.04
	Kernel: 5.4.0-167-generic
	Compiler: gcc 11.4.0

RHEL8
	Kernel: 5.4.0-167-generic
	Compiler: gcc 8.5.0 20210514 (Red Hat 8.5.0-20)

Ubuntu 24.04
	Kernel: 5.4.0-167-generic
	Compiler: gcc 13.2.0

To view detailed results, visit:
https://lab.dpdk.org/results/dashboard/patchsets/30293/

UNH-IOL DPDK Community Lab

To manage your email subscriptions, visit: 
https://lab.dpdk.org/results/dashboard/preferences/subscriptions/