From mboxrd@z Thu Jan  1 00:00:00 1970
Return-Path: <test-report-bounces@dpdk.org>
Received: from mails.dpdk.org (mails.dpdk.org [217.70.189.124])
	by inbox.dpdk.org (Postfix) with ESMTP id F193C454EF
	for <public@inbox.dpdk.org>; Tue, 25 Jun 2024 11:44:25 +0200 (CEST)
Received: from mails.dpdk.org (localhost [127.0.0.1])
	by mails.dpdk.org (Postfix) with ESMTP id EDD2A40BA2;
	Tue, 25 Jun 2024 11:44:25 +0200 (CEST)
Received: from mail-il1-f225.google.com (mail-il1-f225.google.com
 [209.85.166.225])
 by mails.dpdk.org (Postfix) with ESMTP id 5C22D40696
 for <test-report@dpdk.org>; Tue, 25 Jun 2024 11:44:11 +0200 (CEST)
Received: by mail-il1-f225.google.com with SMTP id
 e9e14a558f8ab-376208fbe7bso21685015ab.3
 for <test-report@dpdk.org>; Tue, 25 Jun 2024 02:44:11 -0700 (PDT)
DKIM-Signature: v=1; a=rsa-sha256; c=relaxed/relaxed;
 d=iol.unh.edu; s=unh-iol; t=1719308650; x=1719913450; darn=dpdk.org;
 h=references:in-reply-to:cc:to:from:subject:message-id:date:from:to
 :cc:subject:date:message-id:reply-to;
 bh=ULP1O8C4OkJtjFRObkbQGphGCkQPW3XQyhr+hzgmGxM=;
 b=LFVeqhzlJ9Doz6gug6TlbCVEkzGodoDZcyWo/Uu+Wjjf5tAKLtnV9cpJAnMMWMJQ86
 FNIhNwGBzonakFSkV/aNmpto7DCk10qJbcpaEyTqIClcGv5CVokoJL7u1JqHsHXSYz/t
 Y3HaPYfa8EaqqcP1B+8y2hp7g/d+Iis+Np8zk=
X-Google-DKIM-Signature: v=1; a=rsa-sha256; c=relaxed/relaxed;
 d=1e100.net; s=20230601; t=1719308650; x=1719913450;
 h=references:in-reply-to:cc:to:from:subject:message-id:date
 :x-gm-message-state:from:to:cc:subject:date:message-id:reply-to;
 bh=ULP1O8C4OkJtjFRObkbQGphGCkQPW3XQyhr+hzgmGxM=;
 b=vyEFoBA5eK1XUIcQgnwRZxM2VCOv5NwVc1MvwZoU0fRckVrz0iyVpJxA4aUR/rUPaT
 1ZuBaxF0ZbgCjEqGrhBXrQTRdLV8DYPhZUrCoCLMCbIR6mPA/VSnkeo4TbJCrcNWZYvS
 bnIzjpq5azyrTHMEtFb4sMvO0Jso3vLMTTdcPujFQWocHkaHzN7fxa76w2cSR1M0OsJ0
 eiWa8AMyMbz25cw54Ofhuza0udzfrz4P02UnhvBxe7u28PcqXbfDeMLqn/JxyvAS0KA8
 sfT1uW1rY1krt9B46+bh6SLAaXEQZzaPnlSD0UDs2sRBM2clQD8u1EmMygp5BIvlJtWp
 i7QA==
X-Gm-Message-State: AOJu0YyqoFgZBdYrQvTKQcjK4C5pGPAsJB2H1zWRy7DVe8gxAOv+2e03
 jgwCTsz9CgiM7bJjTrADfMtFDyVpfhgdFESSp1Ll4xvGp5n1XoOTkWxKHti2EYtVLoT9raa2b3b
 ET6v/18SUSkyuZiCQRr1Lx3A2mP6DnaF8AJFa/OFj
X-Google-Smtp-Source: AGHT+IE/oaFa116zqHSbz5SNlQqenXps43vU8oQDUTWVEmfXtS0iH/SV/B+iitaVqMgswyKlZwLjbvv74hH5
X-Received: by 2002:a05:6e02:1caa:b0:374:a44b:1186 with SMTP id
 e9e14a558f8ab-3763df8f71bmr100731295ab.12.1719308650696; 
 Tue, 25 Jun 2024 02:44:10 -0700 (PDT)
Received: from postal.iol.unh.edu (postal.iol.unh.edu. [132.177.123.84])
 by smtp-relay.gmail.com with ESMTPS id
 e9e14a558f8ab-3762f33428csm4296985ab.40.2024.06.25.02.44.10
 (version=TLS1_2 cipher=ECDHE-ECDSA-AES128-GCM-SHA256 bits=128/128);
 Tue, 25 Jun 2024 02:44:10 -0700 (PDT)
X-Relaying-Domain: iol.unh.edu
Date: Tue, 25 Jun 2024 02:44:10 -0700 (PDT)
Message-ID: <667a916a.050a0220.e7fd7.f79aSMTPIN_ADDED_MISSING@mx.google.com>
Received: from [172.17.0.3] (unknown [172.18.0.217])
 by postal.iol.unh.edu (Postfix) with ESMTP id 285DD6052754;
 Tue, 25 Jun 2024 05:44:10 -0400 (EDT)
Subject: |SUCCESS| pw141563-141567 [PATCH] [v3,5/5] net/cnxk: fix representor
From: dpdklab@iol.unh.edu
To: Test Report <test-report@dpdk.org>
Cc: dpdk-test-reports@iol.unh.edu
In-Reply-To: <20240624132415.32291-5-hkalra@marvell.com>
References: <20240624132415.32291-5-hkalra@marvell.com>
Content-Type: text/plain
X-BeenThere: test-report@dpdk.org
X-Mailman-Version: 2.1.29
Precedence: list
List-Id: automatic DPDK test reports <test-report.dpdk.org>
List-Unsubscribe: <https://mails.dpdk.org/options/test-report>,
 <mailto:test-report-request@dpdk.org?subject=unsubscribe>
List-Archive: <http://mails.dpdk.org/archives/test-report/>
List-Post: <mailto:test-report@dpdk.org>
List-Help: <mailto:test-report-request@dpdk.org?subject=help>
List-Subscribe: <https://mails.dpdk.org/listinfo/test-report>,
 <mailto:test-report-request@dpdk.org?subject=subscribe>
Errors-To: test-report-bounces@dpdk.org

Test-Label: iol-unit-amd64-testing
Test-Status: SUCCESS
http://dpdk.org/patch/141567

_Testing PASS_

Submitter: Harman Kalra <hkalra@marvell.com>
Date: Monday, June 24 2024 13:24:15 
DPDK git baseline: Repo:dpdk
  Branch: master
  CommitID:4a44d97f0a52a76258c6a6cb6a713f4380a8ab1f

141563-141567 --> testing pass

Test environment and result as below:

+------------------+----------------+
|   Environment    | dpdk_unit_test |
+==================+================+
| CentOS Stream 9  | PASS           |
+------------------+----------------+
| Debian 12        | PASS           |
+------------------+----------------+
| Fedora 37        | PASS           |
+------------------+----------------+
| Fedora 38        | PASS           |
+------------------+----------------+
| Debian Bullseye  | PASS           |
+------------------+----------------+
| CentOS Stream 8  | PASS           |
+------------------+----------------+
| Fedora 40        | PASS           |
+------------------+----------------+
| Fedora 39        | PASS           |
+------------------+----------------+
| RHEL9            | PASS           |
+------------------+----------------+
| openSUSE Leap 15 | PASS           |
+------------------+----------------+
| Ubuntu 22.04     | PASS           |
+------------------+----------------+
| Ubuntu 24.04     | PASS           |
+------------------+----------------+
| RHEL8            | PASS           |
+------------------+----------------+
| Ubuntu 20.04     | PASS           |
+------------------+----------------+


CentOS Stream 9
	Kernel: 5.4.0-167-generic
	Compiler: gcc 11.4.1 20230605

Debian 12
	Kernel: Container Host Kernel
	Compiler: gcc 12.2.0

Fedora 37
	Kernel: Depends on container host system
	Compiler: gcc 12.3.1

Fedora 38
	Kernel: Depends on container host
	Compiler: gcc 13.2.1

Debian Bullseye
	Kernel: 5.4.0-167-generic
	Compiler: gcc 10.2.1-6

CentOS Stream 8
	Kernel: 5.4.0-167-generic
	Compiler: gcc 8.5.0 20210514

Fedora 40
	Kernel: Depends on container host
	Compiler: gcc 14.1.1

Fedora 39
	Kernel: Depends on container host
	Compiler: clang 17.0.6

RHEL9
	Kernel: Depends on container host
	Compiler: gcc 11.4.1

openSUSE Leap 15
	Kernel: 5.4.0-167-generic
	Compiler: gcc 7.5.0

Ubuntu 22.04
	Kernel: 5.4.0-167-generic
	Compiler: gcc 11.4.0

Ubuntu 24.04
	Kernel: 5.4.0-167-generic
	Compiler: gcc 13.2.0

RHEL8
	Kernel: 5.4.0-167-generic
	Compiler: gcc 8.5.0 20210514 (Red Hat 8.5.0-20)

Ubuntu 20.04
	Kernel: 5.4.0-167-generic
	Compiler: gcc 9.4.0-1ubuntu1~20.04.1

To view detailed results, visit:
https://lab.dpdk.org/results/dashboard/patchsets/30294/

UNH-IOL DPDK Community Lab

To manage your email subscriptions, visit: 
https://lab.dpdk.org/results/dashboard/preferences/subscriptions/