From mboxrd@z Thu Jan  1 00:00:00 1970
Return-Path: <test-report-bounces@dpdk.org>
Received: from mails.dpdk.org (mails.dpdk.org [217.70.189.124])
	by inbox.dpdk.org (Postfix) with ESMTP id C1CE4454EF
	for <public@inbox.dpdk.org>; Tue, 25 Jun 2024 14:21:48 +0200 (CEST)
Received: from mails.dpdk.org (localhost [127.0.0.1])
	by mails.dpdk.org (Postfix) with ESMTP id 6101D42E75;
	Tue, 25 Jun 2024 14:21:48 +0200 (CEST)
Received: from mail-oi1-f227.google.com (mail-oi1-f227.google.com
 [209.85.167.227])
 by mails.dpdk.org (Postfix) with ESMTP id F15354278B
 for <test-report@dpdk.org>; Tue, 25 Jun 2024 14:17:33 +0200 (CEST)
Received: by mail-oi1-f227.google.com with SMTP id
 5614622812f47-3d55c28cd0dso135819b6e.3
 for <test-report@dpdk.org>; Tue, 25 Jun 2024 05:17:33 -0700 (PDT)
DKIM-Signature: v=1; a=rsa-sha256; c=relaxed/relaxed;
 d=iol.unh.edu; s=unh-iol; t=1719317853; x=1719922653; darn=dpdk.org;
 h=references:in-reply-to:cc:to:from:subject:message-id:date:from:to
 :cc:subject:date:message-id:reply-to;
 bh=KZlboG0Kw6x4evQuGxfchcL64lgX3NaZ/kLJMtH32IE=;
 b=TG5o6/j9ONKoY/J0I8CGrH+xR8l0vYiAAuZpBFAyGxqugqaLTIlZCOpj8EHWmtFRms
 XNRo9/2sJUsNX4b4t5ceywSqviorWswhlZU0TmV70URwhZko+vlEC0Jwe73/qzKoN/Hp
 Qfvx6pJHTR1FXLDeeNFlVE2jeRDVd89hWmPd8=
X-Google-DKIM-Signature: v=1; a=rsa-sha256; c=relaxed/relaxed;
 d=1e100.net; s=20230601; t=1719317853; x=1719922653;
 h=references:in-reply-to:cc:to:from:subject:message-id:date
 :x-gm-message-state:from:to:cc:subject:date:message-id:reply-to;
 bh=KZlboG0Kw6x4evQuGxfchcL64lgX3NaZ/kLJMtH32IE=;
 b=wv8sInghkNXgLiWTm/x4z+20gomL430Y3OINlKGZbSLtChZYv/cODwd9/j/eJSeLcv
 u3VT9muvG9yqQysBEBqUHsEcaNhxlyrrw+2TAGGmmjkj9nFmkGLKYnSEVmpHqD3YsLl3
 g0WAAeHRJc8pyyEFsPJoBlNRD8i87YKHDy+to6XnKqyNI3Oph/syYwazjpWIkZl2aQuo
 d7NKz3fC1B+m9qSMTZZe9M89V5qjJiBE1HIhhE1ep9TJvm8qLDFgPa8nKxfkQdF8vcLR
 Bu8pYKxeygHW692fO2wvIP+oL/tSfksZDOxWfYRdG/7de08KcNXSZg2pPspDnlIFx+ev
 41UQ==
X-Gm-Message-State: AOJu0Yzaj+U8Rnph4saLRfwe77i/ChKSxBZnVxzQI01isf9MM6qL6bV5
 bNLykmOMXbHPTd5NtfWGohlGl0md366/T69GCmDxIDZhPV7i1shMhFmYmtEJqQPdbF9MCr7KOzw
 QT0Cyxd3EqF2S9BTRT0Xx3T9VnaJya9DeIEWhMney
X-Google-Smtp-Source: AGHT+IGM4vFmoGuuNLlH4ooLC9RdepSnKCMVFQ+mSmHMp4Fz9qVONauvtU1/pPdzxOgWY8/fuH4m+LHse8WN
X-Received: by 2002:a05:6808:1824:b0:3d2:1aa5:ad10 with SMTP id
 5614622812f47-3d545a6a458mr8279264b6e.45.1719317853089; 
 Tue, 25 Jun 2024 05:17:33 -0700 (PDT)
Received: from postal.iol.unh.edu (postal.iol.unh.edu. [132.177.123.84])
 by smtp-relay.gmail.com with ESMTPS id
 d75a77b69052e-444f72abb03sm387081cf.27.2024.06.25.05.17.33
 (version=TLS1_2 cipher=ECDHE-ECDSA-AES128-GCM-SHA256 bits=128/128);
 Tue, 25 Jun 2024 05:17:33 -0700 (PDT)
X-Relaying-Domain: iol.unh.edu
Date: Tue, 25 Jun 2024 05:17:33 -0700 (PDT)
Message-ID: <667ab55d.050a0220.b51f0.2c62SMTPIN_ADDED_MISSING@mx.google.com>
Received: from [172.21.0.6] (unknown [172.18.0.240])
 by postal.iol.unh.edu (Postfix) with ESMTP id C0961605C21C;
 Tue, 25 Jun 2024 08:17:32 -0400 (EDT)
Subject: |SUCCESS| pw141595 [PATCH] vhost: Fix the crash caused by accessing 
From: dpdklab@iol.unh.edu
To: Test Report <test-report@dpdk.org>
Cc: dpdk-test-reports@iol.unh.edu
In-Reply-To: <20240625021347.63978-1-15957197901@163.com>
References: <20240625021347.63978-1-15957197901@163.com>
Content-Type: text/plain
X-BeenThere: test-report@dpdk.org
X-Mailman-Version: 2.1.29
Precedence: list
List-Id: automatic DPDK test reports <test-report.dpdk.org>
List-Unsubscribe: <https://mails.dpdk.org/options/test-report>,
 <mailto:test-report-request@dpdk.org?subject=unsubscribe>
List-Archive: <http://mails.dpdk.org/archives/test-report/>
List-Post: <mailto:test-report@dpdk.org>
List-Help: <mailto:test-report-request@dpdk.org?subject=help>
List-Subscribe: <https://mails.dpdk.org/listinfo/test-report>,
 <mailto:test-report-request@dpdk.org?subject=subscribe>
Errors-To: test-report-bounces@dpdk.org

Test-Label: iol-abi-testing
Test-Status: SUCCESS
http://dpdk.org/patch/141595

_Testing PASS_

Submitter: Xinxin Zhao <15957197901@163.com>
Date: Tuesday, June 25 2024 02:13:47 
DPDK git baseline: Repo:dpdk
  Branch: master
  CommitID:fc10d6bd7632dff48a9f191e8d43872f47509e09

141595 --> testing pass

Test environment and result as below:

+------------------+----------+
|   Environment    | abi_test |
+==================+==========+
| Fedora 37        | PASS     |
+------------------+----------+
| Fedora 39        | PASS     |
+------------------+----------+
| Fedora 40        | PASS     |
+------------------+----------+
| openSUSE Leap 15 | PASS     |
+------------------+----------+
| Debian 12        | PASS     |
+------------------+----------+
| Fedora 38        | PASS     |
+------------------+----------+
| RHEL8            | PASS     |
+------------------+----------+
| Debian Bullseye  | PASS     |
+------------------+----------+
| Ubuntu 22.04     | PASS     |
+------------------+----------+
| CentOS Stream 8  | PASS     |
+------------------+----------+
| CentOS Stream 9  | PASS     |
+------------------+----------+
| RHEL9            | PASS     |
+------------------+----------+
| Ubuntu 24.04     | PASS     |
+------------------+----------+


Fedora 37
	Kernel: Depends on container host system
	Compiler: gcc 12.3.1

Fedora 39
	Kernel: Depends on container host
	Compiler: gcc 13.2.1

Fedora 40
	Kernel: Depends on container host
	Compiler: gcc 14.1.1

openSUSE Leap 15
	Kernel: 5.4.0-167-generic
	Compiler: gcc 7.5.0

Debian 12
	Kernel: Container Host Kernel
	Compiler: gcc 12.2.0

Fedora 38
	Kernel: Depends on container host
	Compiler: clang 16.0.6

RHEL8
	Kernel: 5.4.0-167-generic
	Compiler: gcc 8.5.0 20210514 (Red Hat 8.5.0-20)

Debian Bullseye
	Kernel: 5.4.0-167-generic
	Compiler: gcc 10.2.1-6

Ubuntu 22.04
	Kernel: 5.4.0-167-generic
	Compiler: gcc 11.4.0

CentOS Stream 8
	Kernel: 5.4.0-167-generic
	Compiler: gcc 8.5.0 20210514

CentOS Stream 9
	Kernel: 5.4.0-167-generic
	Compiler: gcc 11.4.1 20230605

RHEL9
	Kernel: Depends on container host
	Compiler: gcc 11.4.1

Ubuntu 24.04
	Kernel: 5.4.0-167-generic
	Compiler: gcc 13.2.0

To view detailed results, visit:
https://lab.dpdk.org/results/dashboard/patchsets/30303/

UNH-IOL DPDK Community Lab

To manage your email subscriptions, visit: 
https://lab.dpdk.org/results/dashboard/preferences/subscriptions/