From mboxrd@z Thu Jan  1 00:00:00 1970
Return-Path: <test-report-bounces@dpdk.org>
Received: from mails.dpdk.org (mails.dpdk.org [217.70.189.124])
	by inbox.dpdk.org (Postfix) with ESMTP id 51518454EF
	for <public@inbox.dpdk.org>; Tue, 25 Jun 2024 15:22:15 +0200 (CEST)
Received: from mails.dpdk.org (localhost [127.0.0.1])
	by mails.dpdk.org (Postfix) with ESMTP id BB61243262;
	Tue, 25 Jun 2024 15:22:14 +0200 (CEST)
Received: from mail-pj1-f99.google.com (mail-pj1-f99.google.com
 [209.85.216.99]) by mails.dpdk.org (Postfix) with ESMTP id 115DC41156
 for <test-report@dpdk.org>; Tue, 25 Jun 2024 15:11:32 +0200 (CEST)
Received: by mail-pj1-f99.google.com with SMTP id
 98e67ed59e1d1-2c7a6da20f2so4270558a91.0
 for <test-report@dpdk.org>; Tue, 25 Jun 2024 06:11:31 -0700 (PDT)
DKIM-Signature: v=1; a=rsa-sha256; c=relaxed/relaxed;
 d=iol.unh.edu; s=unh-iol; t=1719321091; x=1719925891; darn=dpdk.org;
 h=references:in-reply-to:cc:to:from:subject:message-id:date:from:to
 :cc:subject:date:message-id:reply-to;
 bh=guzPPcTw917hieq7//c99/2Y2lTzp0GhmanhAjeg+UM=;
 b=MQjc5E/Ofo7wJinO53272KwrJNAvYwJb5zTMJQYX2RH9/K1ABsTUIA0GvMyedeEeL8
 o7KpJ7uAkhqRIblGt6zA9TGyJ1ve5bLzYMMyGVZufBvDJTtocOJ1EG3v5EpsG5SHYH4T
 Hj6sNF+mNRHBoDOghNIVwmJw9O87p2sfJgArQ=
X-Google-DKIM-Signature: v=1; a=rsa-sha256; c=relaxed/relaxed;
 d=1e100.net; s=20230601; t=1719321091; x=1719925891;
 h=references:in-reply-to:cc:to:from:subject:message-id:date
 :x-gm-message-state:from:to:cc:subject:date:message-id:reply-to;
 bh=guzPPcTw917hieq7//c99/2Y2lTzp0GhmanhAjeg+UM=;
 b=NhspAbNnCpPeR4rJKWlivBfwdFeVN49GFRfSRdztiafX+cVsZMQ4mhnmRt+J2p63he
 /yhFGWd7dYHECgi1rMHwzc7ia+9E77VCeVXirIR6tTvVeYWdp3d4DHWTteuE+rRYU/iO
 eINDFZ6AYLf+4SaA07zYWeW/y7zt4jcxuelEr/Ggk7M3a2LY61GkXrRClX+ViDQ4tos9
 kP2HnIg9x1zBoMD2mOkDS60JcwRWuot6lBXcUJSFGBz6MJty/PMTcWTnnsLrihAE4r5k
 i1ke/IsUbXT6IkQsx9Oo49KNYJuOokNI8reUPlIhM88pzFbDDja7vYVonJlx2NCZfROg
 xSdw==
X-Gm-Message-State: AOJu0YzQLHqs5JuvcgyzrguJNhe2vC1CXLkdGxyYYKOqaP4zvEuMsmWu
 NI+N3CFUlH3r/sRdt26y6jyMPrRFbXbG8CaCvlGVDYBRFsmo1j0+idB/f0181TX5Ro50xWdy1PO
 4MB76VBbyCegz/88nAVIbN/A3S9pJ6yiJ1XcilhRg
X-Google-Smtp-Source: AGHT+IFxWuGM3xqcGZmHDZn8202pdgRXOQpT+5B/gYH4PRpO87r3whzO9UnCtXVoMYMK4OtjYL/7vgV2jaID
X-Received: by 2002:a17:90b:f0e:b0:2c8:bac9:330 with SMTP id
 98e67ed59e1d1-2c8bac90c78mr1194259a91.24.1719321091279; 
 Tue, 25 Jun 2024 06:11:31 -0700 (PDT)
Received: from postal.iol.unh.edu (postal.iol.unh.edu. [132.177.123.84])
 by smtp-relay.gmail.com with ESMTPS id
 98e67ed59e1d1-2c7e64a132fsm638667a91.16.2024.06.25.06.11.31
 (version=TLS1_2 cipher=ECDHE-ECDSA-AES128-GCM-SHA256 bits=128/128);
 Tue, 25 Jun 2024 06:11:31 -0700 (PDT)
X-Relaying-Domain: iol.unh.edu
Date: Tue, 25 Jun 2024 06:11:31 -0700 (PDT)
Message-ID: <667ac203.170a0220.ca3be.f246SMTPIN_ADDED_MISSING@mx.google.com>
Received: from [172.21.0.6] (unknown [172.18.0.240])
 by postal.iol.unh.edu (Postfix) with ESMTP id 69651605C373;
 Tue, 25 Jun 2024 09:11:30 -0400 (EDT)
Subject: |SUCCESS| pw141595 [PATCH] vhost: Fix the crash caused by accessing 
From: dpdklab@iol.unh.edu
To: Test Report <test-report@dpdk.org>
Cc: dpdk-test-reports@iol.unh.edu
In-Reply-To: <20240625021347.63978-1-15957197901@163.com>
References: <20240625021347.63978-1-15957197901@163.com>
Content-Type: text/plain
X-BeenThere: test-report@dpdk.org
X-Mailman-Version: 2.1.29
Precedence: list
List-Id: automatic DPDK test reports <test-report.dpdk.org>
List-Unsubscribe: <https://mails.dpdk.org/options/test-report>,
 <mailto:test-report-request@dpdk.org?subject=unsubscribe>
List-Archive: <http://mails.dpdk.org/archives/test-report/>
List-Post: <mailto:test-report@dpdk.org>
List-Help: <mailto:test-report-request@dpdk.org?subject=help>
List-Subscribe: <https://mails.dpdk.org/listinfo/test-report>,
 <mailto:test-report-request@dpdk.org?subject=subscribe>
Errors-To: test-report-bounces@dpdk.org

Test-Label: iol-unit-arm64-testing
Test-Status: SUCCESS
http://dpdk.org/patch/141595

_Testing PASS_

Submitter: Xinxin Zhao <15957197901@163.com>
Date: Tuesday, June 25 2024 02:13:47 
DPDK git baseline: Repo:dpdk
  Branch: master
  CommitID:fc10d6bd7632dff48a9f191e8d43872f47509e09

141595 --> testing pass

Test environment and result as below:

+-----------------------------+----------------+---------------------------+------------------------------+
|         Environment         | dpdk_unit_test | cryptodev_sw_zuc_autotest | cryptodev_sw_snow3g_autotest |
+=============================+================+===========================+==============================+
| CentOS Stream 9 (ARM)       | PASS           | SKIPPED                   | SKIPPED                      |
+-----------------------------+----------------+---------------------------+------------------------------+
| Debian 11 (Buster) (ARM)    | PASS           | SKIPPED                   | SKIPPED                      |
+-----------------------------+----------------+---------------------------+------------------------------+
| Fedora 37 (ARM)             | PASS           | SKIPPED                   | SKIPPED                      |
+-----------------------------+----------------+---------------------------+------------------------------+
| Fedora 38 (ARM)             | PASS           | SKIPPED                   | SKIPPED                      |
+-----------------------------+----------------+---------------------------+------------------------------+
| Debian 12 (arm)             | PASS           | PASS                      | PASS                         |
+-----------------------------+----------------+---------------------------+------------------------------+
| Fedora 40 (ARM)             | PASS           | SKIPPED                   | SKIPPED                      |
+-----------------------------+----------------+---------------------------+------------------------------+
| Fedora 39 (ARM)             | PASS           | SKIPPED                   | SKIPPED                      |
+-----------------------------+----------------+---------------------------+------------------------------+
| 32-bit Ubuntu 20.04.4 (ARM) | PASS           | SKIPPED                   | SKIPPED                      |
+-----------------------------+----------------+---------------------------+------------------------------+
| RHEL9 (ARM)                 | PASS           | SKIPPED                   | SKIPPED                      |
+-----------------------------+----------------+---------------------------+------------------------------+
| Fedora 40 (ARM Clang)       | PASS           | SKIPPED                   | SKIPPED                      |
+-----------------------------+----------------+---------------------------+------------------------------+
| Fedora 38 (ARM Clang)       | PASS           | SKIPPED                   | SKIPPED                      |
+-----------------------------+----------------+---------------------------+------------------------------+
| Ubuntu 22.04 (ARM)          | PASS           | SKIPPED                   | SKIPPED                      |
+-----------------------------+----------------+---------------------------+------------------------------+
| Ubuntu 24.04 (ARM)          | PASS           | SKIPPED                   | SKIPPED                      |
+-----------------------------+----------------+---------------------------+------------------------------+
| Ubuntu 20.04 (ARM)          | PASS           | SKIPPED                   | SKIPPED                      |
+-----------------------------+----------------+---------------------------+------------------------------+
| Fedora 39 (ARM Clang)       | PASS           | SKIPPED                   | SKIPPED                      |
+-----------------------------+----------------+---------------------------+------------------------------+


CentOS Stream 9 (ARM)
	Kernel: Container Host Kernel
	Compiler: gcc 11.4.1

Debian 11 (Buster) (ARM)
	Kernel: Container Host Kernel
	Compiler: gcc 10.2.1

Fedora 37 (ARM)
	Kernel: Depends on container host
	Compiler: gcc 12.3.1

Fedora 38 (ARM)
	Kernel: Depends on container host
	Compiler: gcc 13.2.1

Debian 12 (arm)
	Kernel: Container Host Kernel
	Compiler: gcc 12.2.0

Fedora 40 (ARM)
	Kernel: Depends on container host
	Compiler: gcc 14.1.1

Fedora 39 (ARM)
	Kernel: Depends on container host
	Compiler: gcc 13.2.1

32-bit Ubuntu 20.04.4 (ARM)
	Kernel: 5.4.0-155-generic aarch64
	Compiler: gcc 9.4

RHEL9 (ARM)
	Kernel: Depends on container host
	Compiler: gcc 11.4.1

Fedora 40 (ARM Clang)
	Kernel: Depends on container host
	Compiler: clang 18.1.6

Fedora 38 (ARM Clang)
	Kernel: Depends on container host
	Compiler: clang 16.0.6

Ubuntu 22.04 (ARM)
	Kernel: Container Host Kernel
	Compiler: gcc 11.4.0

Ubuntu 24.04 (ARM)
	Kernel: 5.4.0-167-generic
	Compiler: gcc 13.2.0

Ubuntu 20.04 (ARM)
	Kernel: Container Host Kernel
	Compiler: gcc 9.4.0

Fedora 39 (ARM Clang)
	Kernel: Depends on container host
	Compiler: clang 17.0.6

To view detailed results, visit:
https://lab.dpdk.org/results/dashboard/patchsets/30303/

UNH-IOL DPDK Community Lab

To manage your email subscriptions, visit: 
https://lab.dpdk.org/results/dashboard/preferences/subscriptions/