From mboxrd@z Thu Jan  1 00:00:00 1970
Return-Path: <test-report-bounces@dpdk.org>
Received: from mails.dpdk.org (mails.dpdk.org [217.70.189.124])
	by inbox.dpdk.org (Postfix) with ESMTP id E63E4454EF
	for <public@inbox.dpdk.org>; Tue, 25 Jun 2024 15:22:15 +0200 (CEST)
Received: from mails.dpdk.org (localhost [127.0.0.1])
	by mails.dpdk.org (Postfix) with ESMTP id 749ED433AA;
	Tue, 25 Jun 2024 15:22:15 +0200 (CEST)
Received: from mail-pl1-f227.google.com (mail-pl1-f227.google.com
 [209.85.214.227])
 by mails.dpdk.org (Postfix) with ESMTP id 1E1EF402D0
 for <test-report@dpdk.org>; Tue, 25 Jun 2024 15:19:18 +0200 (CEST)
Received: by mail-pl1-f227.google.com with SMTP id
 d9443c01a7336-1f480624d0dso46346485ad.1
 for <test-report@dpdk.org>; Tue, 25 Jun 2024 06:19:18 -0700 (PDT)
DKIM-Signature: v=1; a=rsa-sha256; c=relaxed/relaxed;
 d=iol.unh.edu; s=unh-iol; t=1719321557; x=1719926357; darn=dpdk.org;
 h=references:in-reply-to:cc:to:from:subject:message-id:date:from:to
 :cc:subject:date:message-id:reply-to;
 bh=guzPPcTw917hieq7//c99/2Y2lTzp0GhmanhAjeg+UM=;
 b=HUrGREezp2ylR+FO313/hoU5ZY+F1mkvsHg4IWvgbulnGkv6expR7YZZrSk72DXRNB
 E67EtKovoC4oYUC9lbp08/EGLM0/Fs4ummq92i2xr2u0EfotVNcoQ+NpG8781/cQxZ9H
 BlOt0dEe1JtizZrQmcl5sfv20TKrpvpJ8gRHM=
X-Google-DKIM-Signature: v=1; a=rsa-sha256; c=relaxed/relaxed;
 d=1e100.net; s=20230601; t=1719321557; x=1719926357;
 h=references:in-reply-to:cc:to:from:subject:message-id:date
 :x-gm-message-state:from:to:cc:subject:date:message-id:reply-to;
 bh=guzPPcTw917hieq7//c99/2Y2lTzp0GhmanhAjeg+UM=;
 b=BVFjZYknI3Rq/EYEh9DE9K2ex2I93ZljkCvmipb9WvKFbyDP9z0DvY/epK9y67v4wj
 HrsQzhjctxxosSU/EFyASBLms51gtHhp9mLpDV/9V5ui0DfiLSIKcG/CrUrsbL2MJI/V
 DifdSi7QmWadBMmXa7SZwpZmCcRlkxtNk2+Qd7RVWjc/6BIGI99brWJJDcyN0052zJ7z
 5ipZts4H4iuPKPwXd8u1xhNC9g/22mAsr9n8hPuwxA9TEdX4FJL+8Ad278xfIkRDfNew
 rdDj0iYHpn5ipj4Z661aKV+XcD/ZZfCbZk2djZm1VNE39VL85vteFeu6I4kKSFXZdWW9
 JKLA==
X-Gm-Message-State: AOJu0YxC+zpT3vf6BxlE/rh5Gd+xkms4JOQCZGJlfIL31KS3jyjbZet3
 9h97+hHVQZufR9uqQXFAcko1r0ySAZiTX42kH99DOuQZxJkoo3rpxgXZTNoYdKz+0g7qgVGoGWW
 3WkqUBnh/zdnKyeqTZqXbo6LeE6INwjsWagr5DbkQazf5mzQXnoSmOeRk
X-Google-Smtp-Source: AGHT+IHHVnCYAwayTGs+CJcEYV2j30IDzeoLNEGpw3xFt57Q9vL4bA84AkV5YYB9yzhqh/1DW+JAmhURCW7T
X-Received: by 2002:a17:903:22ca:b0:1f9:d10d:1804 with SMTP id
 d9443c01a7336-1fa23f156b6mr80925195ad.46.1719321557265; 
 Tue, 25 Jun 2024 06:19:17 -0700 (PDT)
Received: from postal.iol.unh.edu (postal.iol.unh.edu.
 [2606:4100:3880:1234::84]) by smtp-relay.gmail.com with ESMTPS id
 d9443c01a7336-1f9eb2eeee8sm2838115ad.20.2024.06.25.06.19.17
 (version=TLS1_2 cipher=ECDHE-ECDSA-AES128-GCM-SHA256 bits=128/128);
 Tue, 25 Jun 2024 06:19:17 -0700 (PDT)
X-Relaying-Domain: iol.unh.edu
Date: Tue, 25 Jun 2024 06:19:17 -0700 (PDT)
Message-ID: <667ac3d5.170a0220.52940.5388SMTPIN_ADDED_MISSING@mx.google.com>
Received: from [172.21.0.6] (unknown [172.18.0.240])
 by postal.iol.unh.edu (Postfix) with ESMTP id 9FCC8605C373;
 Tue, 25 Jun 2024 09:19:16 -0400 (EDT)
Subject: |SUCCESS| pw141595 [PATCH] vhost: Fix the crash caused by accessing 
From: dpdklab@iol.unh.edu
To: Test Report <test-report@dpdk.org>
Cc: dpdk-test-reports@iol.unh.edu
In-Reply-To: <20240625021347.63978-1-15957197901@163.com>
References: <20240625021347.63978-1-15957197901@163.com>
Content-Type: text/plain
X-BeenThere: test-report@dpdk.org
X-Mailman-Version: 2.1.29
Precedence: list
List-Id: automatic DPDK test reports <test-report.dpdk.org>
List-Unsubscribe: <https://mails.dpdk.org/options/test-report>,
 <mailto:test-report-request@dpdk.org?subject=unsubscribe>
List-Archive: <http://mails.dpdk.org/archives/test-report/>
List-Post: <mailto:test-report@dpdk.org>
List-Help: <mailto:test-report-request@dpdk.org?subject=help>
List-Subscribe: <https://mails.dpdk.org/listinfo/test-report>,
 <mailto:test-report-request@dpdk.org?subject=subscribe>
Errors-To: test-report-bounces@dpdk.org

Test-Label: iol-unit-arm64-testing
Test-Status: SUCCESS
http://dpdk.org/patch/141595

_Testing PASS_

Submitter: Xinxin Zhao <15957197901@163.com>
Date: Tuesday, June 25 2024 02:13:47 
DPDK git baseline: Repo:dpdk
  Branch: master
  CommitID:fc10d6bd7632dff48a9f191e8d43872f47509e09

141595 --> testing pass

Test environment and result as below:

+-----------------------------+----------------+---------------------------+------------------------------+
|         Environment         | dpdk_unit_test | cryptodev_sw_zuc_autotest | cryptodev_sw_snow3g_autotest |
+=============================+================+===========================+==============================+
| CentOS Stream 9 (ARM)       | PASS           | SKIPPED                   | SKIPPED                      |
+-----------------------------+----------------+---------------------------+------------------------------+
| Debian 11 (Buster) (ARM)    | PASS           | SKIPPED                   | SKIPPED                      |
+-----------------------------+----------------+---------------------------+------------------------------+
| Fedora 37 (ARM)             | PASS           | SKIPPED                   | SKIPPED                      |
+-----------------------------+----------------+---------------------------+------------------------------+
| Fedora 38 (ARM)             | PASS           | SKIPPED                   | SKIPPED                      |
+-----------------------------+----------------+---------------------------+------------------------------+
| Debian 12 (arm)             | PASS           | PASS                      | PASS                         |
+-----------------------------+----------------+---------------------------+------------------------------+
| Fedora 40 (ARM)             | PASS           | SKIPPED                   | SKIPPED                      |
+-----------------------------+----------------+---------------------------+------------------------------+
| Fedora 39 (ARM)             | PASS           | SKIPPED                   | SKIPPED                      |
+-----------------------------+----------------+---------------------------+------------------------------+
| 32-bit Ubuntu 20.04.4 (ARM) | PASS           | SKIPPED                   | SKIPPED                      |
+-----------------------------+----------------+---------------------------+------------------------------+
| RHEL9 (ARM)                 | PASS           | SKIPPED                   | SKIPPED                      |
+-----------------------------+----------------+---------------------------+------------------------------+
| Fedora 40 (ARM Clang)       | PASS           | SKIPPED                   | SKIPPED                      |
+-----------------------------+----------------+---------------------------+------------------------------+
| Fedora 38 (ARM Clang)       | PASS           | SKIPPED                   | SKIPPED                      |
+-----------------------------+----------------+---------------------------+------------------------------+
| Ubuntu 22.04 (ARM)          | PASS           | SKIPPED                   | SKIPPED                      |
+-----------------------------+----------------+---------------------------+------------------------------+
| Ubuntu 24.04 (ARM)          | PASS           | SKIPPED                   | SKIPPED                      |
+-----------------------------+----------------+---------------------------+------------------------------+
| Ubuntu 20.04 (ARM)          | PASS           | SKIPPED                   | SKIPPED                      |
+-----------------------------+----------------+---------------------------+------------------------------+
| Fedora 39 (ARM Clang)       | PASS           | SKIPPED                   | SKIPPED                      |
+-----------------------------+----------------+---------------------------+------------------------------+


CentOS Stream 9 (ARM)
	Kernel: Container Host Kernel
	Compiler: gcc 11.4.1

Debian 11 (Buster) (ARM)
	Kernel: Container Host Kernel
	Compiler: gcc 10.2.1

Fedora 37 (ARM)
	Kernel: Depends on container host
	Compiler: gcc 12.3.1

Fedora 38 (ARM)
	Kernel: Depends on container host
	Compiler: gcc 13.2.1

Debian 12 (arm)
	Kernel: Container Host Kernel
	Compiler: gcc 12.2.0

Fedora 40 (ARM)
	Kernel: Depends on container host
	Compiler: gcc 14.1.1

Fedora 39 (ARM)
	Kernel: Depends on container host
	Compiler: gcc 13.2.1

32-bit Ubuntu 20.04.4 (ARM)
	Kernel: 5.4.0-155-generic aarch64
	Compiler: gcc 9.4

RHEL9 (ARM)
	Kernel: Depends on container host
	Compiler: gcc 11.4.1

Fedora 40 (ARM Clang)
	Kernel: Depends on container host
	Compiler: clang 18.1.6

Fedora 38 (ARM Clang)
	Kernel: Depends on container host
	Compiler: clang 16.0.6

Ubuntu 22.04 (ARM)
	Kernel: Container Host Kernel
	Compiler: gcc 11.4.0

Ubuntu 24.04 (ARM)
	Kernel: 5.4.0-167-generic
	Compiler: gcc 13.2.0

Ubuntu 20.04 (ARM)
	Kernel: Container Host Kernel
	Compiler: gcc 9.4.0

Fedora 39 (ARM Clang)
	Kernel: Depends on container host
	Compiler: clang 17.0.6

To view detailed results, visit:
https://lab.dpdk.org/results/dashboard/patchsets/30303/

UNH-IOL DPDK Community Lab

To manage your email subscriptions, visit: 
https://lab.dpdk.org/results/dashboard/preferences/subscriptions/