From mboxrd@z Thu Jan  1 00:00:00 1970
Return-Path: <test-report-bounces@dpdk.org>
Received: from mails.dpdk.org (mails.dpdk.org [217.70.189.124])
	by inbox.dpdk.org (Postfix) with ESMTP id C6029454EF
	for <public@inbox.dpdk.org>; Tue, 25 Jun 2024 15:49:21 +0200 (CEST)
Received: from mails.dpdk.org (localhost [127.0.0.1])
	by mails.dpdk.org (Postfix) with ESMTP id 9F9F342E57;
	Tue, 25 Jun 2024 15:49:21 +0200 (CEST)
Received: from mail-yw1-f228.google.com (mail-yw1-f228.google.com
 [209.85.128.228])
 by mails.dpdk.org (Postfix) with ESMTP id E896F402D0
 for <test-report@dpdk.org>; Tue, 25 Jun 2024 15:28:37 +0200 (CEST)
Received: by mail-yw1-f228.google.com with SMTP id
 00721157ae682-63bd10df78dso51666967b3.2
 for <test-report@dpdk.org>; Tue, 25 Jun 2024 06:28:37 -0700 (PDT)
DKIM-Signature: v=1; a=rsa-sha256; c=relaxed/relaxed;
 d=iol.unh.edu; s=unh-iol; t=1719322117; x=1719926917; darn=dpdk.org;
 h=references:in-reply-to:cc:to:from:subject:message-id:date:from:to
 :cc:subject:date:message-id:reply-to;
 bh=l4AfnR2N8eJa1v/j1Gx7Ochbc57WYpu0wNq7XJ8ZJQk=;
 b=OeuzJzcBPBBuNQtzoLhEMmi2x97d5oQoP9i/ZUSdoywryyzMNZEe4pwYlSYcXqlPPY
 CrpaWP0Cq3fgkY9JowPvU4i/3TG9/wSekSlH2FuyVpRdCHpm76CYh4qQ378iVcGzl6fr
 KmGMlvMFYchVgzYLZTQs6iWJh5xKv2T2zPjdE=
X-Google-DKIM-Signature: v=1; a=rsa-sha256; c=relaxed/relaxed;
 d=1e100.net; s=20230601; t=1719322117; x=1719926917;
 h=references:in-reply-to:cc:to:from:subject:message-id:date
 :x-gm-message-state:from:to:cc:subject:date:message-id:reply-to;
 bh=l4AfnR2N8eJa1v/j1Gx7Ochbc57WYpu0wNq7XJ8ZJQk=;
 b=PcaVB9exvVnQm4OP8YafKQCwSfFIZneE3RqHrlOMGIpoRV7tGvDTah1maqqZyciL/f
 jwtIAA3POvIGbt9iTTL/B1X8faNdzG1UZHBbpf0MsFHw5jrOK7Gi2EPrGD0D2AgjK+yI
 zIlhsnLvOcZmENWS02Y2BTos1Hf4OmKH6xgk5S1lv2y7VRBQ2v+NLGVcdJgh1wTzyCcu
 AlIHcrIPS/XfYEYjU55qpYZo0NA51UdFoqoURRfNeFoYSi4nYkbHU3j5SuKKOKtXSKCk
 Z4mIwhin0sCmmV0wfJbIh6q/uyMYFeRG7JXKixtnyP66jjn2o0KaxsnpfpL4+iEdhS8p
 /tnA==
X-Gm-Message-State: AOJu0Yxzfq/J5NI9Wm1EyWKbB/t/jQTk7g8/7R1CT8yXzYaf7Zsnz18m
 qfK0bw/XwfHXpO3oNg2yzd0Lkc/EKdmwm2LWW76TlMK7NZ2jCJXB64vcyyQcemCKTTZh+BJOCMv
 LKHfLPAhopkteCLZsuwpbagGMMnsNR8s2fvV8bSzr
X-Google-Smtp-Source: AGHT+IGwHKy8+VOYVETaAUQj3TkUQy8bpMRGRz60xfTuDMRYLByJ2+Ti2r2ATOMn784P4SBMr4zszradCcfB
X-Received: by 2002:a25:9e92:0:b0:dfe:321c:3e58 with SMTP id
 3f1490d57ef6-e030108115dmr7331393276.44.1719322117235; 
 Tue, 25 Jun 2024 06:28:37 -0700 (PDT)
Received: from postal.iol.unh.edu (postal.iol.unh.edu. [132.177.123.84])
 by smtp-relay.gmail.com with ESMTPS id
 3f1490d57ef6-e02e6267231sm415083276.17.2024.06.25.06.28.37
 (version=TLS1_2 cipher=ECDHE-ECDSA-AES128-GCM-SHA256 bits=128/128);
 Tue, 25 Jun 2024 06:28:37 -0700 (PDT)
X-Relaying-Domain: iol.unh.edu
Date: Tue, 25 Jun 2024 06:28:37 -0700 (PDT)
Message-ID: <667ac605.050a0220.22fab.fc59SMTPIN_ADDED_MISSING@mx.google.com>
Received: from [172.21.0.6] (unknown [172.18.0.240])
 by postal.iol.unh.edu (Postfix) with ESMTP id D4BC8605C373;
 Tue, 25 Jun 2024 09:28:36 -0400 (EDT)
Subject: |SUCCESS| pw141595 [PATCH] vhost: Fix the crash caused by accessing 
From: dpdklab@iol.unh.edu
To: Test Report <test-report@dpdk.org>
Cc: dpdk-test-reports@iol.unh.edu
In-Reply-To: <20240625021347.63978-1-15957197901@163.com>
References: <20240625021347.63978-1-15957197901@163.com>
Content-Type: text/plain
X-BeenThere: test-report@dpdk.org
X-Mailman-Version: 2.1.29
Precedence: list
List-Id: automatic DPDK test reports <test-report.dpdk.org>
List-Unsubscribe: <https://mails.dpdk.org/options/test-report>,
 <mailto:test-report-request@dpdk.org?subject=unsubscribe>
List-Archive: <http://mails.dpdk.org/archives/test-report/>
List-Post: <mailto:test-report@dpdk.org>
List-Help: <mailto:test-report-request@dpdk.org?subject=help>
List-Subscribe: <https://mails.dpdk.org/listinfo/test-report>,
 <mailto:test-report-request@dpdk.org?subject=subscribe>
Errors-To: test-report-bounces@dpdk.org

Test-Label: iol-compile-amd64-testing
Test-Status: SUCCESS
http://dpdk.org/patch/141595

_Testing PASS_

Submitter: Xinxin Zhao <15957197901@163.com>
Date: Tuesday, June 25 2024 02:13:47 
DPDK git baseline: Repo:dpdk
  Branch: master
  CommitID:fc10d6bd7632dff48a9f191e8d43872f47509e09

141595 --> testing pass

Test environment and result as below:

+---------------------+--------------------+----------------------+-------------------+------------------+-------------------+
|     Environment     | dpdk_meson_compile | dpdk_mingw64_compile | dpdk_msvc_compile | dpdk_compile_ovs | dpdk_compile_spdk |
+=====================+====================+======================+===================+==================+===================+
| FreeBSD 13.3        | PASS               | SKIPPED              | SKIPPED           | SKIPPED          | SKIPPED           |
+---------------------+--------------------+----------------------+-------------------+------------------+-------------------+
| FreeBSD 14.1        | PASS               | SKIPPED              | SKIPPED           | SKIPPED          | SKIPPED           |
+---------------------+--------------------+----------------------+-------------------+------------------+-------------------+
| Windows Server 2022 | PASS               | PASS                 | PASS              | SKIPPED          | SKIPPED           |
+---------------------+--------------------+----------------------+-------------------+------------------+-------------------+
| Windows Server 2019 | PASS               | PASS                 | SKIPPED           | SKIPPED          | SKIPPED           |
+---------------------+--------------------+----------------------+-------------------+------------------+-------------------+
| Debian Bullseye     | PASS               | SKIPPED              | SKIPPED           | PASS             | PASS              |
+---------------------+--------------------+----------------------+-------------------+------------------+-------------------+
| Fedora 37           | PASS               | SKIPPED              | SKIPPED           | PASS             | PASS              |
+---------------------+--------------------+----------------------+-------------------+------------------+-------------------+
| Debian 12           | PASS               | SKIPPED              | SKIPPED           | PASS             | PASS              |
+---------------------+--------------------+----------------------+-------------------+------------------+-------------------+
| Ubuntu 20.04        | PASS               | SKIPPED              | SKIPPED           | PASS             | SKIPPED           |
+---------------------+--------------------+----------------------+-------------------+------------------+-------------------+
| Fedora 39           | PASS               | SKIPPED              | SKIPPED           | PASS             | PASS              |
+---------------------+--------------------+----------------------+-------------------+------------------+-------------------+
| Fedora 38           | PASS               | SKIPPED              | SKIPPED           | PASS             | PASS              |
+---------------------+--------------------+----------------------+-------------------+------------------+-------------------+
| CentOS Stream 9     | PASS               | SKIPPED              | SKIPPED           | PASS             | PASS              |
+---------------------+--------------------+----------------------+-------------------+------------------+-------------------+
| CentOS Stream 8     | PASS               | SKIPPED              | SKIPPED           | PASS             | PASS              |
+---------------------+--------------------+----------------------+-------------------+------------------+-------------------+
| RHEL9               | PASS               | SKIPPED              | SKIPPED           | PASS             | SKIPPED           |
+---------------------+--------------------+----------------------+-------------------+------------------+-------------------+
| openSUSE Leap 15    | PASS               | SKIPPED              | SKIPPED           | PASS             | SKIPPED           |
+---------------------+--------------------+----------------------+-------------------+------------------+-------------------+
| RHEL8               | PASS               | SKIPPED              | SKIPPED           | PASS             | SKIPPED           |
+---------------------+--------------------+----------------------+-------------------+------------------+-------------------+


FreeBSD 13.3
	Kernel: 13.3-RELEASE-p1
	Compiler: clang 17.0.6

FreeBSD 14.1
	Kernel: 14.1
	Compiler: clang 18.1.5

Windows Server 2022
	Kernel: 10.0.20348.2031
	Compiler: clang 15.0.7, gcc 8.1.0 (MinGW), and MSVC VS 17.9

Windows Server 2019
	Kernel: 10.0.17763
	Compiler: clang 14.0 and gcc 8.1.0 (MinGW)

Debian Bullseye
	Kernel: 5.4.0-167-generic
	Compiler: gcc 10.2.1-6

Fedora 37
	Kernel: Depends on container host system
	Compiler: gcc 12.3.1

Debian 12
	Kernel: Container Host Kernel
	Compiler: gcc 12.2.0

Ubuntu 20.04
	Kernel: 5.4.0-167-generic
	Compiler: gcc 9.4.0-1ubuntu1~20.04.1

Fedora 39
	Kernel: Depends on container host
	Compiler: gcc 13.2.1

Fedora 38
	Kernel: Depends on container host
	Compiler: gcc 13.2.1

CentOS Stream 9
	Kernel: 5.4.0-167-generic
	Compiler: gcc 11.4.1 20230605

CentOS Stream 8
	Kernel: 5.4.0-167-generic
	Compiler: gcc 8.5.0 20210514

RHEL9
	Kernel: Depends on container host
	Compiler: gcc 11.4.1

openSUSE Leap 15
	Kernel: 5.4.0-167-generic
	Compiler: gcc 7.5.0

RHEL8
	Kernel: 5.4.0-167-generic
	Compiler: gcc 8.5.0 20210514 (Red Hat 8.5.0-20)

To view detailed results, visit:
https://lab.dpdk.org/results/dashboard/patchsets/30303/

UNH-IOL DPDK Community Lab

To manage your email subscriptions, visit: 
https://lab.dpdk.org/results/dashboard/preferences/subscriptions/