From mboxrd@z Thu Jan  1 00:00:00 1970
Return-Path: <test-report-bounces@dpdk.org>
Received: from mails.dpdk.org (mails.dpdk.org [217.70.189.124])
	by inbox.dpdk.org (Postfix) with ESMTP id 89FF9454EF
	for <public@inbox.dpdk.org>; Tue, 25 Jun 2024 15:49:27 +0200 (CEST)
Received: from mails.dpdk.org (localhost [127.0.0.1])
	by mails.dpdk.org (Postfix) with ESMTP id A159E4325B;
	Tue, 25 Jun 2024 15:49:22 +0200 (CEST)
Received: from mail-io1-f100.google.com (mail-io1-f100.google.com
 [209.85.166.100])
 by mails.dpdk.org (Postfix) with ESMTP id D1566402D0
 for <test-report@dpdk.org>; Tue, 25 Jun 2024 15:31:33 +0200 (CEST)
Received: by mail-io1-f100.google.com with SMTP id
 ca18e2360f4ac-7eb7c8f114eso227367939f.1
 for <test-report@dpdk.org>; Tue, 25 Jun 2024 06:31:33 -0700 (PDT)
DKIM-Signature: v=1; a=rsa-sha256; c=relaxed/relaxed;
 d=iol.unh.edu; s=unh-iol; t=1719322293; x=1719927093; darn=dpdk.org;
 h=references:in-reply-to:cc:to:from:subject:message-id:date:from:to
 :cc:subject:date:message-id:reply-to;
 bh=1VTQySIpcaerQyG26+KH8ovptpcQylZELSrCaDhFxZM=;
 b=cuZrdgzsvfkmibHDzJlXFw8D7O+SSzhX9Gig+dOHzQezy4Oe+CkQi2dmXLAN6b4aBU
 /vQ8p/tuPRjzQlkazVeSl+/KSzqfQAZpRcyO/Ob978T3riKxvnDfLSvIIIk8tjgd13ZB
 0c6E/8Zk4ibn+qC4y28hfr6FSB+I8ZeM0boAg=
X-Google-DKIM-Signature: v=1; a=rsa-sha256; c=relaxed/relaxed;
 d=1e100.net; s=20230601; t=1719322293; x=1719927093;
 h=references:in-reply-to:cc:to:from:subject:message-id:date
 :x-gm-message-state:from:to:cc:subject:date:message-id:reply-to;
 bh=1VTQySIpcaerQyG26+KH8ovptpcQylZELSrCaDhFxZM=;
 b=Btcicl6a43BFRBL0uJBOL32TEILxR/jXnNuPP67M0Ghf2GDF7vmSa1IalYsQdfrICr
 DGkNVow2+6Ln0HtweUjSPp90VIcXbTuX5u5vMcACIeTnIfRErHNeY7V2V+NGpPqa88O+
 Ge0yGwUXsH+p+RZKH0ioV6HTNPv/cRM6v4tff7hXa5ZuhJ4+/xGn3xIppxVNvpsFWGLa
 gBGt5FI44CbMxfjSA82EYIyRnVfI/dTl9U7Qc4CHvVtJOB0QkQ1cRWTRAL9wnTraXdGy
 p4cd3WKoT6Onl/lJ29CSKPjjALJKMVFX9iNvRZkPXEzT0xG5L/cg5DtXSj6vq4eImH/e
 5U0Q==
X-Gm-Message-State: AOJu0YyDapthi9TKNCjqqmPrFzVaY9+90EmciBPi5e198XNc8/ZOTzM5
 rpWSmgvh33BjDPKFc0X1dm/8oZsc3zDoWx/L6cBHC85tQpcLDyLaIAsZPTJFn/6JiS+lJMFjytl
 QlhucOCbU2WtzuUYOU820FryZ4fGTOqvoIbvmMdZWp2EJ8l+aD/EK3IIr
X-Google-Smtp-Source: AGHT+IF/Ghrq7ojuIxLNlKMeE+f9wJr53ti3BYIyjgCtT1qxPtzsrLWzgNk/jtslUiGPaDvWQ3Z7r4dSRU8r
X-Received: by 2002:a05:6602:3f8a:b0:7f1:3ad1:2341 with SMTP id
 ca18e2360f4ac-7f3a13db517mr1009598239f.7.1719322292885; 
 Tue, 25 Jun 2024 06:31:32 -0700 (PDT)
Received: from postal.iol.unh.edu (postal.iol.unh.edu.
 [2606:4100:3880:1234::84]) by smtp-relay.gmail.com with ESMTPS id
 ca18e2360f4ac-7f391fea029sm21444139f.9.2024.06.25.06.31.32
 (version=TLS1_2 cipher=ECDHE-ECDSA-AES128-GCM-SHA256 bits=128/128);
 Tue, 25 Jun 2024 06:31:32 -0700 (PDT)
X-Relaying-Domain: iol.unh.edu
Date: Tue, 25 Jun 2024 06:31:32 -0700 (PDT)
Message-ID: <667ac6b4.5e0a0220.9c5af.f9f7SMTPIN_ADDED_MISSING@mx.google.com>
Received: from [172.21.0.7] (unknown [172.18.0.240])
 by postal.iol.unh.edu (Postfix) with ESMTP id 66C7C605C373;
 Tue, 25 Jun 2024 09:31:32 -0400 (EDT)
Subject: |SUCCESS| pw141595 [PATCH] vhost: Fix the crash caused by accessing 
From: dpdklab@iol.unh.edu
To: Test Report <test-report@dpdk.org>
Cc: dpdk-test-reports@iol.unh.edu
In-Reply-To: <20240625021347.63978-1-15957197901@163.com>
References: <20240625021347.63978-1-15957197901@163.com>
Content-Type: text/plain
X-BeenThere: test-report@dpdk.org
X-Mailman-Version: 2.1.29
Precedence: list
List-Id: automatic DPDK test reports <test-report.dpdk.org>
List-Unsubscribe: <https://mails.dpdk.org/options/test-report>,
 <mailto:test-report-request@dpdk.org?subject=unsubscribe>
List-Archive: <http://mails.dpdk.org/archives/test-report/>
List-Post: <mailto:test-report@dpdk.org>
List-Help: <mailto:test-report-request@dpdk.org?subject=help>
List-Subscribe: <https://mails.dpdk.org/listinfo/test-report>,
 <mailto:test-report-request@dpdk.org?subject=subscribe>
Errors-To: test-report-bounces@dpdk.org

Test-Label: iol-compile-arm64-testing
Test-Status: SUCCESS
http://dpdk.org/patch/141595

_Testing PASS_

Submitter: Xinxin Zhao <15957197901@163.com>
Date: Tuesday, June 25 2024 02:13:47 
DPDK git baseline: Repo:dpdk
  Branch: master
  CommitID:fc10d6bd7632dff48a9f191e8d43872f47509e09

141595 --> testing pass

Test environment and result as below:

+----------------------------------------+--------------------+
|              Environment               | dpdk_meson_compile |
+========================================+====================+
| Fedora 38 (ARM)                        | PASS               |
+----------------------------------------+--------------------+
| RHEL9 (ARM)                            | PASS               |
+----------------------------------------+--------------------+
| Debian 12 with MUSDK                   | PASS               |
+----------------------------------------+--------------------+
| Fedora 39 (ARM)                        | PASS               |
+----------------------------------------+--------------------+
| Ubuntu 20.04 ARM SVE                   | PASS               |
+----------------------------------------+--------------------+
| Ubuntu 20.04 (ARM)                     | PASS               |
+----------------------------------------+--------------------+
| Fedora 37 (ARM)                        | PASS               |
+----------------------------------------+--------------------+
| Fedora 40 (ARM)                        | PASS               |
+----------------------------------------+--------------------+
| Ubuntu 22.04 (ARM)                     | PASS               |
+----------------------------------------+--------------------+
| Debian 12 (arm)                        | PASS               |
+----------------------------------------+--------------------+
| Debian 11 (Buster) (ARM)               | PASS               |
+----------------------------------------+--------------------+
| Ubuntu 24.04 (ARM)                     | PASS               |
+----------------------------------------+--------------------+
| Ubuntu 20.04 aarch32 GCC Cross Compile | PASS               |
+----------------------------------------+--------------------+
| Ubuntu 20.04 ARM Clang Cross Compile   | PASS               |
+----------------------------------------+--------------------+
| CentOS Stream 9 (ARM)                  | PASS               |
+----------------------------------------+--------------------+
| Fedora 39 (ARM Clang)                  | PASS               |
+----------------------------------------+--------------------+
| Fedora 40 (ARM Clang)                  | PASS               |
+----------------------------------------+--------------------+


Fedora 38 (ARM)
	Kernel: Depends on container host
	Compiler: gcc 13.2.1

RHEL9 (ARM)
	Kernel: Depends on container host
	Compiler: gcc 11.4.1

Debian 12 with MUSDK
	Kernel: Container Host Kernel
	Compiler: gcc 12.2.0

Fedora 39 (ARM)
	Kernel: Depends on container host
	Compiler: gcc 13.2.1

Ubuntu 20.04 ARM SVE
	Kernel: 5.4.0-167-generic
	Compiler: gcc (Ubuntu 10.5.0-1ubuntu1~20.04) 10.5.0

Ubuntu 20.04 (ARM)
	Kernel: Container Host Kernel
	Compiler: gcc 9.4.0

Fedora 37 (ARM)
	Kernel: Depends on container host
	Compiler: gcc 12.3.1

Fedora 40 (ARM)
	Kernel: Depends on container host
	Compiler: gcc 14.1.1

Ubuntu 22.04 (ARM)
	Kernel: Container Host Kernel
	Compiler: gcc 11.4.0

Debian 12 (arm)
	Kernel: Container Host Kernel
	Compiler: gcc 12.2.0

Debian 11 (Buster) (ARM)
	Kernel: Container Host Kernel
	Compiler: gcc 10.2.1

Ubuntu 24.04 (ARM)
	Kernel: 5.4.0-167-generic
	Compiler: gcc 13.2.0

Ubuntu 20.04 aarch32 GCC Cross Compile
	Kernel: 5.4.0-167-generic
	Compiler: gcc 9.4.0

Ubuntu 20.04 ARM Clang Cross Compile
	Kernel: 5.4.0-72-generic
	Compiler: clang 10.0.0-4ubuntu1

CentOS Stream 9 (ARM)
	Kernel: Container Host Kernel
	Compiler: gcc 11.4.1

Fedora 39 (ARM Clang)
	Kernel: Depends on container host
	Compiler: clang 17.0.6

Fedora 40 (ARM Clang)
	Kernel: Depends on container host
	Compiler: clang 18.1.6

To view detailed results, visit:
https://lab.dpdk.org/results/dashboard/patchsets/30303/

UNH-IOL DPDK Community Lab

To manage your email subscriptions, visit: 
https://lab.dpdk.org/results/dashboard/preferences/subscriptions/