From mboxrd@z Thu Jan  1 00:00:00 1970
Return-Path: <test-report-bounces@dpdk.org>
Received: from mails.dpdk.org (mails.dpdk.org [217.70.189.124])
	by inbox.dpdk.org (Postfix) with ESMTP id E32B6454F3
	for <public@inbox.dpdk.org>; Tue, 25 Jun 2024 18:26:08 +0200 (CEST)
Received: from mails.dpdk.org (localhost [127.0.0.1])
	by mails.dpdk.org (Postfix) with ESMTP id E19F242792;
	Tue, 25 Jun 2024 18:26:08 +0200 (CEST)
Received: from mail-io1-f97.google.com (mail-io1-f97.google.com
 [209.85.166.97]) by mails.dpdk.org (Postfix) with ESMTP id A584C40274
 for <test-report@dpdk.org>; Tue, 25 Jun 2024 18:25:59 +0200 (CEST)
Received: by mail-io1-f97.google.com with SMTP id
 ca18e2360f4ac-7f3ca6869d1so9892239f.0
 for <test-report@dpdk.org>; Tue, 25 Jun 2024 09:25:59 -0700 (PDT)
DKIM-Signature: v=1; a=rsa-sha256; c=relaxed/relaxed;
 d=iol.unh.edu; s=unh-iol; t=1719332759; x=1719937559; darn=dpdk.org;
 h=references:in-reply-to:cc:to:from:subject:message-id:date:from:to
 :cc:subject:date:message-id:reply-to;
 bh=PjVTcbI0Xa46v2y98H9bCkW7gJ1FILSeOVdLlkgJgZQ=;
 b=UxcE6mB/oqrT/19G+5JIPtfgs3RAKY6vjTp4xfPSeUFMun8E8nExUAgc36zodydo6Q
 iGt5is72yvhPJQdFSrEyBgDludGasm78iiJAz5jN88lgISIidl7lIDLzeA4Qb+gyTgkV
 vfi1pAa2/bscDQLfTAI819XljIlLm+yRRmWYc=
X-Google-DKIM-Signature: v=1; a=rsa-sha256; c=relaxed/relaxed;
 d=1e100.net; s=20230601; t=1719332759; x=1719937559;
 h=references:in-reply-to:cc:to:from:subject:message-id:date
 :x-gm-message-state:from:to:cc:subject:date:message-id:reply-to;
 bh=PjVTcbI0Xa46v2y98H9bCkW7gJ1FILSeOVdLlkgJgZQ=;
 b=OlG67Fbw9jm6UcsWbZBcDYZLLHQtDMRKG8fvBn1/d0MX8HzQlkN2hBd5+g36g8epsm
 UdR41MBY7dNAoqZD+7kG+fC+x1UM9uTrXz2jU+IcQyz+NppFiTwGxL0ZshRDBFnvQmgP
 JmUyZDM2errFd0YietzNdgOabkR5VohRQpXMiBSqTKTrvlmV7umk94muMcCQ3I+pJPFT
 H+3EenSsU/K7o6wzOUx07pdv/L9LnM+/4aNFvH0crDRfNbtGTkM13KmjSlrY0eRVy79x
 dScFyYP060MujVjPsdQNvFGlu0TzU5puJwcGmLQXsbmAkSkQj8mK6nILUdD27oVwCReJ
 h+aA==
X-Gm-Message-State: AOJu0YwuIlBtM+2Bfc9P7IPeMdP/gjabFXm9giZk/5YD6o2KiGy8HOUi
 EGoNK5fWExi0oxZusYGuSLIilNUJMFVEaZ1pMS5M1R824R7eqTRDJq1DcpfQc4YnkRY0Woelw5H
 Q8fAZUM3S9VSDOwz/NLBzXm7yC6PAgwFkFPczoGew8Ml1/XmGmOrYlQSU
X-Google-Smtp-Source: AGHT+IHmrKp0+IVBFobTPkxjKYDBnOdCvguzqmBssH4fIILN1ptzySt4aMyf5RcKaHsyrbnSQ9ppr9l9PQnq
X-Received: by 2002:a05:6602:3fca:b0:7f3:8ff8:e3d1 with SMTP id
 ca18e2360f4ac-7f3a753309dmr962751539f.10.1719332759094; 
 Tue, 25 Jun 2024 09:25:59 -0700 (PDT)
Received: from postal.iol.unh.edu (postal.iol.unh.edu.
 [2606:4100:3880:1234::84]) by smtp-relay.gmail.com with ESMTPS id
 8926c6da1cb9f-4ba73841077sm26672173.60.2024.06.25.09.25.58
 (version=TLS1_2 cipher=ECDHE-ECDSA-AES128-GCM-SHA256 bits=128/128);
 Tue, 25 Jun 2024 09:25:59 -0700 (PDT)
X-Relaying-Domain: iol.unh.edu
Date: Tue, 25 Jun 2024 09:25:59 -0700 (PDT)
Message-ID: <667aef97.050a0220.55026.1df2SMTPIN_ADDED_MISSING@mx.google.com>
Received: from [172.21.0.6] (unknown [172.18.0.240])
 by postal.iol.unh.edu (Postfix) with ESMTP id 8D5E0605C380;
 Tue, 25 Jun 2024 12:25:58 -0400 (EDT)
Subject: |SUCCESS| pw141727-141732 [PATCH] [6/6] crypto/ccp: use a dynamic lo
From: dpdklab@iol.unh.edu
To: Test Report <test-report@dpdk.org>
Cc: dpdk-test-reports@iol.unh.edu
In-Reply-To: <20240625122414.1065829-7-david.marchand@redhat.com>
References: <20240625122414.1065829-7-david.marchand@redhat.com>
Content-Type: text/plain
X-BeenThere: test-report@dpdk.org
X-Mailman-Version: 2.1.29
Precedence: list
List-Id: automatic DPDK test reports <test-report.dpdk.org>
List-Unsubscribe: <https://mails.dpdk.org/options/test-report>,
 <mailto:test-report-request@dpdk.org?subject=unsubscribe>
List-Archive: <http://mails.dpdk.org/archives/test-report/>
List-Post: <mailto:test-report@dpdk.org>
List-Help: <mailto:test-report-request@dpdk.org?subject=help>
List-Subscribe: <https://mails.dpdk.org/listinfo/test-report>,
 <mailto:test-report-request@dpdk.org?subject=subscribe>
Errors-To: test-report-bounces@dpdk.org

Test-Label: iol-abi-testing
Test-Status: SUCCESS
http://dpdk.org/patch/141732

_Testing PASS_

Submitter: David Marchand <david.marchand@redhat.com>
Date: Tuesday, June 25 2024 12:24:14 
DPDK git baseline: Repo:dpdk
  Branch: master
  CommitID:9ab7baa5c14b1ba928c09bda4734827d6d367d6b

141727-141732 --> testing pass

Test environment and result as below:

+------------------+----------+
|   Environment    | abi_test |
+==================+==========+
| Fedora 38        | PASS     |
+------------------+----------+
| Fedora 39        | PASS     |
+------------------+----------+
| CentOS Stream 8  | PASS     |
+------------------+----------+
| Fedora 37        | PASS     |
+------------------+----------+
| Debian Bullseye  | PASS     |
+------------------+----------+
| CentOS Stream 9  | PASS     |
+------------------+----------+
| Debian 12        | PASS     |
+------------------+----------+
| Fedora 40        | PASS     |
+------------------+----------+
| RHEL8            | PASS     |
+------------------+----------+
| openSUSE Leap 15 | PASS     |
+------------------+----------+
| RHEL9            | PASS     |
+------------------+----------+
| Ubuntu 22.04     | PASS     |
+------------------+----------+
| Ubuntu 24.04     | PASS     |
+------------------+----------+


Fedora 38
	Kernel: Depends on container host
	Compiler: gcc 13.2.1

Fedora 39
	Kernel: Depends on container host
	Compiler: clang 17.0.6

CentOS Stream 8
	Kernel: 5.4.0-167-generic
	Compiler: gcc 8.5.0 20210514

Fedora 37
	Kernel: Depends on container host system
	Compiler: gcc 12.3.1

Debian Bullseye
	Kernel: 5.4.0-167-generic
	Compiler: gcc 10.2.1-6

CentOS Stream 9
	Kernel: 5.4.0-167-generic
	Compiler: gcc 11.4.1 20230605

Debian 12
	Kernel: Container Host Kernel
	Compiler: gcc 12.2.0

Fedora 40
	Kernel: Depends on container host
	Compiler: clang 18.1.6

RHEL8
	Kernel: 5.4.0-167-generic
	Compiler: gcc 8.5.0 20210514 (Red Hat 8.5.0-20)

openSUSE Leap 15
	Kernel: 5.4.0-167-generic
	Compiler: gcc 7.5.0

RHEL9
	Kernel: Depends on container host
	Compiler: gcc 11.4.1

Ubuntu 22.04
	Kernel: 5.4.0-167-generic
	Compiler: gcc 11.4.0

Ubuntu 24.04
	Kernel: 5.4.0-167-generic
	Compiler: gcc 13.2.0

To view detailed results, visit:
https://lab.dpdk.org/results/dashboard/patchsets/30307/

UNH-IOL DPDK Community Lab

To manage your email subscriptions, visit: 
https://lab.dpdk.org/results/dashboard/preferences/subscriptions/