From mboxrd@z Thu Jan  1 00:00:00 1970
Return-Path: <test-report-bounces@dpdk.org>
Received: from mails.dpdk.org (mails.dpdk.org [217.70.189.124])
	by inbox.dpdk.org (Postfix) with ESMTP id BD354454F3
	for <public@inbox.dpdk.org>; Tue, 25 Jun 2024 18:56:46 +0200 (CEST)
Received: from mails.dpdk.org (localhost [127.0.0.1])
	by mails.dpdk.org (Postfix) with ESMTP id BB8F042792;
	Tue, 25 Jun 2024 18:56:46 +0200 (CEST)
Received: from mail-pf1-f226.google.com (mail-pf1-f226.google.com
 [209.85.210.226])
 by mails.dpdk.org (Postfix) with ESMTP id 8E99540677
 for <test-report@dpdk.org>; Tue, 25 Jun 2024 18:56:45 +0200 (CEST)
Received: by mail-pf1-f226.google.com with SMTP id
 d2e1a72fcca58-70675977d0eso2566152b3a.0
 for <test-report@dpdk.org>; Tue, 25 Jun 2024 09:56:45 -0700 (PDT)
DKIM-Signature: v=1; a=rsa-sha256; c=relaxed/relaxed;
 d=iol.unh.edu; s=unh-iol; t=1719334605; x=1719939405; darn=dpdk.org;
 h=references:in-reply-to:cc:to:from:subject:message-id:date:from:to
 :cc:subject:date:message-id:reply-to;
 bh=oTeqGFWEnb9B6EZPnWoR0RCJ6+V5J3bM+cJ/ncA8J28=;
 b=KSVti56xQOmHKFSo0+MzGarc9qsrgfxLF665iSjQ7uH5KWAmCXcHXs1NUx5nG1LMPP
 44u/GQahR1LbnuybMVd3w6585M+PUagreSI/kvI1J1PMD7MWMq4UyHOl2E/rPASz4PMi
 6+KHqFZVio7r3kjqUtUgh0jlGEZOtmg53yMuU=
X-Google-DKIM-Signature: v=1; a=rsa-sha256; c=relaxed/relaxed;
 d=1e100.net; s=20230601; t=1719334605; x=1719939405;
 h=references:in-reply-to:cc:to:from:subject:message-id:date
 :x-gm-message-state:from:to:cc:subject:date:message-id:reply-to;
 bh=oTeqGFWEnb9B6EZPnWoR0RCJ6+V5J3bM+cJ/ncA8J28=;
 b=M+CZRc38bbCSs0Y2p6wzmrmDLxvfy4n/+5Ls8EphrUsEsWQL9PZmqE2p23xXROZkX6
 2aUnJilflwS/EmRF/E2C9F+k+tA4JG51Z+8zzfvesFk5WXPzICSwhAoWytSWKCeO6rMI
 Yno2EGJCYgQ5YS6VHbo/lYDzMXlQCQ7WixwM5tRx2N1IKC+DUs8I/mYiQL5jFRKbYmAu
 EkUJhGe7WE8ZoM8EVUYly9+u9XutfZYwYAzcLGFbVHxhkJUA18equ1vfbexeVWCc9BJm
 EN9hND4hBPe0oclw/wAoJTlU3mgdU58FlqJEXb/SXZ2JzyQyf6fE5GDE90RR5EZKEEud
 OpwA==
X-Gm-Message-State: AOJu0YyVkmU5FVralDFuz1OFbE72C7BxkH0K3dDrRut+ALuR+GYaSIwX
 MsOMbyS6gAahv1c/ldO/nDVsb6wDeVLJKDyWVWsuVl2HJDpfQLp7ysBO5KWbaHzZZ6EBLlL1vun
 8Bt2HELbslKJ8hzePp7exzWTP84B6Zh1YPX5ABqlJm13Azik40U2kXit3
X-Google-Smtp-Source: AGHT+IFrz0V9DNybyv9WECEWPkkFQTVW4hcSQfxj9E6whalCTvrDCicMY1h4/TXc3lRxldtZ+/GbuEtvn2ix
X-Received: by 2002:a05:6a20:158c:b0:1bd:d7:6942 with SMTP id
 adf61e73a8af0-1bd00d76de6mr7199420637.60.1719334604869; 
 Tue, 25 Jun 2024 09:56:44 -0700 (PDT)
Received: from postal.iol.unh.edu (postal.iol.unh.edu.
 [2606:4100:3880:1234::84]) by smtp-relay.gmail.com with ESMTPS id
 d2e1a72fcca58-7068d841266sm187379b3a.26.2024.06.25.09.56.44
 (version=TLS1_2 cipher=ECDHE-ECDSA-AES128-GCM-SHA256 bits=128/128);
 Tue, 25 Jun 2024 09:56:44 -0700 (PDT)
X-Relaying-Domain: iol.unh.edu
Date: Tue, 25 Jun 2024 09:56:44 -0700 (PDT)
Message-ID: <667af6cc.050a0220.c9da6.c998SMTPIN_ADDED_MISSING@mx.google.com>
Received: from [172.17.0.4] (unknown [172.18.0.217])
 by postal.iol.unh.edu (Postfix) with ESMTP id 0715C605C380;
 Tue, 25 Jun 2024 12:56:44 -0400 (EDT)
Subject: |SUCCESS| pw141727-141732 [PATCH] [6/6] crypto/ccp: use a dynamic lo
From: dpdklab@iol.unh.edu
To: Test Report <test-report@dpdk.org>
Cc: dpdk-test-reports@iol.unh.edu
In-Reply-To: <20240625122414.1065829-7-david.marchand@redhat.com>
References: <20240625122414.1065829-7-david.marchand@redhat.com>
Content-Type: text/plain
X-BeenThere: test-report@dpdk.org
X-Mailman-Version: 2.1.29
Precedence: list
List-Id: automatic DPDK test reports <test-report.dpdk.org>
List-Unsubscribe: <https://mails.dpdk.org/options/test-report>,
 <mailto:test-report-request@dpdk.org?subject=unsubscribe>
List-Archive: <http://mails.dpdk.org/archives/test-report/>
List-Post: <mailto:test-report@dpdk.org>
List-Help: <mailto:test-report-request@dpdk.org?subject=help>
List-Subscribe: <https://mails.dpdk.org/listinfo/test-report>,
 <mailto:test-report-request@dpdk.org?subject=subscribe>
Errors-To: test-report-bounces@dpdk.org

Test-Label: iol-unit-amd64-testing
Test-Status: SUCCESS
http://dpdk.org/patch/141732

_Testing PASS_

Submitter: David Marchand <david.marchand@redhat.com>
Date: Tuesday, June 25 2024 12:24:14 
DPDK git baseline: Repo:dpdk
  Branch: master
  CommitID:9ab7baa5c14b1ba928c09bda4734827d6d367d6b

141727-141732 --> testing pass

Test environment and result as below:

+------------------+----------------+
|   Environment    | dpdk_unit_test |
+==================+================+
| CentOS Stream 9  | PASS           |
+------------------+----------------+
| Fedora 37        | PASS           |
+------------------+----------------+
| Debian 12        | PASS           |
+------------------+----------------+
| Debian Bullseye  | PASS           |
+------------------+----------------+
| CentOS Stream 8  | PASS           |
+------------------+----------------+
| Fedora 38        | PASS           |
+------------------+----------------+
| Fedora 39        | PASS           |
+------------------+----------------+
| Fedora 40        | PASS           |
+------------------+----------------+
| RHEL9            | PASS           |
+------------------+----------------+
| RHEL8            | PASS           |
+------------------+----------------+
| Ubuntu 22.04     | PASS           |
+------------------+----------------+
| Ubuntu 20.04     | PASS           |
+------------------+----------------+
| openSUSE Leap 15 | PASS           |
+------------------+----------------+
| Ubuntu 24.04     | PASS           |
+------------------+----------------+


CentOS Stream 9
	Kernel: 5.4.0-167-generic
	Compiler: gcc 11.4.1 20230605

Fedora 37
	Kernel: Depends on container host system
	Compiler: gcc 12.3.1

Debian 12
	Kernel: Container Host Kernel
	Compiler: gcc 12.2.0

Debian Bullseye
	Kernel: 5.4.0-167-generic
	Compiler: gcc 10.2.1-6

CentOS Stream 8
	Kernel: 5.4.0-167-generic
	Compiler: gcc 8.5.0 20210514

Fedora 38
	Kernel: Depends on container host
	Compiler: gcc 13.2.1

Fedora 39
	Kernel: Depends on container host
	Compiler: gcc 13.2.1

Fedora 40
	Kernel: Depends on container host
	Compiler: gcc 14.1.1

RHEL9
	Kernel: Depends on container host
	Compiler: gcc 11.4.1

RHEL8
	Kernel: 5.4.0-167-generic
	Compiler: gcc 8.5.0 20210514 (Red Hat 8.5.0-20)

Ubuntu 22.04
	Kernel: 5.4.0-167-generic
	Compiler: gcc 11.4.0

Ubuntu 20.04
	Kernel: 5.4.0-167-generic
	Compiler: gcc 9.4.0-1ubuntu1~20.04.1

openSUSE Leap 15
	Kernel: 5.4.0-167-generic
	Compiler: gcc 7.5.0

Ubuntu 24.04
	Kernel: 5.4.0-167-generic
	Compiler: gcc 13.2.0

To view detailed results, visit:
https://lab.dpdk.org/results/dashboard/patchsets/30307/

UNH-IOL DPDK Community Lab

To manage your email subscriptions, visit: 
https://lab.dpdk.org/results/dashboard/preferences/subscriptions/