From mboxrd@z Thu Jan  1 00:00:00 1970
Return-Path: <test-report-bounces@dpdk.org>
Received: from mails.dpdk.org (mails.dpdk.org [217.70.189.124])
	by inbox.dpdk.org (Postfix) with ESMTP id 69416454F8
	for <public@inbox.dpdk.org>; Wed, 26 Jun 2024 00:39:50 +0200 (CEST)
Received: from mails.dpdk.org (localhost [127.0.0.1])
	by mails.dpdk.org (Postfix) with ESMTP id 658B5402B5;
	Wed, 26 Jun 2024 00:39:50 +0200 (CEST)
Received: from mail-pl1-f225.google.com (mail-pl1-f225.google.com
 [209.85.214.225])
 by mails.dpdk.org (Postfix) with ESMTP id 6050A402A9
 for <test-report@dpdk.org>; Wed, 26 Jun 2024 00:39:48 +0200 (CEST)
Received: by mail-pl1-f225.google.com with SMTP id
 d9443c01a7336-1fa244db0b2so25245025ad.3
 for <test-report@dpdk.org>; Tue, 25 Jun 2024 15:39:48 -0700 (PDT)
DKIM-Signature: v=1; a=rsa-sha256; c=relaxed/relaxed;
 d=iol.unh.edu; s=unh-iol; t=1719355187; x=1719959987; darn=dpdk.org;
 h=references:in-reply-to:cc:to:from:subject:message-id:date:from:to
 :cc:subject:date:message-id:reply-to;
 bh=xZm68wnF+k/ccB52EIqq+4KU+f2do1XhVN5kh/n2Tus=;
 b=Z3wESvGQTwxBfRmzqK2FzmtxYI1T6vWbChYp5S2OpwhsJB1pLF4aV3daxIqi8kPSH/
 +NJBNXFzludi8rYXgw+Ds7o8FWHSonrwShgm7yWgzxJshOXJxNjc4kD9V050YQlSuncE
 ocloYYD9GSO0S/m3Ex1pya0AsYquyvYdS6pIg=
X-Google-DKIM-Signature: v=1; a=rsa-sha256; c=relaxed/relaxed;
 d=1e100.net; s=20230601; t=1719355187; x=1719959987;
 h=references:in-reply-to:cc:to:from:subject:message-id:date
 :x-gm-message-state:from:to:cc:subject:date:message-id:reply-to;
 bh=xZm68wnF+k/ccB52EIqq+4KU+f2do1XhVN5kh/n2Tus=;
 b=udVBUFdSQ0II4gguNkf8HhO4Vs55CzBVWDTVog9u6H/JoYjjAkIP4yzok+eUS2+0tt
 jVcUJCPB+O2Mbhe7JYVnIhlz7g3ZwX5/lkO70XDndRLXsR0AFumByp4D8QG9k6XJK5tL
 A3Bm7Rk2l3PQGCEs4INPIxlGJbSLHoHuUNgJmh52+jK7ZE/8T1AP1pd0LLEGk+eX13ic
 N8EmVNg70CD+5235JjbE6TrcpQqdRwxTYfxFEEd8ooEIfEdqax5D2yr13xxj6Najo/qz
 Y26TxtEjwZ6jAhrGDab16sKiFzyGV2kojVN1gFk+sXMv91P9vHbCQxot68n9kDPTSql6
 I6xg==
X-Gm-Message-State: AOJu0YzzOZAHf5fJhNWVMyTemdx+/zv+BKdcXaHgC2AlEeaIbuMmUjnq
 a53TOLa96anHK7d9jcCyfDOXfg491VzFfG9+RI0howNOGnjEngZHnuMHAEuuZPhRRheB3P/ILvX
 X0RzhUS8vIwZzraYnrkTY+iRHVeKWVR0YmQHzfwc6oh5+Q+OobetZj85x
X-Google-Smtp-Source: AGHT+IHFYxkX6YZ0LaO5G0J3r6Y1vXYhCf2hyyLTU9XgXf1I9nRrmCVzXwem4Rqr67S/Bx2OcFrev9Js0C/T
X-Received: by 2002:a17:902:eb85:b0:1fa:a68:478d with SMTP id
 d9443c01a7336-1fa158de981mr114704785ad.23.1719355187478; 
 Tue, 25 Jun 2024 15:39:47 -0700 (PDT)
Received: from postal.iol.unh.edu (postal.iol.unh.edu.
 [2606:4100:3880:1234::84]) by smtp-relay.gmail.com with ESMTPS id
 d9443c01a7336-1f9eb31fc0csm3143825ad.31.2024.06.25.15.39.47
 (version=TLS1_2 cipher=ECDHE-ECDSA-AES128-GCM-SHA256 bits=128/128);
 Tue, 25 Jun 2024 15:39:47 -0700 (PDT)
X-Relaying-Domain: iol.unh.edu
Date: Tue, 25 Jun 2024 15:39:47 -0700 (PDT)
Message-ID: <667b4733.170a0220.505f2.68bcSMTPIN_ADDED_MISSING@mx.google.com>
Received: from [172.21.0.9] (unknown [172.18.0.240])
 by postal.iol.unh.edu (Postfix) with ESMTP id 9232F605C373;
 Tue, 25 Jun 2024 18:39:46 -0400 (EDT)
Subject: |PENDING| pw141738-141741 [PATCH] [v1,4/4] dts: add dynamic queue co
From: dpdklab@iol.unh.edu
To: Test Report <test-report@dpdk.org>
Cc: dpdk-test-reports@iol.unh.edu
In-Reply-To: <20240625155332.2400-5-jspewock@iol.unh.edu>
References: <20240625155332.2400-5-jspewock@iol.unh.edu>
Content-Type: text/plain
X-BeenThere: test-report@dpdk.org
X-Mailman-Version: 2.1.29
Precedence: list
List-Id: automatic DPDK test reports <test-report.dpdk.org>
List-Unsubscribe: <https://mails.dpdk.org/options/test-report>,
 <mailto:test-report-request@dpdk.org?subject=unsubscribe>
List-Archive: <http://mails.dpdk.org/archives/test-report/>
List-Post: <mailto:test-report@dpdk.org>
List-Help: <mailto:test-report-request@dpdk.org?subject=help>
List-Subscribe: <https://mails.dpdk.org/listinfo/test-report>,
 <mailto:test-report-request@dpdk.org?subject=subscribe>
Errors-To: test-report-bounces@dpdk.org

Test-Label: iol-abi-testing
Test-Status: PENDING
http://dpdk.org/patch/141741

_Testing pending_

Submitter: Jeremy Spewock <jspewock@iol.unh.edu>
Date: Tuesday, June 25 2024 15:53:32 
DPDK git baseline: Repo:dpdk
  Branch: master
  CommitID:9ab7baa5c14b1ba928c09bda4734827d6d367d6b

141738-141741 --> testing pending

Test environment and result as below:

+------------------+----------+
|   Environment    | abi_test |
+==================+==========+
| CentOS Stream 8  | PASS     |
+------------------+----------+
| Fedora 40        | PASS     |
+------------------+----------+
| Fedora 39        | PEND     |
+------------------+----------+
| CentOS Stream 9  | PEND     |
+------------------+----------+
| openSUSE Leap 15 | PASS     |
+------------------+----------+
| Debian Bullseye  | PASS     |
+------------------+----------+
| Fedora 37        | PEND     |
+------------------+----------+
| Fedora 38        | PEND     |
+------------------+----------+
| Debian 12        | PEND     |
+------------------+----------+
| RHEL8            | PEND     |
+------------------+----------+
| RHEL9            | PEND     |
+------------------+----------+
| Ubuntu 22.04     | PEND     |
+------------------+----------+
| Ubuntu 24.04     | PEND     |
+------------------+----------+


CentOS Stream 8
	Kernel: 5.4.0-167-generic
	Compiler: gcc 8.5.0 20210514

Fedora 40
	Kernel: Depends on container host
	Compiler: gcc 14.1.1

Fedora 39
	Kernel: Depends on container host
	Compiler: gcc 13.2.1

CentOS Stream 9
	Kernel: 5.4.0-167-generic
	Compiler: gcc 11.4.1 20230605

openSUSE Leap 15
	Kernel: 5.4.0-167-generic
	Compiler: gcc 7.5.0

Debian Bullseye
	Kernel: 5.4.0-167-generic
	Compiler: gcc 10.2.1-6

Fedora 37
	Kernel: Depends on container host system
	Compiler: gcc 12.3.1

Fedora 38
	Kernel: Depends on container host
	Compiler: clang 16.0.6

Debian 12
	Kernel: Container Host Kernel
	Compiler: gcc 12.2.0

RHEL8
	Kernel: 5.4.0-167-generic
	Compiler: gcc 8.5.0 20210514 (Red Hat 8.5.0-20)

RHEL9
	Kernel: Depends on container host
	Compiler: gcc 11.4.1

Ubuntu 22.04
	Kernel: 5.4.0-167-generic
	Compiler: gcc 11.4.0

Ubuntu 24.04
	Kernel: 5.4.0-167-generic
	Compiler: gcc 13.2.0

To view detailed results, visit:
https://lab.dpdk.org/results/dashboard/patchsets/30310/

UNH-IOL DPDK Community Lab

To manage your email subscriptions, visit: 
https://lab.dpdk.org/results/dashboard/preferences/subscriptions/