From mboxrd@z Thu Jan  1 00:00:00 1970
Return-Path: <test-report-bounces@dpdk.org>
Received: from mails.dpdk.org (mails.dpdk.org [217.70.189.124])
	by inbox.dpdk.org (Postfix) with ESMTP id 78828454F9
	for <public@inbox.dpdk.org>; Wed, 26 Jun 2024 02:54:24 +0200 (CEST)
Received: from mails.dpdk.org (localhost [127.0.0.1])
	by mails.dpdk.org (Postfix) with ESMTP id 751E4402B5;
	Wed, 26 Jun 2024 02:54:24 +0200 (CEST)
Received: from mail-qv1-f99.google.com (mail-qv1-f99.google.com
 [209.85.219.99]) by mails.dpdk.org (Postfix) with ESMTP id BBF60402A9
 for <test-report@dpdk.org>; Wed, 26 Jun 2024 02:54:13 +0200 (CEST)
Received: by mail-qv1-f99.google.com with SMTP id
 6a1803df08f44-6b5100040bdso27901826d6.2
 for <test-report@dpdk.org>; Tue, 25 Jun 2024 17:54:13 -0700 (PDT)
DKIM-Signature: v=1; a=rsa-sha256; c=relaxed/relaxed;
 d=iol.unh.edu; s=unh-iol; t=1719363253; x=1719968053; darn=dpdk.org;
 h=references:in-reply-to:cc:to:from:subject:message-id:date:from:to
 :cc:subject:date:message-id:reply-to;
 bh=O5bC23z7OiTTnjrnPO+CkBr1Lv0GR3ExwPfPOfEe7Z4=;
 b=fm0VUNOpFZfWpl0h6gTkCieh2cdTGTWxxwBSLPO3rNDTB659M3QAtJzg6OgAFwPJQ/
 Mx/PAty20BXje2rPPIrWkQt2VFGgnM2eV/4+iyBmSABZ/0lORDORM/vTG/cyh2dvGl4C
 sJbGBtdD5SbXCVMD1A6znU40G6QI7ugMCaAFI=
X-Google-DKIM-Signature: v=1; a=rsa-sha256; c=relaxed/relaxed;
 d=1e100.net; s=20230601; t=1719363253; x=1719968053;
 h=references:in-reply-to:cc:to:from:subject:message-id:date
 :x-gm-message-state:from:to:cc:subject:date:message-id:reply-to;
 bh=O5bC23z7OiTTnjrnPO+CkBr1Lv0GR3ExwPfPOfEe7Z4=;
 b=mG9X1LzUo0FGL8bqeUkWMD/N3dVxchCpeJ4VJJwcvXLeR2vtC6nd7PRNJ2C5KYLqDA
 5iS75LPxipncmZNB9x0tO3cepRMxGPTqrL9V8QCUPK9SRb9JowenMQuYt7VW3MTGXyjL
 ZBKnCAk0IUdTcLZfye2mMG8zC/wsIbnBic7WBPu9LxuxxJtch0CQYzQfF841NAWtWK7+
 SaN7mGGxRhqURc1DXVIqWcdLIgskUl1VzfW6RDfKW7hUjjL8SJ1BXFP2oA3jqKPqL2Yu
 gwvzAe45smNCH70jX0O9L9O3qum99XV+eV65KYX1vT/ztZTY9fc08t5PBVub0yjVbNtM
 sqHw==
X-Gm-Message-State: AOJu0YwAWfbQMHDa9WtZAufjmu+F0W9fCmvTR1iRPyY94Pu0rER0hbSG
 CoiEk3O8sB6CwJliCuYRGcJ9eSi1L/4aVopwOPDEyAXA059GHu98uEHvr+A5LvzeTVLZp4IEtWC
 y71Xu6hJIkag+7PDV4UiypfQpmPQrC37KBxlw1pLT/zh7HaeAdk/BYECU
X-Google-Smtp-Source: AGHT+IG0c2e8AEppumT7KAHNSfQrmLns6T6XQd3ZXgpEw3I88FdInqmy3+6mjTGJ01JiClxz98XqzL8Rl784
X-Received: by 2002:a05:6214:29e1:b0:6b4:7910:2b60 with SMTP id
 6a1803df08f44-6b5409a5064mr113487726d6.6.1719363253156; 
 Tue, 25 Jun 2024 17:54:13 -0700 (PDT)
Received: from postal.iol.unh.edu (postal.iol.unh.edu.
 [2606:4100:3880:1234::84]) by smtp-relay.gmail.com with ESMTPS id
 6a1803df08f44-6b51eed850bsm4524456d6.74.2024.06.25.17.54.13
 (version=TLS1_2 cipher=ECDHE-ECDSA-AES128-GCM-SHA256 bits=128/128);
 Tue, 25 Jun 2024 17:54:13 -0700 (PDT)
X-Relaying-Domain: iol.unh.edu
Date: Tue, 25 Jun 2024 17:54:13 -0700 (PDT)
Message-ID: <667b66b5.050a0220.e0326.0c01SMTPIN_ADDED_MISSING@mx.google.com>
Received: from [172.21.0.6] (unknown [172.18.0.240])
 by postal.iol.unh.edu (Postfix) with ESMTP id DEE16605C373;
 Tue, 25 Jun 2024 20:54:12 -0400 (EDT)
Subject: |SUCCESS| pw141733-141734 [PATCH] [2/2] dts: add blocklist test suit
From: dpdklab@iol.unh.edu
To: Test Report <test-report@dpdk.org>
Cc: dpdk-test-reports@iol.unh.edu
In-Reply-To: <20240625123611.1474204-3-luca.vizzarro@arm.com>
References: <20240625123611.1474204-3-luca.vizzarro@arm.com>
Content-Type: text/plain
X-BeenThere: test-report@dpdk.org
X-Mailman-Version: 2.1.29
Precedence: list
List-Id: automatic DPDK test reports <test-report.dpdk.org>
List-Unsubscribe: <https://mails.dpdk.org/options/test-report>,
 <mailto:test-report-request@dpdk.org?subject=unsubscribe>
List-Archive: <http://mails.dpdk.org/archives/test-report/>
List-Post: <mailto:test-report@dpdk.org>
List-Help: <mailto:test-report-request@dpdk.org?subject=help>
List-Subscribe: <https://mails.dpdk.org/listinfo/test-report>,
 <mailto:test-report-request@dpdk.org?subject=subscribe>
Errors-To: test-report-bounces@dpdk.org

Test-Label: iol-abi-testing
Test-Status: SUCCESS
http://dpdk.org/patch/141734

_Testing PASS_

Submitter: Luca Vizzarro <luca.vizzarro@arm.com>
Date: Tuesday, June 25 2024 12:36:11 
DPDK git baseline: Repo:dpdk
  Branch: master
  CommitID:9ab7baa5c14b1ba928c09bda4734827d6d367d6b

141733-141734 --> testing pass

Test environment and result as below:

+------------------+----------+
|   Environment    | abi_test |
+==================+==========+
| CentOS Stream 8  | PASS     |
+------------------+----------+
| CentOS Stream 9  | PASS     |
+------------------+----------+
| Debian 12        | PASS     |
+------------------+----------+
| Debian Bullseye  | PASS     |
+------------------+----------+
| Fedora 37        | PASS     |
+------------------+----------+
| Fedora 38        | PASS     |
+------------------+----------+
| Fedora 40        | PASS     |
+------------------+----------+
| Fedora 39        | PASS     |
+------------------+----------+
| RHEL9            | PASS     |
+------------------+----------+
| Ubuntu 22.04     | PASS     |
+------------------+----------+
| RHEL8            | PASS     |
+------------------+----------+
| Ubuntu 24.04     | PASS     |
+------------------+----------+
| openSUSE Leap 15 | PASS     |
+------------------+----------+


CentOS Stream 8
	Kernel: 5.4.0-167-generic
	Compiler: gcc 8.5.0 20210514

CentOS Stream 9
	Kernel: 5.4.0-167-generic
	Compiler: gcc 11.4.1 20230605

Debian 12
	Kernel: Container Host Kernel
	Compiler: gcc 12.2.0

Debian Bullseye
	Kernel: 5.4.0-167-generic
	Compiler: gcc 10.2.1-6

Fedora 37
	Kernel: Depends on container host system
	Compiler: gcc 12.3.1

Fedora 38
	Kernel: Depends on container host
	Compiler: gcc 13.2.1

Fedora 40
	Kernel: Depends on container host
	Compiler: clang 18.1.6

Fedora 39
	Kernel: Depends on container host
	Compiler: clang 17.0.6

RHEL9
	Kernel: Depends on container host
	Compiler: gcc 11.4.1

Ubuntu 22.04
	Kernel: 5.4.0-167-generic
	Compiler: gcc 11.4.0

RHEL8
	Kernel: 5.4.0-167-generic
	Compiler: gcc 8.5.0 20210514 (Red Hat 8.5.0-20)

Ubuntu 24.04
	Kernel: 5.4.0-167-generic
	Compiler: gcc 13.2.0

openSUSE Leap 15
	Kernel: 5.4.0-167-generic
	Compiler: gcc 7.5.0

To view detailed results, visit:
https://lab.dpdk.org/results/dashboard/patchsets/30308/

UNH-IOL DPDK Community Lab

To manage your email subscriptions, visit: 
https://lab.dpdk.org/results/dashboard/preferences/subscriptions/