From mboxrd@z Thu Jan  1 00:00:00 1970
Return-Path: <test-report-bounces@dpdk.org>
Received: from mails.dpdk.org (mails.dpdk.org [217.70.189.124])
	by inbox.dpdk.org (Postfix) with ESMTP id 10D8F454F9
	for <public@inbox.dpdk.org>; Wed, 26 Jun 2024 03:14:20 +0200 (CEST)
Received: from mails.dpdk.org (localhost [127.0.0.1])
	by mails.dpdk.org (Postfix) with ESMTP id 022F3402B5;
	Wed, 26 Jun 2024 03:14:20 +0200 (CEST)
Received: from mail-qv1-f100.google.com (mail-qv1-f100.google.com
 [209.85.219.100])
 by mails.dpdk.org (Postfix) with ESMTP id 3A4B0402A9
 for <test-report@dpdk.org>; Wed, 26 Jun 2024 03:14:19 +0200 (CEST)
Received: by mail-qv1-f100.google.com with SMTP id
 6a1803df08f44-6b2c6291038so525566d6.0
 for <test-report@dpdk.org>; Tue, 25 Jun 2024 18:14:19 -0700 (PDT)
DKIM-Signature: v=1; a=rsa-sha256; c=relaxed/relaxed;
 d=iol.unh.edu; s=unh-iol; t=1719364458; x=1719969258; darn=dpdk.org;
 h=references:in-reply-to:cc:to:from:subject:message-id:date:from:to
 :cc:subject:date:message-id:reply-to;
 bh=F88xQmjCna2MIVNtBMp+EUmck2CmY/yO9fZqMWQljAg=;
 b=Qne6yhFPvMXi9bq99zDw0JgAWeIwB85XspXZ+xCkA64B+uqy/IWIMoxgbsDsDTRt4J
 5e/Ya+YQ2vpz6pHP34bNq30nM2EmDfWe25Fl7FXmavdEf3ddAnRVh/bGG/Cj8dKjqLHK
 THwMHo+BQIo1qj0Y4xFBT6olmnT2Uib9LCLfo=
X-Google-DKIM-Signature: v=1; a=rsa-sha256; c=relaxed/relaxed;
 d=1e100.net; s=20230601; t=1719364458; x=1719969258;
 h=references:in-reply-to:cc:to:from:subject:message-id:date
 :x-gm-message-state:from:to:cc:subject:date:message-id:reply-to;
 bh=F88xQmjCna2MIVNtBMp+EUmck2CmY/yO9fZqMWQljAg=;
 b=jtM056REIrjQ+5LI88zpjwj0Fa5/PgjNtTRk0LofKq+PgN0aNPLI4kWnrrGaz8giNz
 8+GSPq5EO7V72kxhgepsSUI2wvIsaqyDAEK+JpBbvCUvkSaU2v7fhdi3Z65rhAomovNz
 Gy0BGkvpgwL0wRTsomAOoNBILkZCyNBozd/Ino6Gz+96vb8VgL2YW8DntM5zyRw4H03l
 IckQwhlER/7GdkyLsqLJxKlomUcDa+sFxexL1k1S7SY3rrD3YTD5Jh/dMEOwL/Umf+57
 uwynBprNMTXnvpEJfkmn2yVPxyEeygIcX43WiHUGt+3NCLitJkO8h+QuiG1NKHup7452
 w+fA==
X-Gm-Message-State: AOJu0Yz5SQvhrbusUBcaY2IVe/A7gxr7XUb1m47HsWv45UNUqZeoQIBK
 hDEMa+ozahHx7PDUbXLN/jPZZG8lbJkIzuSN84K7tlrRVTDWe8JrRyBB8jB6wFcBrlIHJFFVLoC
 NzcKVlbEQDC7NNJVYHgEgWo9qMo3V8Y/1hrX0i8nntOhv5ygJipN2wUK9
X-Google-Smtp-Source: AGHT+IHAUszQHA9DoZg33C78pM0Jx9JWFs7esoAtUl+FB+95o2LzbDdCulUYCXkzMEjYJP5/5gxvxp2xIUUa
X-Received: by 2002:a05:6214:aa5:b0:6b5:684:2d5 with SMTP id
 6a1803df08f44-6b5632e3bfcmr76709066d6.4.1719364458742; 
 Tue, 25 Jun 2024 18:14:18 -0700 (PDT)
Received: from postal.iol.unh.edu (postal.iol.unh.edu.
 [2606:4100:3880:1234::84]) by smtp-relay.gmail.com with ESMTPS id
 6a1803df08f44-6b51ece8a59sm4163806d6.10.2024.06.25.18.14.18
 (version=TLS1_2 cipher=ECDHE-ECDSA-AES128-GCM-SHA256 bits=128/128);
 Tue, 25 Jun 2024 18:14:18 -0700 (PDT)
X-Relaying-Domain: iol.unh.edu
Date: Tue, 25 Jun 2024 18:14:18 -0700 (PDT)
Message-ID: <667b6b6a.050a0220.171e8.ef36SMTPIN_ADDED_MISSING@mx.google.com>
Received: from [172.21.0.6] (unknown [172.18.0.240])
 by postal.iol.unh.edu (Postfix) with ESMTP id 79C38605C373;
 Tue, 25 Jun 2024 21:14:18 -0400 (EDT)
Subject: |SUCCESS| pw141735-141737 [PATCH] [v7,3/3] dts: config schema
From: dpdklab@iol.unh.edu
To: Test Report <test-report@dpdk.org>
Cc: dpdk-test-reports@iol.unh.edu
In-Reply-To: <20240625153324.27257-3-dmarx@iol.unh.edu>
References: <20240625153324.27257-3-dmarx@iol.unh.edu>
Content-Type: text/plain
X-BeenThere: test-report@dpdk.org
X-Mailman-Version: 2.1.29
Precedence: list
List-Id: automatic DPDK test reports <test-report.dpdk.org>
List-Unsubscribe: <https://mails.dpdk.org/options/test-report>,
 <mailto:test-report-request@dpdk.org?subject=unsubscribe>
List-Archive: <http://mails.dpdk.org/archives/test-report/>
List-Post: <mailto:test-report@dpdk.org>
List-Help: <mailto:test-report-request@dpdk.org?subject=help>
List-Subscribe: <https://mails.dpdk.org/listinfo/test-report>,
 <mailto:test-report-request@dpdk.org?subject=subscribe>
Errors-To: test-report-bounces@dpdk.org

Test-Label: iol-compile-arm64-testing
Test-Status: SUCCESS
http://dpdk.org/patch/141737

_Testing PASS_

Submitter: Dean Marx <dmarx@iol.unh.edu>
Date: Tuesday, June 25 2024 15:33:24 
DPDK git baseline: Repo:dpdk
  Branch: master
  CommitID:9ab7baa5c14b1ba928c09bda4734827d6d367d6b

141735-141737 --> testing pass

Test environment and result as below:

+----------------------------------------+--------------------+
|              Environment               | dpdk_meson_compile |
+========================================+====================+
| Ubuntu 20.04 ARM SVE                   | PASS               |
+----------------------------------------+--------------------+
| Debian 12 with MUSDK                   | PASS               |
+----------------------------------------+--------------------+
| RHEL9 (ARM)                            | PASS               |
+----------------------------------------+--------------------+
| Fedora 39 (ARM)                        | PASS               |
+----------------------------------------+--------------------+
| Fedora 37 (ARM)                        | PASS               |
+----------------------------------------+--------------------+
| Ubuntu 24.04 (ARM)                     | PASS               |
+----------------------------------------+--------------------+
| CentOS Stream 9 (ARM)                  | PASS               |
+----------------------------------------+--------------------+
| Debian 11 (Buster) (ARM)               | PASS               |
+----------------------------------------+--------------------+
| Fedora 38 (ARM)                        | PASS               |
+----------------------------------------+--------------------+
| Ubuntu 22.04 (ARM)                     | PASS               |
+----------------------------------------+--------------------+
| Fedora 40 (ARM)                        | PASS               |
+----------------------------------------+--------------------+
| Ubuntu 20.04 (ARM)                     | PASS               |
+----------------------------------------+--------------------+
| Debian 12 (arm)                        | PASS               |
+----------------------------------------+--------------------+
| Ubuntu 20.04 ARM Clang Cross Compile   | PASS               |
+----------------------------------------+--------------------+
| Ubuntu 20.04 aarch32 GCC Cross Compile | PASS               |
+----------------------------------------+--------------------+


Ubuntu 20.04 ARM SVE
	Kernel: 5.4.0-167-generic
	Compiler: gcc (Ubuntu 10.5.0-1ubuntu1~20.04) 10.5.0

Debian 12 with MUSDK
	Kernel: Container Host Kernel
	Compiler: gcc 12.2.0

RHEL9 (ARM)
	Kernel: Depends on container host
	Compiler: gcc 11.4.1

Fedora 39 (ARM)
	Kernel: Depends on container host
	Compiler: gcc 13.2.1

Fedora 37 (ARM)
	Kernel: Depends on container host
	Compiler: gcc 12.3.1

Ubuntu 24.04 (ARM)
	Kernel: 5.4.0-167-generic
	Compiler: gcc 13.2.0

CentOS Stream 9 (ARM)
	Kernel: Container Host Kernel
	Compiler: gcc 11.4.1

Debian 11 (Buster) (ARM)
	Kernel: Container Host Kernel
	Compiler: gcc 10.2.1

Fedora 38 (ARM)
	Kernel: Depends on container host
	Compiler: gcc 13.2.1

Ubuntu 22.04 (ARM)
	Kernel: Container Host Kernel
	Compiler: gcc 11.4.0

Fedora 40 (ARM)
	Kernel: Depends on container host
	Compiler: gcc 14.1.1

Ubuntu 20.04 (ARM)
	Kernel: Container Host Kernel
	Compiler: gcc 9.4.0

Debian 12 (arm)
	Kernel: Container Host Kernel
	Compiler: gcc 12.2.0

Ubuntu 20.04 ARM Clang Cross Compile
	Kernel: 5.4.0-72-generic
	Compiler: clang 10.0.0-4ubuntu1

Ubuntu 20.04 aarch32 GCC Cross Compile
	Kernel: 5.4.0-167-generic
	Compiler: gcc 9.4.0

To view detailed results, visit:
https://lab.dpdk.org/results/dashboard/patchsets/30309/

UNH-IOL DPDK Community Lab

To manage your email subscriptions, visit: 
https://lab.dpdk.org/results/dashboard/preferences/subscriptions/