From mboxrd@z Thu Jan  1 00:00:00 1970
Return-Path: <test-report-bounces@dpdk.org>
Received: from mails.dpdk.org (mails.dpdk.org [217.70.189.124])
	by inbox.dpdk.org (Postfix) with ESMTP id AD048454FA
	for <public@inbox.dpdk.org>; Wed, 26 Jun 2024 04:10:58 +0200 (CEST)
Received: from mails.dpdk.org (localhost [127.0.0.1])
	by mails.dpdk.org (Postfix) with ESMTP id AA5AB42DFA;
	Wed, 26 Jun 2024 04:10:58 +0200 (CEST)
Received: from mail-il1-f225.google.com (mail-il1-f225.google.com
 [209.85.166.225])
 by mails.dpdk.org (Postfix) with ESMTP id 322A2402A9
 for <test-report@dpdk.org>; Wed, 26 Jun 2024 04:10:46 +0200 (CEST)
Received: by mail-il1-f225.google.com with SMTP id
 e9e14a558f8ab-375858224adso22898985ab.0
 for <test-report@dpdk.org>; Tue, 25 Jun 2024 19:10:46 -0700 (PDT)
DKIM-Signature: v=1; a=rsa-sha256; c=relaxed/relaxed;
 d=iol.unh.edu; s=unh-iol; t=1719367845; x=1719972645; darn=dpdk.org;
 h=references:in-reply-to:cc:to:from:subject:message-id:date:from:to
 :cc:subject:date:message-id:reply-to;
 bh=hGfLaYfbKpyW0Mvtl+1O6XT+59V1P0IBcxsx8ci8FaY=;
 b=M92GauTeWVKuu4NdhAqghkdiLJQdr6zQ1nS/g8sfROd/jfp4L1diH8gZyE7TwS7A9V
 SFjqL0HuTOiPBZmPlTzKw9nAqfxm8gM5EF5Tm7drsOjGQAj2ngBZ09OAnYsv++Dpt0LQ
 eNwqUvnql65IzucOvSXmmg9tkeJ3n8ooQvNC4=
X-Google-DKIM-Signature: v=1; a=rsa-sha256; c=relaxed/relaxed;
 d=1e100.net; s=20230601; t=1719367845; x=1719972645;
 h=references:in-reply-to:cc:to:from:subject:message-id:date
 :x-gm-message-state:from:to:cc:subject:date:message-id:reply-to;
 bh=hGfLaYfbKpyW0Mvtl+1O6XT+59V1P0IBcxsx8ci8FaY=;
 b=WvZkrYjd7GqZrvLxRk6dKztdwXHi/+ErFuur2MnsaqjMm9kbsIzi5Kl0n5hDTtZntn
 r4jirMOK31l+4VdZvqFo//hLTVpmK53BBJZD+PzUHjruHh1kN55I2cURNq7IEMZyrsJD
 CGrvcakA/g73UraQo0joWHs/m1DFB87o57FnP+UlesSRFUxuPrvs7IyiKRDtK1sFmR/J
 bSG4CAfkIghqbMkTO8jRJeHPhjVogjWVlJxpWgCvRnXFxNwjCEHjyKNydULbOCGjBEi+
 MJR1kKl5Vk7vZi/2NO81//sLNN7aZsCzhFeMF7dbSirjd2dbe1YDT02H5xn+aOnjmnBB
 k/Xg==
X-Gm-Message-State: AOJu0Yz+0iD0VxR/lb46VlTQn1oUxx2fPi0qMSYK3yeSb1A9zI+y9kNk
 4XTsrnHet8M7pHsoJxDbkM7Uz+ozjnhqaekasvKyNjoTNBCz/YgG5mMVofkfT7JVctbBNNaCzZW
 XVNqLKLkIMIhKwpbkAyRmAl3JCxxANpVbBQUc/RLrb8KIW401f6ZnR7CL
X-Google-Smtp-Source: AGHT+IGXF/Bnof83QFC0mHQHbog6rlLMzt5OZtf+l3OQ84nHoqf2rSLoBfFpThH5QLGNsztYI5vQ6t/CTq40
X-Received: by 2002:a05:6e02:1908:b0:375:8fd0:c92c with SMTP id
 e9e14a558f8ab-3763f5bc393mr119602815ab.8.1719367845495; 
 Tue, 25 Jun 2024 19:10:45 -0700 (PDT)
Received: from postal.iol.unh.edu (postal.iol.unh.edu.
 [2606:4100:3880:1234::84]) by smtp-relay.gmail.com with ESMTPS id
 e9e14a558f8ab-3762f303379sm5551095ab.14.2024.06.25.19.10.45
 (version=TLS1_2 cipher=ECDHE-ECDSA-AES128-GCM-SHA256 bits=128/128);
 Tue, 25 Jun 2024 19:10:45 -0700 (PDT)
X-Relaying-Domain: iol.unh.edu
Date: Tue, 25 Jun 2024 19:10:45 -0700 (PDT)
Message-ID: <667b78a5.050a0220.b0258.93cbSMTPIN_ADDED_MISSING@mx.google.com>
Received: from [172.21.0.6] (unknown [172.18.0.240])
 by postal.iol.unh.edu (Postfix) with ESMTP id 09AFF6050A9C;
 Tue, 25 Jun 2024 22:10:45 -0400 (EDT)
Subject: |SUCCESS| pw141733-141734 [PATCH] [2/2] dts: add blocklist test suit
From: dpdklab@iol.unh.edu
To: Test Report <test-report@dpdk.org>
Cc: dpdk-test-reports@iol.unh.edu
In-Reply-To: <20240625123611.1474204-3-luca.vizzarro@arm.com>
References: <20240625123611.1474204-3-luca.vizzarro@arm.com>
Content-Type: text/plain
X-BeenThere: test-report@dpdk.org
X-Mailman-Version: 2.1.29
Precedence: list
List-Id: automatic DPDK test reports <test-report.dpdk.org>
List-Unsubscribe: <https://mails.dpdk.org/options/test-report>,
 <mailto:test-report-request@dpdk.org?subject=unsubscribe>
List-Archive: <http://mails.dpdk.org/archives/test-report/>
List-Post: <mailto:test-report@dpdk.org>
List-Help: <mailto:test-report-request@dpdk.org?subject=help>
List-Subscribe: <https://mails.dpdk.org/listinfo/test-report>,
 <mailto:test-report-request@dpdk.org?subject=subscribe>
Errors-To: test-report-bounces@dpdk.org

Test-Label: iol-unit-arm64-testing
Test-Status: SUCCESS
http://dpdk.org/patch/141734

_Testing PASS_

Submitter: Luca Vizzarro <luca.vizzarro@arm.com>
Date: Tuesday, June 25 2024 12:36:11 
DPDK git baseline: Repo:dpdk
  Branch: master
  CommitID:9ab7baa5c14b1ba928c09bda4734827d6d367d6b

141733-141734 --> testing pass

Test environment and result as below:

+-----------------------------+---------------------------+----------------+------------------------------+
|         Environment         | cryptodev_sw_zuc_autotest | dpdk_unit_test | cryptodev_sw_snow3g_autotest |
+=============================+===========================+================+==============================+
| Debian 12 (arm)             | PASS                      | PASS           | PASS                         |
+-----------------------------+---------------------------+----------------+------------------------------+
| Debian 11 (Buster) (ARM)    | SKIPPED                   | PASS           | SKIPPED                      |
+-----------------------------+---------------------------+----------------+------------------------------+
| CentOS Stream 9 (ARM)       | SKIPPED                   | PASS           | SKIPPED                      |
+-----------------------------+---------------------------+----------------+------------------------------+
| Fedora 37 (ARM)             | SKIPPED                   | PASS           | SKIPPED                      |
+-----------------------------+---------------------------+----------------+------------------------------+
| Fedora 39 (ARM)             | SKIPPED                   | PASS           | SKIPPED                      |
+-----------------------------+---------------------------+----------------+------------------------------+
| Fedora 38 (ARM)             | SKIPPED                   | PASS           | SKIPPED                      |
+-----------------------------+---------------------------+----------------+------------------------------+
| Fedora 40 (ARM)             | SKIPPED                   | PASS           | SKIPPED                      |
+-----------------------------+---------------------------+----------------+------------------------------+
| RHEL9 (ARM)                 | SKIPPED                   | PASS           | SKIPPED                      |
+-----------------------------+---------------------------+----------------+------------------------------+
| 32-bit Ubuntu 20.04.4 (ARM) | SKIPPED                   | PASS           | SKIPPED                      |
+-----------------------------+---------------------------+----------------+------------------------------+


Debian 12 (arm)
	Kernel: Container Host Kernel
	Compiler: gcc 12.2.0

Debian 11 (Buster) (ARM)
	Kernel: Container Host Kernel
	Compiler: gcc 10.2.1

CentOS Stream 9 (ARM)
	Kernel: Container Host Kernel
	Compiler: gcc 11.4.1

Fedora 37 (ARM)
	Kernel: Depends on container host
	Compiler: gcc 12.3.1

Fedora 39 (ARM)
	Kernel: Depends on container host
	Compiler: gcc 13.2.1

Fedora 38 (ARM)
	Kernel: Depends on container host
	Compiler: gcc 13.2.1

Fedora 40 (ARM)
	Kernel: Depends on container host
	Compiler: gcc 14.1.1

RHEL9 (ARM)
	Kernel: Depends on container host
	Compiler: gcc 11.4.1

32-bit Ubuntu 20.04.4 (ARM)
	Kernel: 5.4.0-155-generic aarch64
	Compiler: gcc 9.4

To view detailed results, visit:
https://lab.dpdk.org/results/dashboard/patchsets/30308/

UNH-IOL DPDK Community Lab

To manage your email subscriptions, visit: 
https://lab.dpdk.org/results/dashboard/preferences/subscriptions/