From mboxrd@z Thu Jan  1 00:00:00 1970
Return-Path: <test-report-bounces@dpdk.org>
Received: from mails.dpdk.org (mails.dpdk.org [217.70.189.124])
	by inbox.dpdk.org (Postfix) with ESMTP id 62FAC454F5
	for <public@inbox.dpdk.org>; Wed, 26 Jun 2024 05:48:35 +0200 (CEST)
Received: from mails.dpdk.org (localhost [127.0.0.1])
	by mails.dpdk.org (Postfix) with ESMTP id 5BF3842E1C;
	Wed, 26 Jun 2024 05:48:35 +0200 (CEST)
Received: from mail-pf1-f227.google.com (mail-pf1-f227.google.com
 [209.85.210.227])
 by mails.dpdk.org (Postfix) with ESMTP id B864840264
 for <test-report@dpdk.org>; Wed, 26 Jun 2024 05:48:19 +0200 (CEST)
Received: by mail-pf1-f227.google.com with SMTP id
 d2e1a72fcca58-7067435d376so108141b3a.0
 for <test-report@dpdk.org>; Tue, 25 Jun 2024 20:48:19 -0700 (PDT)
DKIM-Signature: v=1; a=rsa-sha256; c=relaxed/relaxed;
 d=iol.unh.edu; s=unh-iol; t=1719373699; x=1719978499; darn=dpdk.org;
 h=references:in-reply-to:cc:to:from:subject:message-id:date:from:to
 :cc:subject:date:message-id:reply-to;
 bh=q9qqHycda8IfFupM0dOOdY+v0hih56Sjbb63ih0mygk=;
 b=Jwhirp+mk53ec+2faLDsBfuiV0Go0XKdKzClRKfkok/TlewS2jZilM8wgAJXlS496R
 EMw/l/2lzFGwK3BfnSrflIeZkrV/fd/ZpCM8LsUU6PMtyTW9/rkPGsBVchSn0UmRQdJm
 OISLbPlTjylnilHPOrawoH5KXO77qI2tFg/Do=
X-Google-DKIM-Signature: v=1; a=rsa-sha256; c=relaxed/relaxed;
 d=1e100.net; s=20230601; t=1719373699; x=1719978499;
 h=references:in-reply-to:cc:to:from:subject:message-id:date
 :x-gm-message-state:from:to:cc:subject:date:message-id:reply-to;
 bh=q9qqHycda8IfFupM0dOOdY+v0hih56Sjbb63ih0mygk=;
 b=jrSCSQH0pmBfHa/fJnLig+9ZuqM2U2zKDh4JG5CSRu9wqsRj+DBkBOm/n2jPJyAMzi
 O0zaQISH5K5CbJqMPBtpztya1/+4D+53A8SIUGuq74FEw+5AMzgRY2aazHGwn2/pQPRH
 sIFGhfkjSNzbVhfPt2BN9V4Wj3rjpOq2i5z8vnKClbhrlPRBK17GCZGyjUW93IHxZAFI
 0IZimGIGkgNW4fkHyQgDu9W0Q6ESJ6m/zK+TjWJ+6fSni5Dr+BZkGj2jiLR3CtgVDNrH
 k+BsxagrKJBvO9LShxsaYET0+rWv4Rp399x5fEOF0WyUSEYg8/Wpv/GBX9soKkuAGzkK
 U8ew==
X-Gm-Message-State: AOJu0Yz3+eITfFNwPF7lAOXHRXKTynQa1bkDqiH9Jrg715nwhznR0ae6
 Zbsm4laNnw8trfvDdsPELm8YgIL0YWvu00nhvQVkv34iAVLUA9FoENGPO9MBENvgxpgN9Z91SBq
 kCC/rLgpNW4aU1bUBYoXGSTJJgAD9SRBA6T4JFUya7g/TJZsLK4BTy0Wn
X-Google-Smtp-Source: AGHT+IFJ7pSEwUxZwAMK3JHL2jNa+PUyPIEI/XOrV7x0MsHO+/cnyfZF794rGVgvU4fMW50oQZ7Q2xWIUfHK
X-Received: by 2002:a05:6a00:2da:b0:706:a8e8:65a8 with SMTP id
 d2e1a72fcca58-706a8e865eemr473667b3a.26.1719373698877; 
 Tue, 25 Jun 2024 20:48:18 -0700 (PDT)
Received: from postal.iol.unh.edu (postal.iol.unh.edu.
 [2606:4100:3880:1234::84]) by smtp-relay.gmail.com with ESMTPS id
 d2e1a72fcca58-7067e2ed669sm291842b3a.19.2024.06.25.20.48.18
 (version=TLS1_2 cipher=ECDHE-ECDSA-AES128-GCM-SHA256 bits=128/128);
 Tue, 25 Jun 2024 20:48:18 -0700 (PDT)
X-Relaying-Domain: iol.unh.edu
Date: Tue, 25 Jun 2024 20:48:18 -0700 (PDT)
Message-ID: <667b8f82.050a0220.67fbe.44caSMTPIN_ADDED_MISSING@mx.google.com>
Received: from [172.21.0.6] (unknown [172.18.0.240])
 by postal.iol.unh.edu (Postfix) with ESMTP id F0E916050A9C;
 Tue, 25 Jun 2024 23:48:17 -0400 (EDT)
Subject: |SUCCESS| pw141597-141725 [PATCH] [v3,129/129] net/ice: add new devi
From: dpdklab@iol.unh.edu
To: Test Report <test-report@dpdk.org>
Cc: dpdk-test-reports@iol.unh.edu
In-Reply-To: <2a26426a34037f6286bae7dc6eb398023726f7f5.1719313664.git.anatoly.burakov@intel.com>
References: <2a26426a34037f6286bae7dc6eb398023726f7f5.1719313664.git.anatoly.burakov@intel.com>
Content-Type: text/plain
X-BeenThere: test-report@dpdk.org
X-Mailman-Version: 2.1.29
Precedence: list
List-Id: automatic DPDK test reports <test-report.dpdk.org>
List-Unsubscribe: <https://mails.dpdk.org/options/test-report>,
 <mailto:test-report-request@dpdk.org?subject=unsubscribe>
List-Archive: <http://mails.dpdk.org/archives/test-report/>
List-Post: <mailto:test-report@dpdk.org>
List-Help: <mailto:test-report-request@dpdk.org?subject=help>
List-Subscribe: <https://mails.dpdk.org/listinfo/test-report>,
 <mailto:test-report-request@dpdk.org?subject=subscribe>
Errors-To: test-report-bounces@dpdk.org

Test-Label: iol-compile-arm64-testing
Test-Status: SUCCESS
http://dpdk.org/patch/141725

_Testing PASS_

Submitter: Anatoly Burakov <anatoly.burakov@intel.com>
Date: Tuesday, June 25 2024 11:14:14 
DPDK git baseline: Repo:dpdk
  Branch: master
  CommitID:fbba6db3640f9f623c29c452e1a6b057073e81d2

141597-141725 --> testing pass

Test environment and result as below:

+----------------------------------------+--------------------+
|              Environment               | dpdk_meson_compile |
+========================================+====================+
| Ubuntu 20.04 ARM SVE                   | PASS               |
+----------------------------------------+--------------------+
| Debian 12 with MUSDK                   | PASS               |
+----------------------------------------+--------------------+
| RHEL9 (ARM)                            | PASS               |
+----------------------------------------+--------------------+
| Fedora 40 (ARM)                        | PASS               |
+----------------------------------------+--------------------+
| Ubuntu 20.04 (ARM)                     | PASS               |
+----------------------------------------+--------------------+
| Fedora 39 (ARM)                        | PASS               |
+----------------------------------------+--------------------+
| Ubuntu 22.04 (ARM)                     | PASS               |
+----------------------------------------+--------------------+
| Ubuntu 20.04 ARM GCC Cross Compile     | PASS               |
+----------------------------------------+--------------------+
| Debian 11 (Buster) (ARM)               | PASS               |
+----------------------------------------+--------------------+
| CentOS Stream 9 (ARM)                  | PASS               |
+----------------------------------------+--------------------+
| Debian 12 (arm)                        | PASS               |
+----------------------------------------+--------------------+
| Ubuntu 20.04 aarch32 GCC Cross Compile | PASS               |
+----------------------------------------+--------------------+
| Fedora 37 (ARM)                        | PASS               |
+----------------------------------------+--------------------+
| Ubuntu 20.04 ARM Clang Cross Compile   | PASS               |
+----------------------------------------+--------------------+
| Ubuntu 24.04 (ARM)                     | PASS               |
+----------------------------------------+--------------------+


Ubuntu 20.04 ARM SVE
	Kernel: 5.4.0-167-generic
	Compiler: gcc (Ubuntu 10.5.0-1ubuntu1~20.04) 10.5.0

Debian 12 with MUSDK
	Kernel: Container Host Kernel
	Compiler: gcc 12.2.0

RHEL9 (ARM)
	Kernel: Depends on container host
	Compiler: gcc 11.4.1

Fedora 40 (ARM)
	Kernel: Depends on container host
	Compiler: gcc 14.1.1

Ubuntu 20.04 (ARM)
	Kernel: Container Host Kernel
	Compiler: gcc 9.4.0

Fedora 39 (ARM)
	Kernel: Depends on container host
	Compiler: gcc 13.2.1

Ubuntu 22.04 (ARM)
	Kernel: Container Host Kernel
	Compiler: gcc 11.4.0

Ubuntu 20.04 ARM GCC Cross Compile
	Kernel: 5.4.0-167-generic
	Compiler: aarch64-linux-gnu-gcc (Ubuntu 9.4.0-1ubuntu1~20.04.2) 9.4.0

Debian 11 (Buster) (ARM)
	Kernel: Container Host Kernel
	Compiler: gcc 10.2.1

CentOS Stream 9 (ARM)
	Kernel: Container Host Kernel
	Compiler: gcc 11.4.1

Debian 12 (arm)
	Kernel: Container Host Kernel
	Compiler: gcc 12.2.0

Ubuntu 20.04 aarch32 GCC Cross Compile
	Kernel: 5.4.0-167-generic
	Compiler: gcc 9.4.0

Fedora 37 (ARM)
	Kernel: Depends on container host
	Compiler: gcc 12.3.1

Ubuntu 20.04 ARM Clang Cross Compile
	Kernel: 5.4.0-72-generic
	Compiler: clang 10.0.0-4ubuntu1

Ubuntu 24.04 (ARM)
	Kernel: 5.4.0-167-generic
	Compiler: gcc 13.2.0

To view detailed results, visit:
https://lab.dpdk.org/results/dashboard/patchsets/30305/

UNH-IOL DPDK Community Lab

To manage your email subscriptions, visit: 
https://lab.dpdk.org/results/dashboard/preferences/subscriptions/