From mboxrd@z Thu Jan  1 00:00:00 1970
Return-Path: <test-report-bounces@dpdk.org>
Received: from mails.dpdk.org (mails.dpdk.org [217.70.189.124])
	by inbox.dpdk.org (Postfix) with ESMTP id 906D8454F6
	for <public@inbox.dpdk.org>; Wed, 26 Jun 2024 06:39:19 +0200 (CEST)
Received: from mails.dpdk.org (localhost [127.0.0.1])
	by mails.dpdk.org (Postfix) with ESMTP id 8A11E402A9;
	Wed, 26 Jun 2024 06:39:19 +0200 (CEST)
Received: from mail-io1-f97.google.com (mail-io1-f97.google.com
 [209.85.166.97]) by mails.dpdk.org (Postfix) with ESMTP id 7EEA040264
 for <test-report@dpdk.org>; Wed, 26 Jun 2024 06:39:14 +0200 (CEST)
Received: by mail-io1-f97.google.com with SMTP id
 ca18e2360f4ac-7e21dfbc310so231222039f.1
 for <test-report@dpdk.org>; Tue, 25 Jun 2024 21:39:14 -0700 (PDT)
DKIM-Signature: v=1; a=rsa-sha256; c=relaxed/relaxed;
 d=iol.unh.edu; s=unh-iol; t=1719376754; x=1719981554; darn=dpdk.org;
 h=references:in-reply-to:cc:to:from:subject:message-id:date:from:to
 :cc:subject:date:message-id:reply-to;
 bh=sLIzSABpZrcvuQJexqkObn00Umt8aonPnRGRAzXo9HM=;
 b=B7fBtGiXkg3izVa+2t/EWu+uRoVrPrTagFVo6NM2LAdHjojxIPd4Vr+J8lfSdD1skW
 iyHFaN8IFFDjGeE41vOXWme/S0+PK8IU5WXfwYnLZrddFSA8C0LHKyUpcpBFAT6NMxMU
 7pxuvIgZ1799A+e4N7+V1t1G77qdgHKzC5aEU=
X-Google-DKIM-Signature: v=1; a=rsa-sha256; c=relaxed/relaxed;
 d=1e100.net; s=20230601; t=1719376754; x=1719981554;
 h=references:in-reply-to:cc:to:from:subject:message-id:date
 :x-gm-message-state:from:to:cc:subject:date:message-id:reply-to;
 bh=sLIzSABpZrcvuQJexqkObn00Umt8aonPnRGRAzXo9HM=;
 b=ZQkPS5OnElnwgK395vwZB/23R2mFACC11+AWD43PDfh70qO3IRI8957u5cZOwqW4q2
 bLZsfx6h+UcApMCYAKOg9puB+157OreFfv+TtWTuJ+FoqUBywBbZPiqSYbQg2+cwdkWM
 eJ05A6XkGX5AIVIPK5FlTwU0jVz50Nrnt6TPrJsN2VxZc0cWZTqoUTLFEnHRRJsPJ8fo
 Eo2X9+DxP/p+FyZoUWCwoq+eXBA/pnAtb51gbX1/JmiYE89LscwBJAYABoO3IQq+JeRn
 7qFxljpBA2npi8569Zhug3wMDsV1jF3DQQnuMHM1h2HDGM3W/M8jKYwl6umxxB927CMX
 E56w==
X-Gm-Message-State: AOJu0YzEGGSkL160ddcs2yIcFuOnJjbe15O4M+UwDTstZ1iZM3nsVtBM
 e6ZtQIoQ+q0oux6fLjuSO+UdmGpDy6zEf/5sybZ+JmwI1i4W0U3wnPio04s+APYe8kx3Cq5DPXM
 cC2uHsHU9abXXVczd7uWgXGniAYMpOG5f89icukj1ijlb3jVWEewHqwgh
X-Google-Smtp-Source: AGHT+IE25QtfDGjZdtl4/a5Mbbj8uYry3sJXnH73c/JSwMBpnuhFJTZ7sX7ItNatVrMWndUSyLTlUkGHp2+o
X-Received: by 2002:a05:6602:6421:b0:7f3:cd10:40b3 with SMTP id
 ca18e2360f4ac-7f3cd10421fmr198250139f.1.1719376753772; 
 Tue, 25 Jun 2024 21:39:13 -0700 (PDT)
Received: from postal.iol.unh.edu (postal.iol.unh.edu.
 [2606:4100:3880:1234::84]) by smtp-relay.gmail.com with ESMTPS id
 8926c6da1cb9f-4b9df22eff5sm119244173.35.2024.06.25.21.39.13
 (version=TLS1_2 cipher=ECDHE-ECDSA-AES128-GCM-SHA256 bits=128/128);
 Tue, 25 Jun 2024 21:39:13 -0700 (PDT)
X-Relaying-Domain: iol.unh.edu
Date: Tue, 25 Jun 2024 21:39:13 -0700 (PDT)
Message-ID: <667b9b71.050a0220.ab279.8796SMTPIN_ADDED_MISSING@mx.google.com>
Received: from [172.21.0.6] (unknown [172.18.0.240])
 by postal.iol.unh.edu (Postfix) with ESMTP id 408B36050A9C;
 Wed, 26 Jun 2024 00:39:13 -0400 (EDT)
Subject: |SUCCESS| pw141597-141725 [PATCH] [v3,129/129] net/ice: add new devi
From: dpdklab@iol.unh.edu
To: Test Report <test-report@dpdk.org>
Cc: dpdk-test-reports@iol.unh.edu
In-Reply-To: <2a26426a34037f6286bae7dc6eb398023726f7f5.1719313664.git.anatoly.burakov@intel.com>
References: <2a26426a34037f6286bae7dc6eb398023726f7f5.1719313664.git.anatoly.burakov@intel.com>
Content-Type: text/plain
X-BeenThere: test-report@dpdk.org
X-Mailman-Version: 2.1.29
Precedence: list
List-Id: automatic DPDK test reports <test-report.dpdk.org>
List-Unsubscribe: <https://mails.dpdk.org/options/test-report>,
 <mailto:test-report-request@dpdk.org?subject=unsubscribe>
List-Archive: <http://mails.dpdk.org/archives/test-report/>
List-Post: <mailto:test-report@dpdk.org>
List-Help: <mailto:test-report-request@dpdk.org?subject=help>
List-Subscribe: <https://mails.dpdk.org/listinfo/test-report>,
 <mailto:test-report-request@dpdk.org?subject=subscribe>
Errors-To: test-report-bounces@dpdk.org

Test-Label: iol-unit-amd64-testing
Test-Status: SUCCESS
http://dpdk.org/patch/141725

_Testing PASS_

Submitter: Anatoly Burakov <anatoly.burakov@intel.com>
Date: Tuesday, June 25 2024 11:14:14 
DPDK git baseline: Repo:dpdk
  Branch: master
  CommitID:fbba6db3640f9f623c29c452e1a6b057073e81d2

141597-141725 --> testing pass

Test environment and result as below:

+------------------+----------------+
|   Environment    | dpdk_unit_test |
+==================+================+
| Debian Bullseye  | PASS           |
+------------------+----------------+
| CentOS Stream 8  | PASS           |
+------------------+----------------+
| Debian 12        | PASS           |
+------------------+----------------+
| CentOS Stream 9  | PASS           |
+------------------+----------------+
| Fedora 38        | PASS           |
+------------------+----------------+
| Fedora 37        | PASS           |
+------------------+----------------+
| Fedora 40        | PASS           |
+------------------+----------------+
| RHEL9            | PASS           |
+------------------+----------------+
| Fedora 39        | PASS           |
+------------------+----------------+
| RHEL8            | PASS           |
+------------------+----------------+
| openSUSE Leap 15 | PASS           |
+------------------+----------------+
| Ubuntu 20.04     | PASS           |
+------------------+----------------+
| Ubuntu 24.04     | PASS           |
+------------------+----------------+
| Ubuntu 22.04     | PASS           |
+------------------+----------------+


Debian Bullseye
	Kernel: 5.4.0-167-generic
	Compiler: gcc 10.2.1-6

CentOS Stream 8
	Kernel: 5.4.0-167-generic
	Compiler: gcc 8.5.0 20210514

Debian 12
	Kernel: Container Host Kernel
	Compiler: gcc 12.2.0

CentOS Stream 9
	Kernel: 5.4.0-167-generic
	Compiler: gcc 11.4.1 20230605

Fedora 38
	Kernel: Depends on container host
	Compiler: gcc 13.2.1

Fedora 37
	Kernel: Depends on container host system
	Compiler: gcc 12.3.1

Fedora 40
	Kernel: Depends on container host
	Compiler: clang 18.1.6

RHEL9
	Kernel: Depends on container host
	Compiler: gcc 11.4.1

Fedora 39
	Kernel: Depends on container host
	Compiler: gcc 13.2.1

RHEL8
	Kernel: 5.4.0-167-generic
	Compiler: gcc 8.5.0 20210514 (Red Hat 8.5.0-20)

openSUSE Leap 15
	Kernel: 5.4.0-167-generic
	Compiler: gcc 7.5.0

Ubuntu 20.04
	Kernel: 5.4.0-167-generic
	Compiler: gcc 9.4.0-1ubuntu1~20.04.1

Ubuntu 24.04
	Kernel: 5.4.0-167-generic
	Compiler: gcc 13.2.0

Ubuntu 22.04
	Kernel: 5.4.0-167-generic
	Compiler: gcc 11.4.0

To view detailed results, visit:
https://lab.dpdk.org/results/dashboard/patchsets/30305/

UNH-IOL DPDK Community Lab

To manage your email subscriptions, visit: 
https://lab.dpdk.org/results/dashboard/preferences/subscriptions/