From mboxrd@z Thu Jan  1 00:00:00 1970
Return-Path: <test-report-bounces@dpdk.org>
Received: from mails.dpdk.org (mails.dpdk.org [217.70.189.124])
	by inbox.dpdk.org (Postfix) with ESMTP id 37E64454F6
	for <public@inbox.dpdk.org>; Wed, 26 Jun 2024 06:45:14 +0200 (CEST)
Received: from mails.dpdk.org (localhost [127.0.0.1])
	by mails.dpdk.org (Postfix) with ESMTP id 2CFF5402A9;
	Wed, 26 Jun 2024 06:45:14 +0200 (CEST)
Received: from mail-yb1-f226.google.com (mail-yb1-f226.google.com
 [209.85.219.226])
 by mails.dpdk.org (Postfix) with ESMTP id B0CD440264
 for <test-report@dpdk.org>; Wed, 26 Jun 2024 06:45:12 +0200 (CEST)
Received: by mail-yb1-f226.google.com with SMTP id
 3f1490d57ef6-e02bf947545so5915102276.0
 for <test-report@dpdk.org>; Tue, 25 Jun 2024 21:45:12 -0700 (PDT)
DKIM-Signature: v=1; a=rsa-sha256; c=relaxed/relaxed;
 d=iol.unh.edu; s=unh-iol; t=1719377112; x=1719981912; darn=dpdk.org;
 h=references:in-reply-to:cc:to:from:subject:message-id:date:from:to
 :cc:subject:date:message-id:reply-to;
 bh=v+vc1t0q/OCvqi4fZONuNuVbenq7zNEd3nPy3NDVaWs=;
 b=enXUlxgIdxR4DkQjF1ZPeKhyhZhw+UUk5L4uuoL496Gb0RNIl3bZpozz2Y2/hWZuRn
 ypufG3YpiDLYCjydX9TK965JrUhY3hZ+NIUjUzwS7rfLQAAVhu4fWSXxMFNc1ZF55Q/x
 dBfjiEh96FyuyUu11WObT9Npx/PnW708IyzEQ=
X-Google-DKIM-Signature: v=1; a=rsa-sha256; c=relaxed/relaxed;
 d=1e100.net; s=20230601; t=1719377112; x=1719981912;
 h=references:in-reply-to:cc:to:from:subject:message-id:date
 :x-gm-message-state:from:to:cc:subject:date:message-id:reply-to;
 bh=v+vc1t0q/OCvqi4fZONuNuVbenq7zNEd3nPy3NDVaWs=;
 b=c/RCBadMS0NrhusRdXBzOiwCA0m+lerJpT9BB3+4Xi19y0xRvSe5lSWCRBlDSjXvQk
 aQtyOHoC34LrUwP4h+eYxZX5+zPm2FXUB2catdNw7DfCHdBZl0dP7v7H0si0eCRq05e5
 l/MKZsIM/Kaq/XThAiAD3Bzh3tHqxN9tkHPawEMLe0pkA6L5XqMlo7zaoF+pZCR2rprg
 F3+nq3ica8rv5EU/jZGayfJoWI2FJXyVux2FJUwIQybDVNnfUYcVtREbrSvGmJuU662h
 1UqrdBeN/f53ltL0vE9U0AGHMPAo2830rzsGx4UI5EFzJ5DQIdigNgBrbUmNkBqMny0N
 SYbA==
X-Gm-Message-State: AOJu0YyPhloLGHDNCkJjHpUuqfkmBWh85Zeqx76V9TEN3HhjySfi60BY
 xo7SXec6mS4jgrykxnak0o2YsiI6OGq5TJstvbrQpx6onhngThAByTyjg9n6Pw9gfOK4qhRoIzv
 0CigqU8Xv2Y//ZfWZKmdebk0a/GByi/MG79ZJET7y
X-Google-Smtp-Source: AGHT+IGuLVF+3onoG0LrEFAlDoAEIWdMz0wGK9y6yQ8O0Goz8iomzGu1rJgS2op7nZskXhQhtmersWN5DX/9
X-Received: by 2002:a25:6b41:0:b0:df4:d91d:74a7 with SMTP id
 3f1490d57ef6-e0304007dc0mr9421053276.45.1719377112121; 
 Tue, 25 Jun 2024 21:45:12 -0700 (PDT)
Received: from postal.iol.unh.edu (postal.iol.unh.edu. [132.177.123.84])
 by smtp-relay.gmail.com with ESMTPS id
 d75a77b69052e-444fd77393bsm834131cf.8.2024.06.25.21.45.12
 (version=TLS1_2 cipher=ECDHE-ECDSA-AES128-GCM-SHA256 bits=128/128);
 Tue, 25 Jun 2024 21:45:12 -0700 (PDT)
X-Relaying-Domain: iol.unh.edu
Date: Tue, 25 Jun 2024 21:45:12 -0700 (PDT)
Message-ID: <667b9cd8.c80a0220.870f2.5abbSMTPIN_ADDED_MISSING@mx.google.com>
Received: from [172.21.0.6] (unknown [172.18.0.240])
 by postal.iol.unh.edu (Postfix) with ESMTP id CA2786050A9C;
 Wed, 26 Jun 2024 00:45:11 -0400 (EDT)
Subject: |SUCCESS| pw141748 [PATCH] [v1,1/1] bbdev: add missing symbols in ve
From: dpdklab@iol.unh.edu
To: Test Report <test-report@dpdk.org>
Cc: dpdk-test-reports@iol.unh.edu
In-Reply-To: <20240626000451.1230464-2-nicolas.chautru@intel.com>
References: <20240626000451.1230464-2-nicolas.chautru@intel.com>
Content-Type: text/plain
X-BeenThere: test-report@dpdk.org
X-Mailman-Version: 2.1.29
Precedence: list
List-Id: automatic DPDK test reports <test-report.dpdk.org>
List-Unsubscribe: <https://mails.dpdk.org/options/test-report>,
 <mailto:test-report-request@dpdk.org?subject=unsubscribe>
List-Archive: <http://mails.dpdk.org/archives/test-report/>
List-Post: <mailto:test-report@dpdk.org>
List-Help: <mailto:test-report-request@dpdk.org?subject=help>
List-Subscribe: <https://mails.dpdk.org/listinfo/test-report>,
 <mailto:test-report-request@dpdk.org?subject=subscribe>
Errors-To: test-report-bounces@dpdk.org

Test-Label: iol-abi-testing
Test-Status: SUCCESS
http://dpdk.org/patch/141748

_Testing PASS_

Submitter: Nicolas Chautru <nicolas.chautru@intel.com>
Date: Wednesday, June 26 2024 00:04:51 
DPDK git baseline: Repo:dpdk
  Branch: master
  CommitID:e195680f6f1c109cd7812b1ef6f2a38cea70ea9b

141748 --> testing pass

Test environment and result as below:

+------------------+----------+
|   Environment    | abi_test |
+==================+==========+
| Fedora 38        | PASS     |
+------------------+----------+
| Debian Bullseye  | PASS     |
+------------------+----------+
| CentOS Stream 9  | PASS     |
+------------------+----------+
| CentOS Stream 8  | PASS     |
+------------------+----------+
| Debian 12        | PASS     |
+------------------+----------+
| Fedora 37        | PASS     |
+------------------+----------+
| Fedora 39        | PASS     |
+------------------+----------+
| Ubuntu 22.04     | PASS     |
+------------------+----------+
| RHEL8            | PASS     |
+------------------+----------+
| RHEL9            | PASS     |
+------------------+----------+
| Ubuntu 24.04     | PASS     |
+------------------+----------+
| Fedora 40        | PASS     |
+------------------+----------+
| openSUSE Leap 15 | PASS     |
+------------------+----------+


Fedora 38
	Kernel: Depends on container host
	Compiler: clang 16.0.6

Debian Bullseye
	Kernel: 5.4.0-167-generic
	Compiler: gcc 10.2.1-6

CentOS Stream 9
	Kernel: 5.4.0-167-generic
	Compiler: gcc 11.4.1 20230605

CentOS Stream 8
	Kernel: 5.4.0-167-generic
	Compiler: gcc 8.5.0 20210514

Debian 12
	Kernel: Container Host Kernel
	Compiler: gcc 12.2.0

Fedora 37
	Kernel: Depends on container host system
	Compiler: gcc 12.3.1

Fedora 39
	Kernel: Depends on container host
	Compiler: clang 17.0.6

Ubuntu 22.04
	Kernel: 5.4.0-167-generic
	Compiler: gcc 11.4.0

RHEL8
	Kernel: 5.4.0-167-generic
	Compiler: gcc 8.5.0 20210514 (Red Hat 8.5.0-20)

RHEL9
	Kernel: Depends on container host
	Compiler: gcc 11.4.1

Ubuntu 24.04
	Kernel: 5.4.0-167-generic
	Compiler: gcc 13.2.0

Fedora 40
	Kernel: Depends on container host
	Compiler: clang 18.1.6

openSUSE Leap 15
	Kernel: 5.4.0-167-generic
	Compiler: gcc 7.5.0

To view detailed results, visit:
https://lab.dpdk.org/results/dashboard/patchsets/30314/

UNH-IOL DPDK Community Lab

To manage your email subscriptions, visit: 
https://lab.dpdk.org/results/dashboard/preferences/subscriptions/