From mboxrd@z Thu Jan  1 00:00:00 1970
Return-Path: <test-report-bounces@dpdk.org>
Received: from mails.dpdk.org (mails.dpdk.org [217.70.189.124])
	by inbox.dpdk.org (Postfix) with ESMTP id B62E7454F6
	for <public@inbox.dpdk.org>; Wed, 26 Jun 2024 06:47:52 +0200 (CEST)
Received: from mails.dpdk.org (localhost [127.0.0.1])
	by mails.dpdk.org (Postfix) with ESMTP id B1D9C402A9;
	Wed, 26 Jun 2024 06:47:52 +0200 (CEST)
Received: from mail-pj1-f97.google.com (mail-pj1-f97.google.com
 [209.85.216.97]) by mails.dpdk.org (Postfix) with ESMTP id 004F840264
 for <test-report@dpdk.org>; Wed, 26 Jun 2024 06:47:50 +0200 (CEST)
Received: by mail-pj1-f97.google.com with SMTP id
 98e67ed59e1d1-2bfdae7997aso4830285a91.2
 for <test-report@dpdk.org>; Tue, 25 Jun 2024 21:47:50 -0700 (PDT)
DKIM-Signature: v=1; a=rsa-sha256; c=relaxed/relaxed;
 d=iol.unh.edu; s=unh-iol; t=1719377270; x=1719982070; darn=dpdk.org;
 h=references:in-reply-to:cc:to:from:subject:message-id:date:from:to
 :cc:subject:date:message-id:reply-to;
 bh=sLIzSABpZrcvuQJexqkObn00Umt8aonPnRGRAzXo9HM=;
 b=H5mbzAk+FOnLr96/Z1EVvnuRrtPYym0djcwk5YFrzZHb10RHDXaE+LXvkXj+GpvnZa
 MPeuQWBEtvbp5R6scVPQzN57PJKaYfaLMZgI21hQfUJI+bn6/BlAnJaTAMTBPGjodH6E
 cU92V2ZQN7qCdV5qu1MD32ulDqmrnv2C+I7Bs=
X-Google-DKIM-Signature: v=1; a=rsa-sha256; c=relaxed/relaxed;
 d=1e100.net; s=20230601; t=1719377270; x=1719982070;
 h=references:in-reply-to:cc:to:from:subject:message-id:date
 :x-gm-message-state:from:to:cc:subject:date:message-id:reply-to;
 bh=sLIzSABpZrcvuQJexqkObn00Umt8aonPnRGRAzXo9HM=;
 b=MBOpBlfwQpv/BjNHdYpmZ7/qWUwJRrG7nbLymIpB0PaQUTZl0aIGRguqsMd0NYWWcV
 eoXafB4v74DJj9NoRBpQ9TdvNw2O+NZzrRBwEQbhf1Z7P3kWSqxaZamA68P8qnmpaGqJ
 qck6DpVj3dFg/Km1azVPZqe/5qUGdlrFOeJ0WV0me5hnMs/zq8zoX4zH9Ag/+Ao4gjuZ
 kYk/fvlrPoKMQAztGjlZDNEXx027+8I9xHKj/lMvsJs5Q2F29N75soOwlm7cTVEBAbaT
 zcCTEbrbWv8vTTiQvxK4BtTSCLWFCXSxyaaXDv+HcZOAskLACJWQqQh+cem3y7vBrjl0
 uQDw==
X-Gm-Message-State: AOJu0Ywq/4a+fuiGO25kiG1aT8DJehZcdxp7XNLsctZD0ojxmb7IgKbW
 wbP81DXV4cjrUxhAJfGupvlxu7KRqvkP76AqcjXS8tG3zBPZ2mbCYTTlnbMLLFrwbTmAoxqMoUS
 nZ2zO5k/TROhje7K7IZWK6RI4aMWKPMh9OtsbB729
X-Google-Smtp-Source: AGHT+IHlAS3RSd/y9DxNTMiDaeRY6XFVlgHphGMM8XrTwSGTNCXW02cg3XIq2ZMWnmjn4Iu+PThY/sNKoTZj
X-Received: by 2002:a17:90b:1955:b0:2c4:e333:35e5 with SMTP id
 98e67ed59e1d1-2c861409db9mr8432735a91.36.1719377270060; 
 Tue, 25 Jun 2024 21:47:50 -0700 (PDT)
Received: from postal.iol.unh.edu (postal.iol.unh.edu. [132.177.123.84])
 by smtp-relay.gmail.com with ESMTPS id
 98e67ed59e1d1-2c8d81c83e9sm45819a91.17.2024.06.25.21.47.49
 (version=TLS1_2 cipher=ECDHE-ECDSA-AES128-GCM-SHA256 bits=128/128);
 Tue, 25 Jun 2024 21:47:50 -0700 (PDT)
X-Relaying-Domain: iol.unh.edu
Date: Tue, 25 Jun 2024 21:47:50 -0700 (PDT)
Message-ID: <667b9d76.170a0220.9d94e.325aSMTPIN_ADDED_MISSING@mx.google.com>
Received: from [172.21.0.6] (unknown [172.18.0.240])
 by postal.iol.unh.edu (Postfix) with ESMTP id 42B6B6050A9C;
 Wed, 26 Jun 2024 00:47:49 -0400 (EDT)
Subject: |SUCCESS| pw141597-141725 [PATCH] [v3,129/129] net/ice: add new devi
From: dpdklab@iol.unh.edu
To: Test Report <test-report@dpdk.org>
Cc: dpdk-test-reports@iol.unh.edu
In-Reply-To: <2a26426a34037f6286bae7dc6eb398023726f7f5.1719313664.git.anatoly.burakov@intel.com>
References: <2a26426a34037f6286bae7dc6eb398023726f7f5.1719313664.git.anatoly.burakov@intel.com>
Content-Type: text/plain
X-BeenThere: test-report@dpdk.org
X-Mailman-Version: 2.1.29
Precedence: list
List-Id: automatic DPDK test reports <test-report.dpdk.org>
List-Unsubscribe: <https://mails.dpdk.org/options/test-report>,
 <mailto:test-report-request@dpdk.org?subject=unsubscribe>
List-Archive: <http://mails.dpdk.org/archives/test-report/>
List-Post: <mailto:test-report@dpdk.org>
List-Help: <mailto:test-report-request@dpdk.org?subject=help>
List-Subscribe: <https://mails.dpdk.org/listinfo/test-report>,
 <mailto:test-report-request@dpdk.org?subject=subscribe>
Errors-To: test-report-bounces@dpdk.org

Test-Label: iol-unit-amd64-testing
Test-Status: SUCCESS
http://dpdk.org/patch/141725

_Testing PASS_

Submitter: Anatoly Burakov <anatoly.burakov@intel.com>
Date: Tuesday, June 25 2024 11:14:14 
DPDK git baseline: Repo:dpdk
  Branch: master
  CommitID:fbba6db3640f9f623c29c452e1a6b057073e81d2

141597-141725 --> testing pass

Test environment and result as below:

+------------------+----------------+
|   Environment    | dpdk_unit_test |
+==================+================+
| Debian Bullseye  | PASS           |
+------------------+----------------+
| CentOS Stream 8  | PASS           |
+------------------+----------------+
| Debian 12        | PASS           |
+------------------+----------------+
| CentOS Stream 9  | PASS           |
+------------------+----------------+
| Fedora 38        | PASS           |
+------------------+----------------+
| Fedora 37        | PASS           |
+------------------+----------------+
| Fedora 40        | PASS           |
+------------------+----------------+
| RHEL9            | PASS           |
+------------------+----------------+
| Fedora 39        | PASS           |
+------------------+----------------+
| RHEL8            | PASS           |
+------------------+----------------+
| openSUSE Leap 15 | PASS           |
+------------------+----------------+
| Ubuntu 20.04     | PASS           |
+------------------+----------------+
| Ubuntu 24.04     | PASS           |
+------------------+----------------+
| Ubuntu 22.04     | PASS           |
+------------------+----------------+


Debian Bullseye
	Kernel: 5.4.0-167-generic
	Compiler: gcc 10.2.1-6

CentOS Stream 8
	Kernel: 5.4.0-167-generic
	Compiler: gcc 8.5.0 20210514

Debian 12
	Kernel: Container Host Kernel
	Compiler: gcc 12.2.0

CentOS Stream 9
	Kernel: 5.4.0-167-generic
	Compiler: gcc 11.4.1 20230605

Fedora 38
	Kernel: Depends on container host
	Compiler: gcc 13.2.1

Fedora 37
	Kernel: Depends on container host system
	Compiler: gcc 12.3.1

Fedora 40
	Kernel: Depends on container host
	Compiler: clang 18.1.6

RHEL9
	Kernel: Depends on container host
	Compiler: gcc 11.4.1

Fedora 39
	Kernel: Depends on container host
	Compiler: gcc 13.2.1

RHEL8
	Kernel: 5.4.0-167-generic
	Compiler: gcc 8.5.0 20210514 (Red Hat 8.5.0-20)

openSUSE Leap 15
	Kernel: 5.4.0-167-generic
	Compiler: gcc 7.5.0

Ubuntu 20.04
	Kernel: 5.4.0-167-generic
	Compiler: gcc 9.4.0-1ubuntu1~20.04.1

Ubuntu 24.04
	Kernel: 5.4.0-167-generic
	Compiler: gcc 13.2.0

Ubuntu 22.04
	Kernel: 5.4.0-167-generic
	Compiler: gcc 11.4.0

To view detailed results, visit:
https://lab.dpdk.org/results/dashboard/patchsets/30305/

UNH-IOL DPDK Community Lab

To manage your email subscriptions, visit: 
https://lab.dpdk.org/results/dashboard/preferences/subscriptions/