From mboxrd@z Thu Jan  1 00:00:00 1970
Return-Path: <test-report-bounces@dpdk.org>
Received: from mails.dpdk.org (mails.dpdk.org [217.70.189.124])
	by inbox.dpdk.org (Postfix) with ESMTP id E18AF454F6
	for <public@inbox.dpdk.org>; Wed, 26 Jun 2024 06:48:32 +0200 (CEST)
Received: from mails.dpdk.org (localhost [127.0.0.1])
	by mails.dpdk.org (Postfix) with ESMTP id DD3A5402A9;
	Wed, 26 Jun 2024 06:48:32 +0200 (CEST)
Received: from mail-yw1-f227.google.com (mail-yw1-f227.google.com
 [209.85.128.227])
 by mails.dpdk.org (Postfix) with ESMTP id 0859740264
 for <test-report@dpdk.org>; Wed, 26 Jun 2024 06:48:31 +0200 (CEST)
Received: by mail-yw1-f227.google.com with SMTP id
 00721157ae682-646645f1387so19604327b3.1
 for <test-report@dpdk.org>; Tue, 25 Jun 2024 21:48:30 -0700 (PDT)
DKIM-Signature: v=1; a=rsa-sha256; c=relaxed/relaxed;
 d=iol.unh.edu; s=unh-iol; t=1719377310; x=1719982110; darn=dpdk.org;
 h=references:in-reply-to:cc:to:from:subject:message-id:date:from:to
 :cc:subject:date:message-id:reply-to;
 bh=v+vc1t0q/OCvqi4fZONuNuVbenq7zNEd3nPy3NDVaWs=;
 b=GtowrT789GL5G42pJJO8sYduO4nkUWgpcKmb/VbuYvtpBlYCPb+lYMQNAosm2THNQE
 +vQAtGkhImLZFgjqg/AxP/dMJXz94cZjwTu5q7ytlZp3408vQsDk4rLYk3inFH4Jjcot
 fHhhaEFcR6OQEp+ESmjMXyPTVgWaaQqMBPVf8=
X-Google-DKIM-Signature: v=1; a=rsa-sha256; c=relaxed/relaxed;
 d=1e100.net; s=20230601; t=1719377310; x=1719982110;
 h=references:in-reply-to:cc:to:from:subject:message-id:date
 :x-gm-message-state:from:to:cc:subject:date:message-id:reply-to;
 bh=v+vc1t0q/OCvqi4fZONuNuVbenq7zNEd3nPy3NDVaWs=;
 b=bh+m7lsVagN/dgwOYekO/+PG7Mq7GXr0SNlQNeCs7Sb67AmIRnd63D/xHZN5i+tG5s
 5wmcVK2I0nRbfR5Mlnj6hFqVA7nFUONKmnEG10ZHoUPsxgjCdoXUIKco9OJLm2ViA9Me
 lBWpLSZYFmRtXy9Wlnf10NRHBPOUj2wev3MG2GnYqoX6W+CLB62RUMzy4qELOenX6wd8
 I0LpxGnzR7zgJGqNV3Olqgyw02WaaF/NS3D+S69ClEJBNJkqo53VrK3EMwdqB0gYDStF
 RdIsr7+h6Gfnx2Gj0sFhOGR9dGgiNO4AYg6muHTe6H6borH8FpPc9SSGNWNzLy0xbNKr
 aISA==
X-Gm-Message-State: AOJu0YyqjwK04K4FKFyUTkYHjI4sf52wX1iDryhuK5raew9uwjHFDOfI
 uBWBOQIRZaqaW0YOu6m+bTdRssM62A+QpRwWmVkpn6txBdP4U5A/56GqFZwYc0Edua9Y0+CHSfV
 wIrWv59QVY4DHpM7MrmwRYIqWm/Orm1F5vwy6wvQ9
X-Google-Smtp-Source: AGHT+IEbIdnYrjL6JiINpT2fgl1pSFIZxFocKfSWvGQ8lS2xv9nFtD+O2h71mAjsKLs53Nbi9SCmH9T7k7tO
X-Received: by 2002:a0d:eb4f:0:b0:62f:664d:b6f6 with SMTP id
 00721157ae682-643a9fcf891mr85296347b3.20.1719377310327; 
 Tue, 25 Jun 2024 21:48:30 -0700 (PDT)
Received: from postal.iol.unh.edu (postal.iol.unh.edu. [132.177.123.84])
 by smtp-relay.gmail.com with ESMTPS id
 00721157ae682-63f124ae832sm4180747b3.33.2024.06.25.21.48.30
 (version=TLS1_2 cipher=ECDHE-ECDSA-AES128-GCM-SHA256 bits=128/128);
 Tue, 25 Jun 2024 21:48:30 -0700 (PDT)
X-Relaying-Domain: iol.unh.edu
Date: Tue, 25 Jun 2024 21:48:30 -0700 (PDT)
Message-ID: <667b9d9e.050a0220.d8d8f.e55cSMTPIN_ADDED_MISSING@mx.google.com>
Received: from [172.21.0.6] (unknown [172.18.0.240])
 by postal.iol.unh.edu (Postfix) with ESMTP id F07FE6050A9C;
 Wed, 26 Jun 2024 00:48:29 -0400 (EDT)
Subject: |SUCCESS| pw141748 [PATCH] [v1,1/1] bbdev: add missing symbols in ve
From: dpdklab@iol.unh.edu
To: Test Report <test-report@dpdk.org>
Cc: dpdk-test-reports@iol.unh.edu
In-Reply-To: <20240626000451.1230464-2-nicolas.chautru@intel.com>
References: <20240626000451.1230464-2-nicolas.chautru@intel.com>
Content-Type: text/plain
X-BeenThere: test-report@dpdk.org
X-Mailman-Version: 2.1.29
Precedence: list
List-Id: automatic DPDK test reports <test-report.dpdk.org>
List-Unsubscribe: <https://mails.dpdk.org/options/test-report>,
 <mailto:test-report-request@dpdk.org?subject=unsubscribe>
List-Archive: <http://mails.dpdk.org/archives/test-report/>
List-Post: <mailto:test-report@dpdk.org>
List-Help: <mailto:test-report-request@dpdk.org?subject=help>
List-Subscribe: <https://mails.dpdk.org/listinfo/test-report>,
 <mailto:test-report-request@dpdk.org?subject=subscribe>
Errors-To: test-report-bounces@dpdk.org

Test-Label: iol-abi-testing
Test-Status: SUCCESS
http://dpdk.org/patch/141748

_Testing PASS_

Submitter: Nicolas Chautru <nicolas.chautru@intel.com>
Date: Wednesday, June 26 2024 00:04:51 
DPDK git baseline: Repo:dpdk
  Branch: master
  CommitID:e195680f6f1c109cd7812b1ef6f2a38cea70ea9b

141748 --> testing pass

Test environment and result as below:

+------------------+----------+
|   Environment    | abi_test |
+==================+==========+
| Fedora 38        | PASS     |
+------------------+----------+
| Debian Bullseye  | PASS     |
+------------------+----------+
| CentOS Stream 9  | PASS     |
+------------------+----------+
| CentOS Stream 8  | PASS     |
+------------------+----------+
| Debian 12        | PASS     |
+------------------+----------+
| Fedora 37        | PASS     |
+------------------+----------+
| Fedora 39        | PASS     |
+------------------+----------+
| Ubuntu 22.04     | PASS     |
+------------------+----------+
| RHEL8            | PASS     |
+------------------+----------+
| RHEL9            | PASS     |
+------------------+----------+
| Ubuntu 24.04     | PASS     |
+------------------+----------+
| Fedora 40        | PASS     |
+------------------+----------+
| openSUSE Leap 15 | PASS     |
+------------------+----------+


Fedora 38
	Kernel: Depends on container host
	Compiler: clang 16.0.6

Debian Bullseye
	Kernel: 5.4.0-167-generic
	Compiler: gcc 10.2.1-6

CentOS Stream 9
	Kernel: 5.4.0-167-generic
	Compiler: gcc 11.4.1 20230605

CentOS Stream 8
	Kernel: 5.4.0-167-generic
	Compiler: gcc 8.5.0 20210514

Debian 12
	Kernel: Container Host Kernel
	Compiler: gcc 12.2.0

Fedora 37
	Kernel: Depends on container host system
	Compiler: gcc 12.3.1

Fedora 39
	Kernel: Depends on container host
	Compiler: clang 17.0.6

Ubuntu 22.04
	Kernel: 5.4.0-167-generic
	Compiler: gcc 11.4.0

RHEL8
	Kernel: 5.4.0-167-generic
	Compiler: gcc 8.5.0 20210514 (Red Hat 8.5.0-20)

RHEL9
	Kernel: Depends on container host
	Compiler: gcc 11.4.1

Ubuntu 24.04
	Kernel: 5.4.0-167-generic
	Compiler: gcc 13.2.0

Fedora 40
	Kernel: Depends on container host
	Compiler: clang 18.1.6

openSUSE Leap 15
	Kernel: 5.4.0-167-generic
	Compiler: gcc 7.5.0

To view detailed results, visit:
https://lab.dpdk.org/results/dashboard/patchsets/30314/

UNH-IOL DPDK Community Lab

To manage your email subscriptions, visit: 
https://lab.dpdk.org/results/dashboard/preferences/subscriptions/